From mboxrd@z Thu Jan 1 00:00:00 1970 Return-Path: Received: from mails.dpdk.org (mails.dpdk.org [217.70.189.124]) by inbox.dpdk.org (Postfix) with ESMTP id 9D0C148A02 for ; Mon, 27 Oct 2025 14:11:04 +0100 (CET) Received: from mails.dpdk.org (localhost [127.0.0.1]) by mails.dpdk.org (Postfix) with ESMTP id 901314026F; Mon, 27 Oct 2025 14:11:04 +0100 (CET) Received: from mail-vk1-f225.google.com (mail-vk1-f225.google.com [209.85.221.225]) by mails.dpdk.org (Postfix) with ESMTP id 3C77B4026F for ; Mon, 27 Oct 2025 14:11:03 +0100 (CET) Received: by mail-vk1-f225.google.com with SMTP id 71dfb90a1353d-556694876eeso2983402e0c.3 for ; Mon, 27 Oct 2025 06:11:03 -0700 (PDT) DKIM-Signature: v=1; a=rsa-sha256; c=relaxed/relaxed; d=iol.unh.edu; s=unh-iol; t=1761570662; x=1762175462; darn=dpdk.org; h=references:in-reply-to:cc:to:from:subject:message-id:date:from:to :cc:subject:date:message-id:reply-to; bh=dAzOQLP7b4HWCN5/tojg8t2C7B8P5J7c0bjmIxnYkS4=; b=B4bDIPTjKPvaqO6vYN5lR1KsIyUZdALWpFEEXln53SSrWAxFF1aofv1tjaH9Seu0SS RYWOrDKn73y1U8vh75jlyWtuXZbgI6riwny8DaygJKU6P+I/ZRH+xtskG2/Ipce3DB4A q2JMK5/7QbjFBvjsBerJzERPiRjo79TNA2tG0= X-Google-DKIM-Signature: v=1; a=rsa-sha256; c=relaxed/relaxed; d=1e100.net; s=20230601; t=1761570662; x=1762175462; h=references:in-reply-to:cc:to:from:subject:message-id:date :x-gm-message-state:from:to:cc:subject:date:message-id:reply-to; bh=dAzOQLP7b4HWCN5/tojg8t2C7B8P5J7c0bjmIxnYkS4=; b=t5NfDFyuJAkKmSev6srHZkXIRMj1oVYu1J6yldU46Pd49dNJ340k542VmmZbSqaFfS aNyfPfVXmKh0S5magvdi4Dqd5RpZfB7DEXSAzZBdKrSg0/em7fvSp+QlPC4RxMPj/1// V3UltOhEkhwc/jm7MqiU+S2FhaKFjdizXQTg/Mmomh7QiLRCoSderyY+/EAAeAXK7W/t lpATiU14t42Z0lwYfy8hT2nYB5fv5KCdZ66dLQ1JXMDMre6TWlrRXema0KF9y1RT761m 9dsFe0b3SPLGOM0XglokzIbLQFiY7n6z63yjqTRGUFT0PYWoxmJeutyKuczsqxAEVKjT Rdkg== X-Gm-Message-State: AOJu0YzbDvPPS/wxDerslk3BkHchf0glxd+Z0bWrb1UHXQe7mwqdY6Zf gSEbz95xy9UAVBzhIK+g+93WHmgRAMtAE3Xo2zH61vJKkURaTUoc2tMCyMBw6p4d5ZlsjEVAlZI 7svtlZpci/BewO00Z5GcDEQrZrzqHSYWxNNfppahVZWip X-Gm-Gg: ASbGncvTIffztkxj5Ta6poHnYd82QP+/1d7AIQ/2HmCOw5G9H0VXP34eFbIS/IO596U fWlztj5k5e13GyoNwDhxPxW6OvebrvZnTPjaq4wCNbTk9jgsw8gpA1dvR+26ULW6uyso+9qFoJ4 ujT8pWsNrC23czO7IXmdm0HNGt5/56Xjj4DNiDGBx2GUmEr/4sd6k9d9vZqWV8BQYbPdBkjG/g3 7icpInbAa3B7pGKvE7e/czgcgdfFkXKvyLknnqXuqAFwQcDE921JPeWgn6gZD8dc3D2ojj8vqde K3ZTAJXJJQqBm1b1oOhQM7l6FP2RSdLpfw9PG3NTXVCMXyP7jjG/Y5TJ7QXG5kXJCtBwQbiVGPQ uDjs5D1wc6H+SBsfp8ShaXldeOCJkVfc= X-Google-Smtp-Source: AGHT+IF+npd5N+jnpRJWgJwPLqbhWZxSO+1gbvKe/QkkGEza0OOhQqIeFlNvSR+4trxI9XME6p9hvOrG2fjd X-Received: by 2002:a05:6122:319a:b0:539:44bc:78f1 with SMTP id 71dfb90a1353d-5564ee22d18mr11272798e0c.5.1761570662558; Mon, 27 Oct 2025 06:11:02 -0700 (PDT) Received: from postal.iol.unh.edu (postal.iol.unh.edu. [132.177.123.84]) by smtp-relay.gmail.com with ESMTPS id 71dfb90a1353d-557ddab68bcsm938218e0c.1.2025.10.27.06.11.02 (version=TLS1_2 cipher=ECDHE-ECDSA-AES128-GCM-SHA256 bits=128/128); Mon, 27 Oct 2025 06:11:02 -0700 (PDT) X-Relaying-Domain: iol.unh.edu Date: Mon, 27 Oct 2025 06:11:02 -0700 (PDT) Message-ID: <68ff6f66.050a0220.26990b.aa6eSMTPIN_ADDED_MISSING@mx.google.com> Received: from [172.21.0.2] (unknown [172.18.0.240]) by postal.iol.unh.edu (Postfix) with ESMTP id 266806050A61; Mon, 27 Oct 2025 09:11:02 -0400 (EDT) Subject: |SUCCESS| pw158132-158134 [PATCH] [v1,3/3] doc: update TxPP document From: dpdklab@iol.unh.edu To: Test Report Cc: dpdk-test-reports@iol.unh.edu, Bruce Richardson In-Reply-To: <20251027182801.191295-4-soumyadeep.hore@intel.com> References: <20251027182801.191295-4-soumyadeep.hore@intel.com> Content-Type: text/plain X-BeenThere: test-report@dpdk.org X-Mailman-Version: 2.1.29 Precedence: list List-Id: automatic DPDK test reports List-Unsubscribe: , List-Archive: List-Post: List-Help: List-Subscribe: , Errors-To: test-report-bounces@dpdk.org Test-Label: iol-unit-arm64-testing Test-Status: SUCCESS http://dpdk.org/patch/158134 _Testing PASS_ Submitter: Soumyadeep Hore Date: Monday, October 27 2025 18:28:01 DPDK git baseline: Repo:dpdk-next-net-intel Branch: master CommitID:6b997d6b9ffdbb4f8ecd14d1f217da69cdc783af 158132-158134 --> testing pass Upstream job id: Generic-Unit-Test-DPDK#385647 Test environment and result as below: +------------------------------+----------------+---------------------------+--------------+------------------------------+ | Environment | dpdk_unit_test | cryptodev_sw_zuc_autotest | lpm_autotest | cryptodev_sw_snow3g_autotest | +==============================+================+===========================+==============+==============================+ | Debian GNU/Linux 12 | PASS | SKIPPED | SKIPPED | SKIPPED | +------------------------------+----------------+---------------------------+--------------+------------------------------+ | CentOS Stream 9 | PASS | SKIPPED | SKIPPED | SKIPPED | +------------------------------+----------------+---------------------------+--------------+------------------------------+ | Fedora Linux 41 | PASS | SKIPPED | SKIPPED | SKIPPED | +------------------------------+----------------+---------------------------+--------------+------------------------------+ | Ubuntu 22.04 | PASS | SKIPPED | SKIPPED | SKIPPED | +------------------------------+----------------+---------------------------+--------------+------------------------------+ | Red Hat Enterprise Linux 9.5 | PASS | SKIPPED | SKIPPED | SKIPPED | +------------------------------+----------------+---------------------------+--------------+------------------------------+ | Ubuntu 20.04 | PASS | SKIPPED | PASS | SKIPPED | +------------------------------+----------------+---------------------------+--------------+------------------------------+ | Fedora Linux 40 | PASS | SKIPPED | SKIPPED | SKIPPED | +------------------------------+----------------+---------------------------+--------------+------------------------------+ | Fedora Linux 42 | PASS | SKIPPED | SKIPPED | SKIPPED | +------------------------------+----------------+---------------------------+--------------+------------------------------+ | CentOS Stream 10 | PASS | SKIPPED | SKIPPED | SKIPPED | +------------------------------+----------------+---------------------------+--------------+------------------------------+ | Ubuntu 24.04 | PASS | SKIPPED | SKIPPED | SKIPPED | +------------------------------+----------------+---------------------------+--------------+------------------------------+ | Debian 12 (arm) | SKIPPED | PASS | SKIPPED | PASS | +------------------------------+----------------+---------------------------+--------------+------------------------------+ Debian GNU/Linux 12 Kernel: 5.4 Compiler: gcc gcc (Debian 12.2.0-14+deb12u1) 12.2.0 CentOS Stream 9 Kernel: 5.4 Compiler: gcc gcc (GCC) 11.5.0 20240719 (Red Hat 11.5.0-11) Fedora Linux 41 Kernel: 5.4 Compiler: gcc gcc (GCC) 14.3.1 20250523 (Red Hat 14.3.1-1) Ubuntu 22.04 Kernel: 5.4 Compiler: gcc gcc (Ubuntu 11.4.0-1ubuntu1~22.04) 11.4.0 Red Hat Enterprise Linux 9.5 Kernel: 5.4 Compiler: gcc gcc (GCC) 11.5.0 20240719 (Red Hat 11.5.0-2) Ubuntu 20.04 Kernel: 5.4 Compiler: gcc gcc (Ubuntu 9.4.0-1ubuntu1~20.04.2) 9.4.0 Fedora Linux 40 Kernel: 5.4 Compiler: gcc gcc (GCC) 14.2.1 20240912 (Red Hat 14.2.1-3) Fedora Linux 42 Kernel: 5.4 Compiler: clang gcc (GCC) 15.2.1 20250808 (Red Hat 15.2.1-1) CentOS Stream 10 Kernel: 5.4 Compiler: gcc gcc (GCC) 14.2.1 20250110 (Red Hat 14.2.1-8) Ubuntu 24.04 Kernel: 5.4 Compiler: gcc gcc (Ubuntu 13.3.0-6ubuntu2~24.04) 13.3.0 Debian 12 (arm) Kernel: Depends on container host Compiler: gcc (Debian 12.2.0-14) 12.2.0 To view detailed results, visit: https://lab.dpdk.org/results/dashboard/patchsets/34388/ UNH-IOL DPDK Community Lab To manage your email subscriptions, visit: https://lab.dpdk.org/results/dashboard/preferences/subscriptions/