From mboxrd@z Thu Jan 1 00:00:00 1970 Return-Path: Received: from mails.dpdk.org (mails.dpdk.org [217.70.189.124]) by inbox.dpdk.org (Postfix) with ESMTP id 9A9E6489E7 for ; Mon, 27 Oct 2025 14:33:44 +0100 (CET) Received: from mails.dpdk.org (localhost [127.0.0.1]) by mails.dpdk.org (Postfix) with ESMTP id 70FBB4026F; Mon, 27 Oct 2025 14:33:44 +0100 (CET) Received: from mail-io1-f98.google.com (mail-io1-f98.google.com [209.85.166.98]) by mails.dpdk.org (Postfix) with ESMTP id 2D2674026F for ; Mon, 27 Oct 2025 14:33:43 +0100 (CET) Received: by mail-io1-f98.google.com with SMTP id ca18e2360f4ac-92c781fd73aso471755239f.1 for ; Mon, 27 Oct 2025 06:33:43 -0700 (PDT) DKIM-Signature: v=1; a=rsa-sha256; c=relaxed/relaxed; d=iol.unh.edu; s=unh-iol; t=1761572022; x=1762176822; darn=dpdk.org; h=references:in-reply-to:cc:to:from:subject:message-id:date:from:to :cc:subject:date:message-id:reply-to; bh=jTDxiIT9xIXnn5fLy5nh5dH2e+R+g+JlymyGB3WZj3w=; b=hjLTPfzWLd6Rv8O6PUk0VFk2BDKZABK0fPMwy0CVIiGC5i849kwGup3FIpoNXj2Vsd 6Z5SkFvK+rKEAoLbCnXFs2/UnzBJ4zjNV2Cswr9i2bG+uO4ESZnd8vdNtgc/UMaprk/6 mfajKmy+Y8Iq2sAEU9Q0wlFI+PAnPja6tSnrk= X-Google-DKIM-Signature: v=1; a=rsa-sha256; c=relaxed/relaxed; d=1e100.net; s=20230601; t=1761572022; x=1762176822; h=references:in-reply-to:cc:to:from:subject:message-id:date :x-gm-message-state:from:to:cc:subject:date:message-id:reply-to; bh=jTDxiIT9xIXnn5fLy5nh5dH2e+R+g+JlymyGB3WZj3w=; b=p2eueBW0j9Claud0PjCLenybO43ZbKvCjiUdDtUVF6Qs47AjzURfX+CqSzs7ZrgOzq D3z4NBQA2L8yFIqzEdNGYTKP9HWlTLMeNfmxvPauvtgB5e4bzJyqyorLviax1NbyBj0L mw87Mtl2tRsGx5BqDrWrHjYuczS5OQ5G2fRcJ9Y5XICshV9uRK2Gw7FvCbxq90a/75UI o+l3b0SFzjG/ykosJfnDpBFN+UzdvHGYMPWoSajJO7J326EeHDuv7QQsBe75IcU2I82P opkip3l+PBm0xdi9L86GIqbQAtJLaUl7HnUQDtb0IE/48ULLZvYHu7YpxGqGIjbjfwTe fXAg== X-Gm-Message-State: AOJu0YxLr8BEtFOEv0R7S7cAF/b9YskSR2/Ywtb6+YfW6IrVRCSf4Jhg a1VZNlUCtgU6yjkMItb8UfPEJ1unQOIq71IoUWgvmREzSWbcjaDztX+/SsoHG7gpZVNkwD1Jtl2 3Etzp97bIHq7NMEoWDlJdORTfp8ThSo+GPl+FUwLppouZi15RiJuAs7KOkEb8 X-Gm-Gg: ASbGnct50K3r/oTQsI2aZnpnIi11oAbPTfQ926hmc1kaYrgxUveckFKCgMmH70Nx+pu Q+iF0XuxCVrUonRKcVmpoXbi5c4xebtmiPXnrmR6AV4mgX5nA7YgDF3cy1afqfsZxDmkCGK7qZP c55Mnu+3rlmptzjf20S0dG0jocR1voiivNEfeQzbnaPMJTLthpDwnBGy9XqeGjCPnl5cOEqU0WB IyDlYMhJe8RBGsMzoCX7lOSmprajGDmrHRPuOZHVyFzUTK9PQlM0HThsVL35t5Nv2rGS/om0q5h /3K7ctIvN7DAyP05a2uk70tg9c7Zn8gMfWvR9P2xBo+mAWG9erTI/PwfwjHzPxjaAVeRGjR8pK5 jn3AjwQFL X-Google-Smtp-Source: AGHT+IHOFyzIPf2AwL4PPbgVKnTa1cuhWEqChQ6tXlyTf6a1TURTm5MTjcYi2Y+wGPNrEVqPdEGkdIYRMVOu X-Received: by 2002:a05:6602:148d:b0:924:2696:a53 with SMTP id ca18e2360f4ac-945b7ffb629mr24875639f.3.1761572022308; Mon, 27 Oct 2025 06:33:42 -0700 (PDT) Received: from postal.iol.unh.edu (postal.iol.unh.edu. [2606:4100:3880:1234::84]) by smtp-relay.gmail.com with ESMTPS id 8926c6da1cb9f-5aea9e35bcfsm617043173.34.2025.10.27.06.33.42 (version=TLS1_2 cipher=ECDHE-ECDSA-AES128-GCM-SHA256 bits=128/128); Mon, 27 Oct 2025 06:33:42 -0700 (PDT) X-Relaying-Domain: iol.unh.edu Date: Mon, 27 Oct 2025 06:33:42 -0700 (PDT) Message-ID: <68ff74b6.050a0220.183575.bb06SMTPIN_ADDED_MISSING@mx.google.com> Received: from [172.21.0.2] (unknown [172.18.0.240]) by postal.iol.unh.edu (Postfix) with ESMTP id D11396050A61; Mon, 27 Oct 2025 09:33:41 -0400 (EDT) Subject: |SUCCESS| pw158132-158134 [PATCH] [v1,3/3] doc: update TxPP document From: dpdklab@iol.unh.edu To: Test Report Cc: dpdk-test-reports@iol.unh.edu, Bruce Richardson In-Reply-To: <20251027182801.191295-4-soumyadeep.hore@intel.com> References: <20251027182801.191295-4-soumyadeep.hore@intel.com> Content-Type: text/plain X-BeenThere: test-report@dpdk.org X-Mailman-Version: 2.1.29 Precedence: list List-Id: automatic DPDK test reports List-Unsubscribe: , List-Archive: List-Post: List-Help: List-Subscribe: , Errors-To: test-report-bounces@dpdk.org Test-Label: iol-compile-arm64-testing Test-Status: SUCCESS http://dpdk.org/patch/158134 _Testing PASS_ Submitter: Soumyadeep Hore Date: Monday, October 27 2025 18:28:01 DPDK git baseline: Repo:dpdk-next-net-intel Branch: master CommitID:6b997d6b9ffdbb4f8ecd14d1f217da69cdc783af 158132-158134 --> testing pass Upstream job id: Generic-DPDK-Compile-Meson#438118 Test environment and result as below: +------------------------------+--------------------+ | Environment | dpdk_meson_compile | +==============================+====================+ | Ubuntu 20.04 | PASS | +------------------------------+--------------------+ | Debian GNU/Linux 12 | PASS | +------------------------------+--------------------+ | Fedora Linux 42 | PASS | +------------------------------+--------------------+ | Ubuntu 22.04 | PASS | +------------------------------+--------------------+ | Ubuntu 24.04 | PASS | +------------------------------+--------------------+ | CentOS Stream 9 | PASS | +------------------------------+--------------------+ | CentOS Stream 10 | PASS | +------------------------------+--------------------+ | Red Hat Enterprise Linux 9.5 | PASS | +------------------------------+--------------------+ Ubuntu 20.04 Kernel: 5.4 Compiler: gcc gcc (Ubuntu 9.4.0-1ubuntu1~20.04.2) 9.4.0 Debian GNU/Linux 12 Kernel: 5.4 Compiler: gcc gcc (Debian 12.2.0-14+deb12u1) 12.2.0 Fedora Linux 42 Kernel: 5.4 Compiler: gcc gcc (GCC) 15.2.1 20250808 (Red Hat 15.2.1-1) Ubuntu 22.04 Kernel: 5.4 Compiler: gcc gcc (Ubuntu 11.4.0-1ubuntu1~22.04) 11.4.0 Ubuntu 24.04 Kernel: 5.4 Compiler: gcc gcc (Ubuntu 13.3.0-6ubuntu2~24.04) 13.3.0 CentOS Stream 9 Kernel: 5.4 Compiler: gcc gcc (GCC) 11.5.0 20240719 (Red Hat 11.5.0-11) CentOS Stream 10 Kernel: 5.4 Compiler: gcc gcc (GCC) 14.2.1 20250110 (Red Hat 14.2.1-8) Red Hat Enterprise Linux 9.5 Kernel: 5.4 Compiler: gcc gcc (GCC) 11.5.0 20240719 (Red Hat 11.5.0-2) To view detailed results, visit: https://lab.dpdk.org/results/dashboard/patchsets/34388/ UNH-IOL DPDK Community Lab To manage your email subscriptions, visit: https://lab.dpdk.org/results/dashboard/preferences/subscriptions/