From mboxrd@z Thu Jan 1 00:00:00 1970 Return-Path: Received: from mails.dpdk.org (mails.dpdk.org [217.70.189.124]) by inbox.dpdk.org (Postfix) with ESMTP id CF731489EF for ; Mon, 27 Oct 2025 18:20:56 +0100 (CET) Received: from mails.dpdk.org (localhost [127.0.0.1]) by mails.dpdk.org (Postfix) with ESMTP id A3BB94021E; Mon, 27 Oct 2025 18:20:56 +0100 (CET) Received: from mail-pg1-f225.google.com (mail-pg1-f225.google.com [209.85.215.225]) by mails.dpdk.org (Postfix) with ESMTP id 8C6684021E for ; Mon, 27 Oct 2025 18:20:55 +0100 (CET) Received: by mail-pg1-f225.google.com with SMTP id 41be03b00d2f7-b6cf1a9527fso2530653a12.1 for ; Mon, 27 Oct 2025 10:20:55 -0700 (PDT) DKIM-Signature: v=1; a=rsa-sha256; c=relaxed/relaxed; d=iol.unh.edu; s=unh-iol; t=1761585654; x=1762190454; darn=dpdk.org; h=references:in-reply-to:cc:to:from:subject:message-id:date:from:to :cc:subject:date:message-id:reply-to; bh=qHPyy2BQbbT54vSZWlTvE9G681sHWKqPK1AtxFoxjUc=; b=Eibx9KrxWftry/bJbcfHem/O9fu1jTpWl5KbFvIYRWgpgDNq/VZ/0WMb66MCfSP6lX S7gaZrsH6ej+DytvPMzy++zi/ni44C5N2wKSc7uLKtjIAYe0HPwMbWKwOF2F8E6+5n0h LSNNJCGcwN4ralkXMkicCBJ4LJx+13Bbd9PE4= X-Google-DKIM-Signature: v=1; a=rsa-sha256; c=relaxed/relaxed; d=1e100.net; s=20230601; t=1761585654; x=1762190454; h=references:in-reply-to:cc:to:from:subject:message-id:date :x-gm-message-state:from:to:cc:subject:date:message-id:reply-to; bh=qHPyy2BQbbT54vSZWlTvE9G681sHWKqPK1AtxFoxjUc=; b=IZ6ENpk6m8m287OjwmRDJT3P3wPVIsNWzSgxSam9RqYCavBXQ/LS5gRj3xgSsi+523 d2M1cDUKzCy8b5Q8sNnmi9b5gKX6Z8HiYJ2yEQX1/+qN7bU0WqcZ/zV1W4i0veeMbf9b 3KmK0zLfNVsmAIJ6mnbleIXcDiZ4OlQIqori4Lqc3+LdhxHFCncUEcntUJ5I5lgcQFMQ YIloeUkfCjWzaCy1EODGEKRhWUnJ0wO8cyJHN1eU/6YkX+8bFgd2ybYbXH6/uo5x9ydM mj99swTRq5i0W3sYW9gVnsVaHUZzksec/rO2wNs6jJcFMKt7Kmva3Urbo2cX7eNmg/kp 2vlA== X-Gm-Message-State: AOJu0YzsQkBYMH4FjuhgwAyTWWsO9pWIEYXA/SGIRoy5W9ye1l77+m19 pxnf8eSCK86j+2UkK9helUvrslV2/s6cnIZdiWkQzIYXVeguJw1zBV1yry1aMOJ8LQd+QYFOPgn 6iVNRu2D0p6a5geyMFqHkZEaNm8ioBWvnGxQ5oObA2ndJuhUbedX20um85gn5 X-Gm-Gg: ASbGncsdrGKgfyGJmrieUQ5d8Ek+gsXkRCjiIAnec/dkZTG8w7Hl2CKbE8Jun6aZdue hY6RxY1PcyLPrIQpi0Y1a/nWl6krMDxEN71oeAUeNIpdVybJ4LngdtAauW+wNh5mFUReG/S0njj sKYrD4M8hNNNOS58+t+kmNKikXJE6YJYKVTzub1/4p3pl0LzyhvCNB1ZVXPIvpgNeLrvmFH4cGB Qq/BKn9LsS7babfLeHoa3Sn/rgKjIOFJo5oh71NJMCRgh8b4e/2dubloFSLZQi5MkHbpnWxnAwQ s9rYumh0lnul7b0YA1IZOkoboUX9/fD6mTGsInmR+Aif/wE8id0eveVJuo4ZQ5NPXRRsO+YMt4V 5ZLI9QXQO X-Google-Smtp-Source: AGHT+IENLnPkkoPKPgdEbnZPUGdWc11RsSXV4dJeaFFkBMVvK1pvUfve0d+HNSOhpzEycrCHEytsgRW47xUN X-Received: by 2002:a17:903:2f06:b0:290:ad7a:bb50 with SMTP id d9443c01a7336-294cc77aeeamr1698545ad.27.1761585654485; Mon, 27 Oct 2025 10:20:54 -0700 (PDT) Received: from postal.iol.unh.edu (postal.iol.unh.edu. [2606:4100:3880:1234::84]) by smtp-relay.gmail.com with ESMTPS id d9443c01a7336-29498e6e7b0sm8061125ad.13.2025.10.27.10.20.54 (version=TLS1_2 cipher=ECDHE-ECDSA-AES128-GCM-SHA256 bits=128/128); Mon, 27 Oct 2025 10:20:54 -0700 (PDT) X-Relaying-Domain: iol.unh.edu Date: Mon, 27 Oct 2025 10:20:54 -0700 (PDT) Message-ID: <68ffa9f6.170a0220.28083c.45b1SMTPIN_ADDED_MISSING@mx.google.com> Received: from [172.21.0.2] (unknown [172.18.0.240]) by postal.iol.unh.edu (Postfix) with ESMTP id DFE766050A61; Mon, 27 Oct 2025 13:20:53 -0400 (EDT) Subject: |SUCCESS| pw158111-158112 [PATCH] [2/2] ethdev: support hide zero wh From: dpdklab@iol.unh.edu To: Test Report Cc: dpdk-test-reports@iol.unh.edu, Stephen Hemminger In-Reply-To: <20251025094239.4915-3-fengchengwen@huawei.com> References: <20251025094239.4915-3-fengchengwen@huawei.com> Content-Type: text/plain X-BeenThere: test-report@dpdk.org X-Mailman-Version: 2.1.29 Precedence: list List-Id: automatic DPDK test reports List-Unsubscribe: , List-Archive: List-Post: List-Help: List-Subscribe: , Errors-To: test-report-bounces@dpdk.org Test-Label: iol-unit-amd64-testing Test-Status: SUCCESS http://dpdk.org/patch/158112 _Testing PASS RETEST #1_ Submitter: Chengwen Feng Date: Saturday, October 25 2025 09:42:39 DPDK git baseline: Repo:dpdk-next-net Branch: master CommitID:9021d763e846b75743f0a596e4b2995713e6cd4c 158111-158112 --> testing pass Upstream job id: Generic-Unit-Test-DPDK#385663 Test environment and result as below: +-------------------------------+----------------+ | Environment | dpdk_unit_test | +===============================+================+ | Fedora Linux 41 | PASS | +-------------------------------+----------------+ | CentOS Stream 9 | PASS | +-------------------------------+----------------+ | Fedora Linux 40 | PASS | +-------------------------------+----------------+ | CentOS Stream 10 | PASS | +-------------------------------+----------------+ | Fedora Linux 42 | PASS | +-------------------------------+----------------+ | Debian GNU/Linux 12 | PASS | +-------------------------------+----------------+ | Red Hat Enterprise Linux 9.5 | PASS | +-------------------------------+----------------+ | Red Hat Enterprise Linux 8.10 | PASS | +-------------------------------+----------------+ | Ubuntu 22.04 | PASS | +-------------------------------+----------------+ | Ubuntu 20.04 | PASS | +-------------------------------+----------------+ | Windows Server 2022 | PASS | +-------------------------------+----------------+ | Ubuntu 24.04 | PASS | +-------------------------------+----------------+ Fedora Linux 41 Kernel: 5.15 Compiler: gcc gcc (GCC) 14.3.1 20250523 (Red Hat 14.3.1-1) CentOS Stream 9 Kernel: 5.15 Compiler: gcc gcc (GCC) 11.5.0 20240719 (Red Hat 11.5.0-11) Fedora Linux 40 Kernel: 5.15 Compiler: clang gcc (GCC) 14.2.1 20240912 (Red Hat 14.2.1-3) CentOS Stream 10 Kernel: 5.15 Compiler: gcc gcc (GCC) 14.2.1 20250110 (Red Hat 14.2.1-8) Fedora Linux 42 Kernel: 5.15 Compiler: gcc gcc (GCC) 15.2.1 20250808 (Red Hat 15.2.1-1) Debian GNU/Linux 12 Kernel: 5.15 Compiler: gcc gcc (Debian 12.2.0-14+deb12u1) 12.2.0 Red Hat Enterprise Linux 9.5 Kernel: 5.15 Compiler: gcc gcc (GCC) 11.5.0 20240719 (Red Hat 11.5.0-2) Red Hat Enterprise Linux 8.10 Kernel: 5.15 Compiler: gcc gcc (GCC) 8.5.0 20210514 (Red Hat 8.5.0-22) Ubuntu 22.04 Kernel: 5.15 Compiler: gcc gcc (Ubuntu 11.4.0-1ubuntu1~22.04) 11.4.0 Ubuntu 20.04 Kernel: 5.15 Compiler: gcc gcc (Ubuntu 9.4.0-1ubuntu1~20.04.2) 9.4.0 Windows Server 2022 Kernel: 10.0.20348.2031 Compiler: clang 15.0.7, gcc 14.1.0 (MinGW), and MSVC VS 19.39.33521 Ubuntu 24.04 Kernel: 5.15 Compiler: gcc gcc (Ubuntu 13.3.0-6ubuntu2~24.04) 13.3.0 To view detailed results, visit: https://lab.dpdk.org/results/dashboard/patchsets/34386/ UNH-IOL DPDK Community Lab To manage your email subscriptions, visit: https://lab.dpdk.org/results/dashboard/preferences/subscriptions/