From mboxrd@z Thu Jan 1 00:00:00 1970 Return-Path: Received: from mails.dpdk.org (mails.dpdk.org [217.70.189.124]) by inbox.dpdk.org (Postfix) with ESMTP id B3424489F0 for ; Mon, 27 Oct 2025 21:14:32 +0100 (CET) Received: from mails.dpdk.org (localhost [127.0.0.1]) by mails.dpdk.org (Postfix) with ESMTP id A11174021E; Mon, 27 Oct 2025 21:14:32 +0100 (CET) Received: from mail-pl1-f225.google.com (mail-pl1-f225.google.com [209.85.214.225]) by mails.dpdk.org (Postfix) with ESMTP id 4BDD84021E for ; Mon, 27 Oct 2025 21:14:31 +0100 (CET) Received: by mail-pl1-f225.google.com with SMTP id d9443c01a7336-290aaff555eso47275835ad.2 for ; Mon, 27 Oct 2025 13:14:31 -0700 (PDT) DKIM-Signature: v=1; a=rsa-sha256; c=relaxed/relaxed; d=iol.unh.edu; s=unh-iol; t=1761596070; x=1762200870; darn=dpdk.org; h=cc:to:from:subject:message-id:date:from:to:cc:subject:date :message-id:reply-to; bh=mUeV5fJPKMXgKVxNXOsP+XHL/0+IQEMU9l576kDja+k=; b=TNNcOVNctNkcSprHNHwyDidjN7kkMyspjo0YawZOgsJCseCRugfHsvtGGVmhIr9QkB BoQHViZxSzyqKRCm+aE5jMzJqYnP543vAf/lSBbJVW/iPmbfQWmam9zGkdOXZVvs496+ vM46FlGYSVfG5W1kCroRq+7YZmrfP4nOEurWk= X-Google-DKIM-Signature: v=1; a=rsa-sha256; c=relaxed/relaxed; d=1e100.net; s=20230601; t=1761596070; x=1762200870; h=cc:to:from:subject:message-id:date:x-gm-message-state:from:to:cc :subject:date:message-id:reply-to; bh=mUeV5fJPKMXgKVxNXOsP+XHL/0+IQEMU9l576kDja+k=; b=LKvr6XUDYPJboQen1TnSzmo/7DqYyw9PIRPVNxtrk4lg8F0Ds53DvC8yv3lhW0PgAF cl/PzNXLRtHOkRefAbJJkYdlUszmh6CUJExGBUF7TvXwMI6vzGp4PKVQQ3V3GjdWlrH+ Q0FJHEhzkeiGZotOGhMWNVZcxT7JUVDvyHhaSO2/xj9K8/7t0CFAUS9OwtD1qraCyUX4 ds/l1Y0RB9rJVWHr8dZSwJVL8IO8u2UmFromspke58Q52ATd1GgPXBzT5dlKaZZOvRYN W2Rf+lChn8QtgoFXSMrlCYN5B4xR1dD1MFontdNAHEpbjfzNIpOOMOx9lkJ+i+sr4wwL p+UQ== X-Gm-Message-State: AOJu0YzUs0ZZcCQu1TTaKh6SFPzyZI09xqBFRHr+JSgZ17lD77Q47HUT 0tT6JzONnCwGkBvPMvQRAzTYjkJ4YaCImCm23HtqHBg4rGr8tuAU+UwmIryQE4MnRymiDYlKbu/ uVgkQyDIM6HerU974sqhKaj+NAVy77C3TYaGPDQMd/0Cl X-Gm-Gg: ASbGncu/XDufiK58sLG3zA2kcLt2bgIvuZe9ReJlkvtiKzL+UpbI9iCwmOvPMqTVjQp Lcd1IHCuiVBIQNh0WlIiN3RFXFci9ujpKrOjVMAr5v5SSBS77rulLwzLpQXx2LK74la12wVe/GS hZnYh6aAUpayLUqmkhuZcx+7mK8UeYzVfoEmjcqaGJZaT37RF58KvMnmNC1OS63rxcHPj/QVsqt C7fw1M8JJDunIKmYdAEAbY7HKu5cAw3BV3O2spFJVp7tL53WKFTUsm/QQs5OEAbkpiU7SUqlsnd IIUTdKgIflaNMoLSJGrxEbtc4HYP5P+sn/kQ8H1r0liU6qPol1pYZcRpRZUQK66AlG2oLAP1Igz 8bXHCMUXXKi8aZlVV23hNBCX9zweXVt4= X-Google-Smtp-Source: AGHT+IELBDhMK/daN5MKBteq0uwXJ2T/vX55Td7pPAIyGK4pCR07tvbbNu2wreobmUgRj4i2CUppHNBhEvpa X-Received: by 2002:a17:903:41ca:b0:25e:5d83:2ddd with SMTP id d9443c01a7336-294cb67438amr12817745ad.45.1761596070340; Mon, 27 Oct 2025 13:14:30 -0700 (PDT) Received: from postal.iol.unh.edu (postal.iol.unh.edu. [132.177.123.84]) by smtp-relay.gmail.com with ESMTPS id d9443c01a7336-29498d26a11sm8917625ad.31.2025.10.27.13.14.30 (version=TLS1_2 cipher=ECDHE-ECDSA-AES128-GCM-SHA256 bits=128/128); Mon, 27 Oct 2025 13:14:30 -0700 (PDT) X-Relaying-Domain: iol.unh.edu Date: Mon, 27 Oct 2025 13:14:30 -0700 (PDT) Message-ID: <68ffd2a6.170a0220.e46d8.8b7cSMTPIN_ADDED_MISSING@mx.google.com> Received: from [172.21.0.2] (unknown [172.18.0.240]) by postal.iol.unh.edu (Postfix) with ESMTP id 68682604D430; Mon, 27 Oct 2025 16:14:29 -0400 (EDT) Subject: |WARNING| [GIT MASTER] 39b54f2dcf44ad1f91eabc7080cd5dea763607fd From: dpdklab@iol.unh.edu To: Test Report Cc: dpdk-test-reports@iol.unh.edu Content-Type: text/plain X-BeenThere: test-report@dpdk.org X-Mailman-Version: 2.1.29 Precedence: list List-Id: automatic DPDK test reports List-Unsubscribe: , List-Archive: List-Post: List-Help: List-Subscribe: , Errors-To: test-report-bounces@dpdk.org _Testing issues_ Branch: dpdk 39b54f2dcf44ad1f91eabc7080cd5dea763607fd --> testing issues Upstream job id: Windows-Compile-DPDK-Native#31917 Test environment and result as below: +-------------------------------+--------------------+-------------------+------------------+-------------------+-------------------------+ | Environment | dpdk_meson_compile | dpdk_compile_spdk | dpdk_compile_ovs | dpdk_msvc_compile | dpdk_llvm_clang_compile | +===============================+====================+===================+==================+===================+=========================+ | CentOS Stream 9 | PASS | WARN | SKIPPED | SKIPPED | SKIPPED | +-------------------------------+--------------------+-------------------+------------------+-------------------+-------------------------+ | FreeBSD 14.2 | PASS | SKIPPED | SKIPPED | SKIPPED | SKIPPED | +-------------------------------+--------------------+-------------------+------------------+-------------------+-------------------------+ | Ubuntu 20.04 | PASS | SKIPPED | SKIPPED | SKIPPED | SKIPPED | +-------------------------------+--------------------+-------------------+------------------+-------------------+-------------------------+ | Fedora Linux 42 | PASS | WARN | PASS | SKIPPED | SKIPPED | +-------------------------------+--------------------+-------------------+------------------+-------------------+-------------------------+ | CentOS Stream 10 | PASS | SKIPPED | SKIPPED | SKIPPED | SKIPPED | +-------------------------------+--------------------+-------------------+------------------+-------------------+-------------------------+ | Debian GNU/Linux 12 | PASS | WARN | SKIPPED | SKIPPED | SKIPPED | +-------------------------------+--------------------+-------------------+------------------+-------------------+-------------------------+ | Red Hat Enterprise Linux 8.10 | PASS | SKIPPED | SKIPPED | SKIPPED | SKIPPED | +-------------------------------+--------------------+-------------------+------------------+-------------------+-------------------------+ | Red Hat Enterprise Linux 9.5 | PASS | SKIPPED | SKIPPED | SKIPPED | SKIPPED | +-------------------------------+--------------------+-------------------+------------------+-------------------+-------------------------+ | openSUSE Leap 15.6 | PASS | SKIPPED | SKIPPED | SKIPPED | SKIPPED | +-------------------------------+--------------------+-------------------+------------------+-------------------+-------------------------+ | Ubuntu 22.04 | PASS | WARN | SKIPPED | SKIPPED | SKIPPED | +-------------------------------+--------------------+-------------------+------------------+-------------------+-------------------------+ | Ubuntu 24.04 | PASS | WARN | PASS | SKIPPED | SKIPPED | +-------------------------------+--------------------+-------------------+------------------+-------------------+-------------------------+ | Alpine Linux 3.22.0 | PASS | SKIPPED | SKIPPED | SKIPPED | SKIPPED | +-------------------------------+--------------------+-------------------+------------------+-------------------+-------------------------+ | Arch Linux 20250613.0.365270 | PASS | SKIPPED | SKIPPED | SKIPPED | SKIPPED | +-------------------------------+--------------------+-------------------+------------------+-------------------+-------------------------+ | Windows Server 2022 | SKIPPED | SKIPPED | SKIPPED | PASS | PASS | +-------------------------------+--------------------+-------------------+------------------+-------------------+-------------------------+ ==== 20 line log output for Ubuntu 24.04 (dpdk_compile_spdk): ==== --- Failed to get log output --- ==== End log output ==== CentOS Stream 9 Kernel: 5.15 Compiler: gcc gcc (GCC) 11.5.0 20240719 (Red Hat 11.5.0-11) FreeBSD 14.2 Kernel: 14.2-RELEASE Compiler: clang 18.1.6 Ubuntu 20.04 Kernel: 4.19 Compiler: gcc gcc (Ubuntu 9.4.0-1ubuntu1~20.04.2) 9.4.0 Fedora Linux 42 Kernel: 5.15 Compiler: gcc gcc (GCC) 15.2.1 20250808 (Red Hat 15.2.1-1) CentOS Stream 10 Kernel: 5.15 Compiler: gcc gcc (GCC) 14.2.1 20250110 (Red Hat 14.2.1-8) Debian GNU/Linux 12 Kernel: 5.15 Compiler: gcc gcc (Debian 12.2.0-14+deb12u1) 12.2.0 Red Hat Enterprise Linux 8.10 Kernel: 5.15 Compiler: gcc gcc (GCC) 8.5.0 20210514 (Red Hat 8.5.0-22) Red Hat Enterprise Linux 9.5 Kernel: 5.15 Compiler: gcc gcc (GCC) 11.5.0 20240719 (Red Hat 11.5.0-2) openSUSE Leap 15.6 Kernel: 5.15 Compiler: gcc gcc (SUSE Linux) 7.5.0 Ubuntu 22.04 Kernel: 5.15 Compiler: gcc gcc (Ubuntu 11.4.0-1ubuntu1~22.04) 11.4.0 Ubuntu 24.04 Kernel: 5.15 Compiler: gcc gcc (Ubuntu 13.3.0-6ubuntu2~24.04) 13.3.0 Alpine Linux 3.22.0 Kernel: 5.15 Compiler: gcc gcc (Alpine 14.2.0) 14.2.0 Arch Linux 20250613.0.365270 Kernel: 5.15 Compiler: gcc gcc (GCC) 15.1.1 20250425 Windows Server 2022 Kernel: 10.0.20348.2031 Compiler: clang 15.0.7, gcc 14.1.0 (MinGW), and MSVC VS 19.39.33521 To view detailed results, visit: https://lab.dpdk.org/results/dashboard/tarballs/35355/ UNH-IOL DPDK Community Lab To manage your email subscriptions, visit: https://lab.dpdk.org/results/dashboard/preferences/subscriptions/