From mboxrd@z Thu Jan 1 00:00:00 1970 Return-Path: Received: from mails.dpdk.org (mails.dpdk.org [217.70.189.124]) by inbox.dpdk.org (Postfix) with ESMTP id 88E20489F0 for ; Mon, 27 Oct 2025 21:22:32 +0100 (CET) Received: from mails.dpdk.org (localhost [127.0.0.1]) by mails.dpdk.org (Postfix) with ESMTP id 845614021E; Mon, 27 Oct 2025 21:22:32 +0100 (CET) Received: from mail-io1-f97.google.com (mail-io1-f97.google.com [209.85.166.97]) by mails.dpdk.org (Postfix) with ESMTP id 43E664021E for ; Mon, 27 Oct 2025 21:22:31 +0100 (CET) Received: by mail-io1-f97.google.com with SMTP id ca18e2360f4ac-93e89a59d68so220995539f.0 for ; Mon, 27 Oct 2025 13:22:31 -0700 (PDT) DKIM-Signature: v=1; a=rsa-sha256; c=relaxed/relaxed; d=iol.unh.edu; s=unh-iol; t=1761596550; x=1762201350; darn=dpdk.org; h=cc:to:from:subject:message-id:date:from:to:cc:subject:date :message-id:reply-to; bh=WOj+w/QojIxrTrdAcabe/Z3z4VhoF3hjHEJ5bUFXRcM=; b=evuPQHewNfjSEEOtrhLaqug+YVv7s0MK55g3qo68v6g9z6JXKUb9JbL6wUaOJq56Qr M7iBTMr2N+6sFmIfXKBatVgSUEBV5UmQFtCSfAHWPUqIX6P3b0PR435Sv+lSikLpKOmE +Gi1nZvu9mx4TRu4C91fBHvPai2nd9Uu0dRsQ= X-Google-DKIM-Signature: v=1; a=rsa-sha256; c=relaxed/relaxed; d=1e100.net; s=20230601; t=1761596550; x=1762201350; h=cc:to:from:subject:message-id:date:x-gm-message-state:from:to:cc :subject:date:message-id:reply-to; bh=WOj+w/QojIxrTrdAcabe/Z3z4VhoF3hjHEJ5bUFXRcM=; b=mKiJCreer387gkkpw9HMD8xt0Y/5sW/MkcsiCfHZa1BKSSHRt1gRNJy1SHTkXTfbdz brxWForW35mL6dJymM/VSvybxT1EJnZVtGLcl/KuyHmBgECvB7jGWbgEtQMip/O52BjA NpasmzLyiq8i3F6lE8ZZru7UxF0FROjIF+1quQk5hHbRmIvkzKN+7LFNo0+LCVyuuC/w bZbbG24ZjXvWl0IukyJKzXmEmnPlXzXMsFu+puSf5liP9ATpWBSE/fjs9uj9lnBMeqt7 FIPTCYb51mTZJ+43WiArrvM/Vg9eHKGMP7Z0xjXIlLtAHrFFecKYujMbszdxaf4DWJqd knBQ== X-Gm-Message-State: AOJu0YxMcIp8lukY3sI3xRq7R3399J374Vw+a69mpls3eOqpugwCo6co FcuKR7E/8glt+G2pri7WUya/K3Az1UC7s4+tTSQbWcOhhR75g5b/CT7WkdxhpYjEspDLVYuqFoU r2tZiUBhhzTx3fpVdXKr0BngW1AkL15w8JlUWxlH8MhUG X-Gm-Gg: ASbGncsd5x317DqkU0Lc8PV1ryOJNjHx9FMhbHjP6FcOO+Cw3qRrbNG1bGlfLJ/TA+i e8iMgCXZ7NQcOookaZCpRom8gyIvtoblD9+bL+c1SsCkkY2YkcBpHmOq+3FkNPsb673iV3xQn4z tZ5OuIJlgbnMGRTVq8ssz1W8/qL2MmwUikOJi2Uq/Z0Mtl7yHAK7fa+HltNErUjt5ksp31mKJCH vLF9cEcUDBi9/ISHaeFzbWPc/tzM7eqoDNso8D0QkhkOBRbfXyXyiPIoz+hHK1JGPevYbE6FbHl Yo8jHJdtO79WlEuQF2gloHhr3TkdP+e7v/rUKgUCRZ5hljAPF367nsxhYGyyReA7voKOGzBnbcP EzF/0Zeg6kMpTy+Qjhw4LAdqm2yiNe3c= X-Google-Smtp-Source: AGHT+IFlJm9HhGNwqYmEFLMCv607VB4mS/xmtGOSkRo/L3X2QVgAPq077GPs88R6amF4pKTJO5wJKAynI4qu X-Received: by 2002:a05:6602:6b84:b0:93e:871f:b060 with SMTP id ca18e2360f4ac-945b84ba413mr206240939f.15.1761596550570; Mon, 27 Oct 2025 13:22:30 -0700 (PDT) Received: from postal.iol.unh.edu (postal.iol.unh.edu. [132.177.123.84]) by smtp-relay.gmail.com with ESMTPS id ca18e2360f4ac-94359e98aafsm49553239f.4.2025.10.27.13.22.30 (version=TLS1_2 cipher=ECDHE-ECDSA-AES128-GCM-SHA256 bits=128/128); Mon, 27 Oct 2025 13:22:30 -0700 (PDT) X-Relaying-Domain: iol.unh.edu Date: Mon, 27 Oct 2025 13:22:30 -0700 (PDT) Message-ID: <68ffd486.6b0a0220.152572.67b2SMTPIN_ADDED_MISSING@mx.google.com> Received: from [172.21.0.2] (unknown [172.18.0.240]) by postal.iol.unh.edu (Postfix) with ESMTP id 2A2CC604D420; Mon, 27 Oct 2025 16:22:30 -0400 (EDT) Subject: |SUCCESS| [GIT MASTER] 39b54f2dcf44ad1f91eabc7080cd5dea763607fd From: dpdklab@iol.unh.edu To: Test Report Cc: dpdk-test-reports@iol.unh.edu Content-Type: text/plain X-BeenThere: test-report@dpdk.org X-Mailman-Version: 2.1.29 Precedence: list List-Id: automatic DPDK test reports List-Unsubscribe: , List-Archive: List-Post: List-Help: List-Subscribe: , Errors-To: test-report-bounces@dpdk.org _Testing PASS_ Branch: dpdk 39b54f2dcf44ad1f91eabc7080cd5dea763607fd --> testing pass Upstream job id: Generic-VM-Unit-Test-DPDK#32091 Test environment and result as below: +-------------------------------+----------------+ | Environment | dpdk_unit_test | +===============================+================+ | Fedora Linux 40 | PASS | +-------------------------------+----------------+ | CentOS Stream 9 | PASS | +-------------------------------+----------------+ | Debian GNU/Linux 12 | PASS | +-------------------------------+----------------+ | Ubuntu 20.04 | PASS | +-------------------------------+----------------+ | Fedora Linux 41 | PASS | +-------------------------------+----------------+ | Fedora Linux 42 | PASS | +-------------------------------+----------------+ | Ubuntu 22.04 | PASS | +-------------------------------+----------------+ | Red Hat Enterprise Linux 9.5 | PASS | +-------------------------------+----------------+ | Arch Linux 20250613.0.365270 | PASS | +-------------------------------+----------------+ | Ubuntu 24.04 | PASS | +-------------------------------+----------------+ | Red Hat Enterprise Linux 8.10 | PASS | +-------------------------------+----------------+ | CentOS Stream 10 | PASS | +-------------------------------+----------------+ | Windows Server 2022 | PASS | +-------------------------------+----------------+ Fedora Linux 40 Kernel: 5.15 Compiler: gcc gcc (GCC) 14.2.1 20240912 (Red Hat 14.2.1-3) CentOS Stream 9 Kernel: 5.15 Compiler: gcc gcc (GCC) 11.5.0 20240719 (Red Hat 11.5.0-11) Debian GNU/Linux 12 Kernel: 5.15 Compiler: gcc gcc (Debian 12.2.0-14+deb12u1) 12.2.0 Ubuntu 20.04 Kernel: 5.15 Compiler: gcc gcc (Ubuntu 9.4.0-1ubuntu1~20.04.2) 9.4.0 Fedora Linux 41 Kernel: 5.15 Compiler: gcc gcc (GCC) 14.3.1 20250523 (Red Hat 14.3.1-1) Fedora Linux 42 Kernel: 5.15 Compiler: gcc gcc (GCC) 15.2.1 20250808 (Red Hat 15.2.1-1) Ubuntu 22.04 Kernel: 5.15 Compiler: gcc gcc (Ubuntu 11.4.0-1ubuntu1~22.04) 11.4.0 Red Hat Enterprise Linux 9.5 Kernel: 5.15 Compiler: gcc gcc (GCC) 11.5.0 20240719 (Red Hat 11.5.0-2) Arch Linux 20250613.0.365270 Kernel: 5.15 Compiler: gcc gcc (GCC) 15.1.1 20250425 Ubuntu 24.04 Kernel: 5.15 Compiler: gcc gcc (Ubuntu 13.3.0-6ubuntu2~24.04) 13.3.0 Red Hat Enterprise Linux 8.10 Kernel: 5.15 Compiler: gcc gcc (GCC) 8.5.0 20210514 (Red Hat 8.5.0-22) CentOS Stream 10 Kernel: 5.15 Compiler: gcc gcc (GCC) 14.2.1 20250110 (Red Hat 14.2.1-8) Windows Server 2022 Kernel: 10.0.20348.2031 Compiler: clang 15.0.7, gcc 14.1.0 (MinGW), and MSVC VS 19.39.33521 To view detailed results, visit: https://lab.dpdk.org/results/dashboard/tarballs/35355/ UNH-IOL DPDK Community Lab To manage your email subscriptions, visit: https://lab.dpdk.org/results/dashboard/preferences/subscriptions/