From mboxrd@z Thu Jan 1 00:00:00 1970 Return-Path: Received: from mails.dpdk.org (mails.dpdk.org [217.70.189.124]) by inbox.dpdk.org (Postfix) with ESMTP id BC8CF489F0 for ; Mon, 27 Oct 2025 21:24:05 +0100 (CET) Received: from mails.dpdk.org (localhost [127.0.0.1]) by mails.dpdk.org (Postfix) with ESMTP id B7ED84021E; Mon, 27 Oct 2025 21:24:05 +0100 (CET) Received: from mail-yx1-f99.google.com (mail-yx1-f99.google.com [74.125.224.99]) by mails.dpdk.org (Postfix) with ESMTP id 3FCA14021E for ; Mon, 27 Oct 2025 21:24:04 +0100 (CET) Received: by mail-yx1-f99.google.com with SMTP id 956f58d0204a3-63e3568f90dso5351521d50.0 for ; Mon, 27 Oct 2025 13:24:04 -0700 (PDT) DKIM-Signature: v=1; a=rsa-sha256; c=relaxed/relaxed; d=iol.unh.edu; s=unh-iol; t=1761596643; x=1762201443; darn=dpdk.org; h=cc:to:from:subject:message-id:date:from:to:cc:subject:date :message-id:reply-to; bh=u6IpNagmgILenQNiAbl16px3N2YYL22cG6hBOqYn1Pw=; b=hvgKKAlbu74rSkiwViWDD1dpjwJgNPl459Okc2ujVB0KCh1xSjI3qMPCtyT2CR0+zD vGxXPBUhl43srIEw5/rAcQPfB3gauWMRQsQI5MmWgSRqFswz+q/DuCEw715XCg9osPUs nTz9fLXN1HwGpaSFGrttFkgOSJVzXp7H7x4N0= X-Google-DKIM-Signature: v=1; a=rsa-sha256; c=relaxed/relaxed; d=1e100.net; s=20230601; t=1761596643; x=1762201443; h=cc:to:from:subject:message-id:date:x-gm-message-state:from:to:cc :subject:date:message-id:reply-to; bh=u6IpNagmgILenQNiAbl16px3N2YYL22cG6hBOqYn1Pw=; b=NxaprcK0tanKw2+0iRrdMyfFAz3j439IocUjJC24qCEcUO5Diu30WEJ3cF5e4BJJ9a 8ylM6ZcST8dUDcr4is7uf1uZ+5OjsGlvvuVVSxDWfj1TRIOCaT5HNCm1cTVWmsXmVHak gMytcBnO4r1JzWwNpXazhc2im5GfzSWElueY7KOzBY890n3l9k+anbj7Akwxhhrbs1DE PcMeWiVhKf47srIOJRITwbxOFQwNJtJoAnBv/9EihgYLUDZcGtO9As/A/Q+rrs9HLoXA NmfLdin0BsKzsZp5PyAyzKKDqgS2v8E2AkC9UhAlO/KC+LEhqzZZzC8Ab8KD9tR/SSjX BgRw== X-Gm-Message-State: AOJu0Yzc5lxnAMzH6rPwBL9bsvlqvMUYXQenJdedkTUvQS+3vMcc6bT7 8VCNjoPPFrivzmQzfEpibr3arOKLCRvNQTw9j6kXcXNGtEICC4cObuxXYPhc7ydZ4THRJxGPVzk XX6no3rYLW6CtQwDbIFTnOP2y5s9oDkzLr0XyBsjdSRbm62it1vNnND25bjPv X-Gm-Gg: ASbGnctxHecCR3SV6xbkgp1YXGPTGcCfbmnoO4wxEjL5XP4d2R4TCB3hkmAVn2fZ+pJ y4JQnFf2fO+SIsso346RIxtQrBd4aDQKy+wc+GhT39ZrbG7CiVxCFsNUgOs7qH2EitLOpfAqqDU UfCb8LY5bp07o/06J2SAnHLsBavIl3nJArmaZuqyLdyUmGeG7nXlZI9UeBpt9u3OwJuORZXEu+e D5k937FOhC77SjQQ+VnMrrRlOxtVY7K13DLGS4jrxQ0B1KA3MVnWOc0JByNWG5l+gDZILYwGgnC gvdmYkdwtmwjMMx5xrjlx1qhGSSydKOciL6CM+rpW24HWsOHkZoGx6Pzr31XvKTBroQsLAwihUH S/7uudwLv X-Google-Smtp-Source: AGHT+IE9ccPSimwfD0rF3f6N6LfOlBgBOYZ3dLGUtV0C3eul+eeRAv+zJnp/kwWvWWLzLGgeRIrygWYM/Nce X-Received: by 2002:a05:690e:165a:b0:63e:f6f:afb2 with SMTP id 956f58d0204a3-63f6b9f1c72mr952760d50.22.1761596643628; Mon, 27 Oct 2025 13:24:03 -0700 (PDT) Received: from postal.iol.unh.edu (postal.iol.unh.edu. [2606:4100:3880:1234::84]) by smtp-relay.gmail.com with ESMTPS id 00721157ae682-785ed1b6762sm6046057b3.20.2025.10.27.13.24.03 (version=TLS1_2 cipher=ECDHE-ECDSA-AES128-GCM-SHA256 bits=128/128); Mon, 27 Oct 2025 13:24:03 -0700 (PDT) X-Relaying-Domain: iol.unh.edu Date: Mon, 27 Oct 2025 13:24:03 -0700 (PDT) Message-ID: <68ffd4e3.050a0220.2ddb7b.b4d6SMTPIN_ADDED_MISSING@mx.google.com> Received: from [172.21.0.2] (unknown [172.18.0.240]) by postal.iol.unh.edu (Postfix) with ESMTP id 4BC4A604D420; Mon, 27 Oct 2025 16:24:03 -0400 (EDT) Subject: |WARNING| [GIT MASTER] 39b54f2dcf44ad1f91eabc7080cd5dea763607fd From: dpdklab@iol.unh.edu To: Test Report Cc: dpdk-test-reports@iol.unh.edu Content-Type: text/plain X-BeenThere: test-report@dpdk.org X-Mailman-Version: 2.1.29 Precedence: list List-Id: automatic DPDK test reports List-Unsubscribe: , List-Archive: List-Post: List-Help: List-Subscribe: , Errors-To: test-report-bounces@dpdk.org _Testing issues_ Branch: dpdk 39b54f2dcf44ad1f91eabc7080cd5dea763607fd --> testing issues Upstream job id: Windows-Compile-DPDK-Native#31918 Test environment and result as below: +-------------------------------+--------------------+-------------------+------------------+-------------------+-------------------------+----------------------+ | Environment | dpdk_meson_compile | dpdk_compile_spdk | dpdk_compile_ovs | dpdk_msvc_compile | dpdk_llvm_clang_compile | dpdk_mingw64_compile | +===============================+====================+===================+==================+===================+=========================+======================+ | CentOS Stream 9 | PASS | WARN | SKIPPED | SKIPPED | SKIPPED | SKIPPED | +-------------------------------+--------------------+-------------------+------------------+-------------------+-------------------------+----------------------+ | FreeBSD 14.2 | PASS | SKIPPED | SKIPPED | SKIPPED | SKIPPED | SKIPPED | +-------------------------------+--------------------+-------------------+------------------+-------------------+-------------------------+----------------------+ | Ubuntu 20.04 | PASS | SKIPPED | SKIPPED | SKIPPED | SKIPPED | SKIPPED | +-------------------------------+--------------------+-------------------+------------------+-------------------+-------------------------+----------------------+ | Fedora Linux 42 | PASS | WARN | PASS | SKIPPED | SKIPPED | SKIPPED | +-------------------------------+--------------------+-------------------+------------------+-------------------+-------------------------+----------------------+ | CentOS Stream 10 | PASS | SKIPPED | SKIPPED | SKIPPED | SKIPPED | SKIPPED | +-------------------------------+--------------------+-------------------+------------------+-------------------+-------------------------+----------------------+ | Debian GNU/Linux 12 | PASS | WARN | SKIPPED | SKIPPED | SKIPPED | SKIPPED | +-------------------------------+--------------------+-------------------+------------------+-------------------+-------------------------+----------------------+ | Red Hat Enterprise Linux 8.10 | PASS | SKIPPED | SKIPPED | SKIPPED | SKIPPED | SKIPPED | +-------------------------------+--------------------+-------------------+------------------+-------------------+-------------------------+----------------------+ | Red Hat Enterprise Linux 9.5 | PASS | SKIPPED | SKIPPED | SKIPPED | SKIPPED | SKIPPED | +-------------------------------+--------------------+-------------------+------------------+-------------------+-------------------------+----------------------+ | openSUSE Leap 15.6 | PASS | SKIPPED | SKIPPED | SKIPPED | SKIPPED | SKIPPED | +-------------------------------+--------------------+-------------------+------------------+-------------------+-------------------------+----------------------+ | Ubuntu 22.04 | PASS | WARN | SKIPPED | SKIPPED | SKIPPED | SKIPPED | +-------------------------------+--------------------+-------------------+------------------+-------------------+-------------------------+----------------------+ | Ubuntu 24.04 | PASS | WARN | PASS | SKIPPED | SKIPPED | SKIPPED | +-------------------------------+--------------------+-------------------+------------------+-------------------+-------------------------+----------------------+ | Alpine Linux 3.22.0 | PASS | SKIPPED | SKIPPED | SKIPPED | SKIPPED | SKIPPED | +-------------------------------+--------------------+-------------------+------------------+-------------------+-------------------------+----------------------+ | Arch Linux 20250613.0.365270 | PASS | SKIPPED | SKIPPED | SKIPPED | SKIPPED | SKIPPED | +-------------------------------+--------------------+-------------------+------------------+-------------------+-------------------------+----------------------+ | Windows Server 2022 | SKIPPED | SKIPPED | SKIPPED | PASS | PASS | PASS | +-------------------------------+--------------------+-------------------+------------------+-------------------+-------------------------+----------------------+ ==== 20 line log output for Ubuntu 24.04 (dpdk_compile_spdk): ==== --- Failed to get log output --- ==== End log output ==== CentOS Stream 9 Kernel: 5.15 Compiler: gcc gcc (GCC) 11.5.0 20240719 (Red Hat 11.5.0-11) FreeBSD 14.2 Kernel: 14.2-RELEASE Compiler: clang 18.1.6 Ubuntu 20.04 Kernel: 4.19 Compiler: gcc gcc (Ubuntu 9.4.0-1ubuntu1~20.04.2) 9.4.0 Fedora Linux 42 Kernel: 5.15 Compiler: gcc gcc (GCC) 15.2.1 20250808 (Red Hat 15.2.1-1) CentOS Stream 10 Kernel: 5.15 Compiler: gcc gcc (GCC) 14.2.1 20250110 (Red Hat 14.2.1-8) Debian GNU/Linux 12 Kernel: 5.15 Compiler: gcc gcc (Debian 12.2.0-14+deb12u1) 12.2.0 Red Hat Enterprise Linux 8.10 Kernel: 5.15 Compiler: gcc gcc (GCC) 8.5.0 20210514 (Red Hat 8.5.0-22) Red Hat Enterprise Linux 9.5 Kernel: 5.15 Compiler: gcc gcc (GCC) 11.5.0 20240719 (Red Hat 11.5.0-2) openSUSE Leap 15.6 Kernel: 5.15 Compiler: gcc gcc (SUSE Linux) 7.5.0 Ubuntu 22.04 Kernel: 5.15 Compiler: gcc gcc (Ubuntu 11.4.0-1ubuntu1~22.04) 11.4.0 Ubuntu 24.04 Kernel: 5.15 Compiler: gcc gcc (Ubuntu 13.3.0-6ubuntu2~24.04) 13.3.0 Alpine Linux 3.22.0 Kernel: 5.15 Compiler: gcc gcc (Alpine 14.2.0) 14.2.0 Arch Linux 20250613.0.365270 Kernel: 5.15 Compiler: gcc gcc (GCC) 15.1.1 20250425 Windows Server 2022 Kernel: 10.0.20348.2031 Compiler: clang 15.0.7, gcc 14.1.0 (MinGW), and MSVC VS 19.39.33521 To view detailed results, visit: https://lab.dpdk.org/results/dashboard/tarballs/35355/ UNH-IOL DPDK Community Lab To manage your email subscriptions, visit: https://lab.dpdk.org/results/dashboard/preferences/subscriptions/