From mboxrd@z Thu Jan 1 00:00:00 1970 Return-Path: Received: from mails.dpdk.org (mails.dpdk.org [217.70.189.124]) by inbox.dpdk.org (Postfix) with ESMTP id 29E53489F0 for ; Mon, 27 Oct 2025 21:27:36 +0100 (CET) Received: from mails.dpdk.org (localhost [127.0.0.1]) by mails.dpdk.org (Postfix) with ESMTP id 0E1C64021E; Mon, 27 Oct 2025 21:27:36 +0100 (CET) Received: from mail-pj1-f97.google.com (mail-pj1-f97.google.com [209.85.216.97]) by mails.dpdk.org (Postfix) with ESMTP id 3C8A84021E for ; Mon, 27 Oct 2025 21:27:34 +0100 (CET) Received: by mail-pj1-f97.google.com with SMTP id 98e67ed59e1d1-33b5a3e8ae2so5344390a91.1 for ; Mon, 27 Oct 2025 13:27:34 -0700 (PDT) DKIM-Signature: v=1; a=rsa-sha256; c=relaxed/relaxed; d=iol.unh.edu; s=unh-iol; t=1761596853; x=1762201653; darn=dpdk.org; h=cc:to:from:subject:message-id:date:from:to:cc:subject:date :message-id:reply-to; bh=IU5Mkc/ICXlu2YWBRBga9R0HkNMfQpkLHWo8wJbiCSA=; b=MEQY1Nx3U7fIzudek1+R2aMeaEVtvgs/2F2sY2H+aWZRc2mZMlQN8J9Vxa/rkAFqQR UvrSbITzp6q6Bmt49thEIePHQCjZftc60b7jJ8WHIKQ0zFeE8bTiQ00kTrPm8dY6glY7 I2Qxoi9lMGvvQw7u0k3l5eIoNi5Ig2WzgDwqs= X-Google-DKIM-Signature: v=1; a=rsa-sha256; c=relaxed/relaxed; d=1e100.net; s=20230601; t=1761596853; x=1762201653; h=cc:to:from:subject:message-id:date:x-gm-message-state:from:to:cc :subject:date:message-id:reply-to; bh=IU5Mkc/ICXlu2YWBRBga9R0HkNMfQpkLHWo8wJbiCSA=; b=QaHISQi5EbewQJPWENZVHsGusR226s7a6sRvXJmT7DGWTuEGjxzhx2IRv95uJeXHyE R4ymT9KHGxZEtosjAVwfSdtkuihG6BYMyzKc6mn/iS4TK3xpOu+RmJ5mOD2wCaxxd9TC I+BM+lvWQH4wIUB8/GORGR9wgfNyLicEZ9F3hukrtWeJdvvx8acsOnFNGM14im/ItgFQ TfaLa0HD405C8ZHBAQjl7a9MYnMIN5o4VtqSXmCY6qPax+wSVXOCroQ4pHspyZXdFOKE kOwD3HHKe/tbiSjUPDErREeFCwapRDxX2gKNHIRBs71V1KKCuJmQO7CbhCDNqyliSWRv 6rWw== X-Gm-Message-State: AOJu0Yx4OIhvsTo55xRYztoB8vuW1hghI+xYn8S9eEazl5w+bt0UcVuJ GZub1cGzTSVScv9LwCzcmpwwPmaifQvVEiTjeoxzaHALF/dy/amkE46OpJVXpefmdgTDEOtFXW4 ZmHivH+GUhgOzi2/1waN8JdC44Pl4D3y33a7uWazNFBqyYuzqtIP2doTbjrGY X-Gm-Gg: ASbGncsA0VOalalmQwzGrzG3Umr5INkRY1AocTjlt43BkDb87KamFmp1NTZDH6s4Yqy JCJlMdyefHf0VjYGkSnq73RAbWXNDsBSuNR02BJaYEq3u/0AIvloXC47P/7elgvDy4BKTyFTegj 5xUFY6MxXdO/rLyc5+lR5x2kMWJgla5l1yXB3fpT0deu7HtT1h9K7cPeFlMqOwPPewDd4bGIBPH HjW6EhVvuvQU1LiMKtQi8U29sXS3b5DJXXkZvgFMD6UnLWUUK++EQTMCarNp0pxZ5b0sXfi+aku w2lirl51a/0iARFjo+jqPxGhWK8Yozc2MI5GkofdhIiD+73+7k2FXrZUEtPkaQ+59NeroqwcWt0 zeHcqEHxo X-Google-Smtp-Source: AGHT+IFhec332bnyg+ooZOjQTqFOxAbnj/LYEq8r1YyzXJt1UH+yRBtDDcUTDtTqwOEdaUoS7EqV0/BcJla+ X-Received: by 2002:a17:90b:3512:b0:33b:a351:4bc3 with SMTP id 98e67ed59e1d1-3402875c02fmr759109a91.12.1761596853267; Mon, 27 Oct 2025 13:27:33 -0700 (PDT) Received: from postal.iol.unh.edu (postal.iol.unh.edu. [2606:4100:3880:1234::84]) by smtp-relay.gmail.com with ESMTPS id 98e67ed59e1d1-33fed43e00asm884570a91.0.2025.10.27.13.27.33 (version=TLS1_2 cipher=ECDHE-ECDSA-AES128-GCM-SHA256 bits=128/128); Mon, 27 Oct 2025 13:27:33 -0700 (PDT) X-Relaying-Domain: iol.unh.edu Date: Mon, 27 Oct 2025 13:27:33 -0700 (PDT) Message-ID: <68ffd5b5.170a0220.81d23.87b1SMTPIN_ADDED_MISSING@mx.google.com> Received: from [172.21.0.2] (unknown [172.18.0.240]) by postal.iol.unh.edu (Postfix) with ESMTP id 7DF64604D420; Mon, 27 Oct 2025 16:27:32 -0400 (EDT) Subject: |SUCCESS| [GIT MASTER] 39b54f2dcf44ad1f91eabc7080cd5dea763607fd From: dpdklab@iol.unh.edu To: Test Report Cc: dpdk-test-reports@iol.unh.edu Content-Type: text/plain X-BeenThere: test-report@dpdk.org X-Mailman-Version: 2.1.29 Precedence: list List-Id: automatic DPDK test reports List-Unsubscribe: , List-Archive: List-Post: List-Help: List-Subscribe: , Errors-To: test-report-bounces@dpdk.org _Testing PASS_ Branch: dpdk 39b54f2dcf44ad1f91eabc7080cd5dea763607fd --> testing pass Upstream job id: Generic-VM-Unit-Test-DPDK#32092 Test environment and result as below: +-------------------------------+----------------+ | Environment | dpdk_unit_test | +===============================+================+ | Fedora Linux 40 | PASS | +-------------------------------+----------------+ | CentOS Stream 9 | PASS | +-------------------------------+----------------+ | Debian GNU/Linux 12 | PASS | +-------------------------------+----------------+ | Ubuntu 20.04 | PASS | +-------------------------------+----------------+ | Fedora Linux 41 | PASS | +-------------------------------+----------------+ | Fedora Linux 42 | PASS | +-------------------------------+----------------+ | Ubuntu 22.04 | PASS | +-------------------------------+----------------+ | Red Hat Enterprise Linux 9.5 | PASS | +-------------------------------+----------------+ | Arch Linux 20250613.0.365270 | PASS | +-------------------------------+----------------+ | Ubuntu 24.04 | PASS | +-------------------------------+----------------+ | Red Hat Enterprise Linux 8.10 | PASS | +-------------------------------+----------------+ | CentOS Stream 10 | PASS | +-------------------------------+----------------+ | Windows Server 2022 | PASS | +-------------------------------+----------------+ Fedora Linux 40 Kernel: 5.15 Compiler: gcc gcc (GCC) 14.2.1 20240912 (Red Hat 14.2.1-3) CentOS Stream 9 Kernel: 5.15 Compiler: gcc gcc (GCC) 11.5.0 20240719 (Red Hat 11.5.0-11) Debian GNU/Linux 12 Kernel: 5.15 Compiler: gcc gcc (Debian 12.2.0-14+deb12u1) 12.2.0 Ubuntu 20.04 Kernel: 5.15 Compiler: gcc gcc (Ubuntu 9.4.0-1ubuntu1~20.04.2) 9.4.0 Fedora Linux 41 Kernel: 5.15 Compiler: gcc gcc (GCC) 14.3.1 20250523 (Red Hat 14.3.1-1) Fedora Linux 42 Kernel: 5.15 Compiler: gcc gcc (GCC) 15.2.1 20250808 (Red Hat 15.2.1-1) Ubuntu 22.04 Kernel: 5.15 Compiler: gcc gcc (Ubuntu 11.4.0-1ubuntu1~22.04) 11.4.0 Red Hat Enterprise Linux 9.5 Kernel: 5.15 Compiler: gcc gcc (GCC) 11.5.0 20240719 (Red Hat 11.5.0-2) Arch Linux 20250613.0.365270 Kernel: 5.15 Compiler: gcc gcc (GCC) 15.1.1 20250425 Ubuntu 24.04 Kernel: 5.15 Compiler: gcc gcc (Ubuntu 13.3.0-6ubuntu2~24.04) 13.3.0 Red Hat Enterprise Linux 8.10 Kernel: 5.15 Compiler: gcc gcc (GCC) 8.5.0 20210514 (Red Hat 8.5.0-22) CentOS Stream 10 Kernel: 5.15 Compiler: gcc gcc (GCC) 14.2.1 20250110 (Red Hat 14.2.1-8) Windows Server 2022 Kernel: 10.0.20348.2031 Compiler: clang 15.0.7, gcc 14.1.0 (MinGW), and MSVC VS 19.39.33521 To view detailed results, visit: https://lab.dpdk.org/results/dashboard/tarballs/35355/ UNH-IOL DPDK Community Lab To manage your email subscriptions, visit: https://lab.dpdk.org/results/dashboard/preferences/subscriptions/