From: dpdklab@iol.unh.edu
To: Test Report <test-report@dpdk.org>
Cc: dpdk-test-reports@iol.unh.edu
Subject: |SUCCESS| [GIT MASTER] 39b54f2dcf44ad1f91eabc7080cd5dea763607fd
Date: Mon, 27 Oct 2025 13:37:52 -0700 (PDT) [thread overview]
Message-ID: <68ffd820.170a0220.267809.3d58SMTPIN_ADDED_MISSING@mx.google.com> (raw)
_Testing PASS_
Branch: dpdk
39b54f2dcf44ad1f91eabc7080cd5dea763607fd --> testing pass
Upstream job id: Generic-Unit-Test-DPDK#385692
Test environment and result as below:
+------------------------------+---------------------------+--------------+----------------+------------------------------+
| Environment | cryptodev_sw_zuc_autotest | lpm_autotest | dpdk_unit_test | cryptodev_sw_snow3g_autotest |
+==============================+===========================+==============+================+==============================+
| Debian 12 (arm) | PASS | SKIPPED | SKIPPED | PASS |
+------------------------------+---------------------------+--------------+----------------+------------------------------+
| Ubuntu 20.04 | SKIPPED | PASS | PASS | SKIPPED |
+------------------------------+---------------------------+--------------+----------------+------------------------------+
| Red Hat Enterprise Linux 9.5 | SKIPPED | SKIPPED | PASS | SKIPPED |
+------------------------------+---------------------------+--------------+----------------+------------------------------+
| Fedora Linux 40 | SKIPPED | SKIPPED | PASS | SKIPPED |
+------------------------------+---------------------------+--------------+----------------+------------------------------+
| Debian GNU/Linux 12 | SKIPPED | SKIPPED | PASS | SKIPPED |
+------------------------------+---------------------------+--------------+----------------+------------------------------+
| Fedora Linux 42 | SKIPPED | SKIPPED | PASS | SKIPPED |
+------------------------------+---------------------------+--------------+----------------+------------------------------+
| Fedora Linux 41 | SKIPPED | SKIPPED | PASS | SKIPPED |
+------------------------------+---------------------------+--------------+----------------+------------------------------+
| CentOS Stream 9 | SKIPPED | SKIPPED | PASS | SKIPPED |
+------------------------------+---------------------------+--------------+----------------+------------------------------+
| Ubuntu 22.04 | SKIPPED | SKIPPED | PASS | SKIPPED |
+------------------------------+---------------------------+--------------+----------------+------------------------------+
| Ubuntu 24.04 | SKIPPED | SKIPPED | PASS | SKIPPED |
+------------------------------+---------------------------+--------------+----------------+------------------------------+
| CentOS Stream 10 | SKIPPED | SKIPPED | PASS | SKIPPED |
+------------------------------+---------------------------+--------------+----------------+------------------------------+
Debian 12 (arm)
Kernel: Depends on container host
Compiler: gcc (Debian 12.2.0-14) 12.2.0
Ubuntu 20.04
Kernel: 5.4
Compiler: gcc gcc (Ubuntu 9.4.0-1ubuntu1~20.04.2) 9.4.0
Red Hat Enterprise Linux 9.5
Kernel: 5.4
Compiler: gcc gcc (GCC) 11.5.0 20240719 (Red Hat 11.5.0-2)
Fedora Linux 40
Kernel: 5.4
Compiler: clang gcc (GCC) 14.2.1 20240912 (Red Hat 14.2.1-3)
Debian GNU/Linux 12
Kernel: 5.4
Compiler: gcc gcc (Debian 12.2.0-14+deb12u1) 12.2.0
Fedora Linux 42
Kernel: 5.4
Compiler: clang gcc (GCC) 15.2.1 20250808 (Red Hat 15.2.1-1)
Fedora Linux 41
Kernel: 5.4
Compiler: clang gcc (GCC) 14.3.1 20250523 (Red Hat 14.3.1-1)
CentOS Stream 9
Kernel: 5.4
Compiler: gcc gcc (GCC) 11.5.0 20240719 (Red Hat 11.5.0-11)
Ubuntu 22.04
Kernel: 5.4
Compiler: gcc gcc (Ubuntu 11.4.0-1ubuntu1~22.04) 11.4.0
Ubuntu 24.04
Kernel: 5.4
Compiler: gcc gcc (Ubuntu 13.3.0-6ubuntu2~24.04) 13.3.0
CentOS Stream 10
Kernel: 5.4
Compiler: gcc gcc (GCC) 14.2.1 20250110 (Red Hat 14.2.1-8)
To view detailed results, visit:
https://lab.dpdk.org/results/dashboard/tarballs/35355/
UNH-IOL DPDK Community Lab
To manage your email subscriptions, visit:
https://lab.dpdk.org/results/dashboard/preferences/subscriptions/
next reply other threads:[~2025-10-27 20:37 UTC|newest]
Thread overview: 34+ messages / expand[flat|nested] mbox.gz Atom feed top
2025-10-27 20:37 dpdklab [this message]
-- strict thread matches above, loose matches on Subject: below --
2025-10-29 12:50 dpdklab
2025-10-29 7:06 dpdklab
2025-10-29 5:48 dpdklab
2025-10-29 5:04 dpdklab
2025-10-29 3:52 dpdklab
2025-10-29 0:44 dpdklab
2025-10-29 0:16 dpdklab
2025-10-28 23:54 dpdklab
2025-10-28 22:18 dpdklab
2025-10-28 19:42 dpdklab
2025-10-28 19:40 dpdklab
2025-10-28 19:36 dpdklab
2025-10-28 19:29 dpdklab
2025-10-28 19:24 dpdklab
2025-10-27 22:33 dpdklab
2025-10-27 21:57 dpdklab
2025-10-27 20:27 dpdklab
2025-10-27 20:22 dpdklab
2025-10-27 20:04 dpdklab
2025-10-27 19:57 dpdklab
2025-10-27 19:41 dpdklab
2025-10-27 19:39 dpdklab
2025-10-27 19:36 dpdklab
2025-10-26 10:40 dpdklab
2025-10-26 7:55 dpdklab
2025-10-26 0:56 dpdklab
2025-10-26 0:55 dpdklab
2025-10-26 0:38 dpdklab
2025-10-26 0:36 dpdklab
2025-10-26 0:35 dpdklab
2025-10-26 0:35 dpdklab
2025-10-26 0:34 dpdklab
2025-10-26 0:30 dpdklab
Reply instructions:
You may reply publicly to this message via plain-text email
using any one of the following methods:
* Save the following mbox file, import it into your mail client,
and reply-to-all from there: mbox
Avoid top-posting and favor interleaved quoting:
https://en.wikipedia.org/wiki/Posting_style#Interleaved_style
* Reply using the --to, --cc, and --in-reply-to
switches of git-send-email(1):
git send-email \
--in-reply-to=68ffd820.170a0220.267809.3d58SMTPIN_ADDED_MISSING@mx.google.com \
--to=dpdklab@iol.unh.edu \
--cc=dpdk-test-reports@iol.unh.edu \
--cc=test-report@dpdk.org \
/path/to/YOUR_REPLY
https://kernel.org/pub/software/scm/git/docs/git-send-email.html
* If your mail client supports setting the In-Reply-To header
via mailto: links, try the mailto: link
Be sure your reply has a Subject: header at the top and a blank line
before the message body.
This is a public inbox, see mirroring instructions
for how to clone and mirror all data and code used for this inbox;
as well as URLs for NNTP newsgroup(s).