From mboxrd@z Thu Jan 1 00:00:00 1970 Return-Path: Received: from mails.dpdk.org (mails.dpdk.org [217.70.189.124]) by inbox.dpdk.org (Postfix) with ESMTP id 23EFA489F0 for ; Mon, 27 Oct 2025 21:37:55 +0100 (CET) Received: from mails.dpdk.org (localhost [127.0.0.1]) by mails.dpdk.org (Postfix) with ESMTP id 11AB94021E; Mon, 27 Oct 2025 21:37:55 +0100 (CET) Received: from mail-pg1-f226.google.com (mail-pg1-f226.google.com [209.85.215.226]) by mails.dpdk.org (Postfix) with ESMTP id D5B084021E for ; Mon, 27 Oct 2025 21:37:53 +0100 (CET) Received: by mail-pg1-f226.google.com with SMTP id 41be03b00d2f7-b6cea3f34ebso3686962a12.0 for ; Mon, 27 Oct 2025 13:37:53 -0700 (PDT) DKIM-Signature: v=1; a=rsa-sha256; c=relaxed/relaxed; d=iol.unh.edu; s=unh-iol; t=1761597473; x=1762202273; darn=dpdk.org; h=cc:to:from:subject:message-id:date:from:to:cc:subject:date :message-id:reply-to; bh=VTg0TezK1a/aYY+tV8F/6YExknS/E2LHlMazXxJwzmk=; b=Xhiz8oOI0GHixxaoOcDbggQqEhFvP6/j0kbZ4nQeCHcnpYLZENQQpJU1mmQaO9iBZM HiF8ZKv21obqcBqPaHvOsOIqYhY1dZtIWZpnyjErjvszzXzivul7j9r9/3mgDwQI4i33 qetFX0syA/yMHOB8XMvOGt31yER/5tuhgngIE= X-Google-DKIM-Signature: v=1; a=rsa-sha256; c=relaxed/relaxed; d=1e100.net; s=20230601; t=1761597473; x=1762202273; h=cc:to:from:subject:message-id:date:x-gm-message-state:from:to:cc :subject:date:message-id:reply-to; bh=VTg0TezK1a/aYY+tV8F/6YExknS/E2LHlMazXxJwzmk=; b=ty+jR9yEtLRP1B8UDGcxsOjJHx8IEX/J6UZDnffpnVtcR5SJwZTyd7Kj3QfgT5Ktwv ip7+ikNUmZwG0lOUFZLHZNVFZI1BBvcL2BpGZnxdvao2IG8MpgftqLALrOCuPmhsBVIc jtAwHwhluRHFOTsw5EOv9JLfQn//IhE1joOKDYPlBj0+1m9TSLsJyyJmx49GEY0m5iPt STRcFE52krB6+dsFS+yI3ecYeEDC9RFx/+sbrDqgVT5jMLat5Wv4yOS1YrC1R20dr38v 2Oo9tWXavVc4fBZBuED+kmTmlzm4Q9CObsxJ2UJRATzOyA0vCpoWYqoFGCx86SWVpbDo oUfQ== X-Gm-Message-State: AOJu0YxYw/XV1JLzqnlu/HEIJD7RY9ekdpXdd8sE+ayldFtZIqL+J6wt XZ6x/wArQTyeq3CA2GeXgfr6Z0SGHz8hBMXDubB0pKwWly7z/xjFZql0flW6EgeLrKxFUuXxZAZ 7r1VrwjReGbOipOVxpBoftF9wzebwRI4HB4VIQwv+DmxqN1Gy/ZRP0GJ2UU2P X-Gm-Gg: ASbGncszsWN9GQZK6bLViCt4GnyMB5HKh02PdxJbRl5M4mohSgWaE0hPAexMAjPS3DM VX++FqiRMzZkRW9Zb3opKVJMRIn9iUiqYKqlw+yDEwYHwa/n/cWqwQ3WxP8yERkFEgQIFXqZZY0 OLIwEth71E4GzR5kXJNSCIjRAaa5cYzHfhIeYh9C0pqKMoYpAFPyKlzEAhfT8Lnmj+iojAffh/I vKv0b4OsjIG41GSYtvMNQq78gj4v5l6DVMdxS9LlJ8LGq+GJ+9qUaUESAogM0um3qBSqVt/ZhdV DrCuIOmG4JuxLWuOlFdSDPaamDe8245kiaemB0LpHlnUqq02Usk+mmseoht6V23z41RRoHHyFss tnYa2xfeU X-Google-Smtp-Source: AGHT+IGxyY82utdfWnm54ERJ8Wc96GNDyTCJMExKcSuuKJ7j0sMwPWLttrlQbswx7LE0zAmQMFmUPzMHTlC9 X-Received: by 2002:a17:902:c945:b0:265:47:a7b0 with SMTP id d9443c01a7336-294cb37b969mr11826965ad.10.1761597472844; Mon, 27 Oct 2025 13:37:52 -0700 (PDT) Received: from postal.iol.unh.edu (postal.iol.unh.edu. [2606:4100:3880:1234::84]) by smtp-relay.gmail.com with ESMTPS id d9443c01a7336-29498e4114esm7875825ad.54.2025.10.27.13.37.52 (version=TLS1_2 cipher=ECDHE-ECDSA-AES128-GCM-SHA256 bits=128/128); Mon, 27 Oct 2025 13:37:52 -0700 (PDT) X-Relaying-Domain: iol.unh.edu Date: Mon, 27 Oct 2025 13:37:52 -0700 (PDT) Message-ID: <68ffd820.170a0220.267809.3d58SMTPIN_ADDED_MISSING@mx.google.com> Received: from [172.21.0.2] (unknown [172.18.0.240]) by postal.iol.unh.edu (Postfix) with ESMTP id 14056604D420; Mon, 27 Oct 2025 16:37:52 -0400 (EDT) Subject: |SUCCESS| [GIT MASTER] 39b54f2dcf44ad1f91eabc7080cd5dea763607fd From: dpdklab@iol.unh.edu To: Test Report Cc: dpdk-test-reports@iol.unh.edu Content-Type: text/plain X-BeenThere: test-report@dpdk.org X-Mailman-Version: 2.1.29 Precedence: list List-Id: automatic DPDK test reports List-Unsubscribe: , List-Archive: List-Post: List-Help: List-Subscribe: , Errors-To: test-report-bounces@dpdk.org _Testing PASS_ Branch: dpdk 39b54f2dcf44ad1f91eabc7080cd5dea763607fd --> testing pass Upstream job id: Generic-Unit-Test-DPDK#385692 Test environment and result as below: +------------------------------+---------------------------+--------------+----------------+------------------------------+ | Environment | cryptodev_sw_zuc_autotest | lpm_autotest | dpdk_unit_test | cryptodev_sw_snow3g_autotest | +==============================+===========================+==============+================+==============================+ | Debian 12 (arm) | PASS | SKIPPED | SKIPPED | PASS | +------------------------------+---------------------------+--------------+----------------+------------------------------+ | Ubuntu 20.04 | SKIPPED | PASS | PASS | SKIPPED | +------------------------------+---------------------------+--------------+----------------+------------------------------+ | Red Hat Enterprise Linux 9.5 | SKIPPED | SKIPPED | PASS | SKIPPED | +------------------------------+---------------------------+--------------+----------------+------------------------------+ | Fedora Linux 40 | SKIPPED | SKIPPED | PASS | SKIPPED | +------------------------------+---------------------------+--------------+----------------+------------------------------+ | Debian GNU/Linux 12 | SKIPPED | SKIPPED | PASS | SKIPPED | +------------------------------+---------------------------+--------------+----------------+------------------------------+ | Fedora Linux 42 | SKIPPED | SKIPPED | PASS | SKIPPED | +------------------------------+---------------------------+--------------+----------------+------------------------------+ | Fedora Linux 41 | SKIPPED | SKIPPED | PASS | SKIPPED | +------------------------------+---------------------------+--------------+----------------+------------------------------+ | CentOS Stream 9 | SKIPPED | SKIPPED | PASS | SKIPPED | +------------------------------+---------------------------+--------------+----------------+------------------------------+ | Ubuntu 22.04 | SKIPPED | SKIPPED | PASS | SKIPPED | +------------------------------+---------------------------+--------------+----------------+------------------------------+ | Ubuntu 24.04 | SKIPPED | SKIPPED | PASS | SKIPPED | +------------------------------+---------------------------+--------------+----------------+------------------------------+ | CentOS Stream 10 | SKIPPED | SKIPPED | PASS | SKIPPED | +------------------------------+---------------------------+--------------+----------------+------------------------------+ Debian 12 (arm) Kernel: Depends on container host Compiler: gcc (Debian 12.2.0-14) 12.2.0 Ubuntu 20.04 Kernel: 5.4 Compiler: gcc gcc (Ubuntu 9.4.0-1ubuntu1~20.04.2) 9.4.0 Red Hat Enterprise Linux 9.5 Kernel: 5.4 Compiler: gcc gcc (GCC) 11.5.0 20240719 (Red Hat 11.5.0-2) Fedora Linux 40 Kernel: 5.4 Compiler: clang gcc (GCC) 14.2.1 20240912 (Red Hat 14.2.1-3) Debian GNU/Linux 12 Kernel: 5.4 Compiler: gcc gcc (Debian 12.2.0-14+deb12u1) 12.2.0 Fedora Linux 42 Kernel: 5.4 Compiler: clang gcc (GCC) 15.2.1 20250808 (Red Hat 15.2.1-1) Fedora Linux 41 Kernel: 5.4 Compiler: clang gcc (GCC) 14.3.1 20250523 (Red Hat 14.3.1-1) CentOS Stream 9 Kernel: 5.4 Compiler: gcc gcc (GCC) 11.5.0 20240719 (Red Hat 11.5.0-11) Ubuntu 22.04 Kernel: 5.4 Compiler: gcc gcc (Ubuntu 11.4.0-1ubuntu1~22.04) 11.4.0 Ubuntu 24.04 Kernel: 5.4 Compiler: gcc gcc (Ubuntu 13.3.0-6ubuntu2~24.04) 13.3.0 CentOS Stream 10 Kernel: 5.4 Compiler: gcc gcc (GCC) 14.2.1 20250110 (Red Hat 14.2.1-8) To view detailed results, visit: https://lab.dpdk.org/results/dashboard/tarballs/35355/ UNH-IOL DPDK Community Lab To manage your email subscriptions, visit: https://lab.dpdk.org/results/dashboard/preferences/subscriptions/