From mboxrd@z Thu Jan 1 00:00:00 1970 Return-Path: Received: from mails.dpdk.org (mails.dpdk.org [217.70.189.124]) by inbox.dpdk.org (Postfix) with ESMTP id E6EE9489E6 for ; Mon, 27 Oct 2025 23:33:04 +0100 (CET) Received: from mails.dpdk.org (localhost [127.0.0.1]) by mails.dpdk.org (Postfix) with ESMTP id E001E4021E; Mon, 27 Oct 2025 23:33:04 +0100 (CET) Received: from mail-yw1-f225.google.com (mail-yw1-f225.google.com [209.85.128.225]) by mails.dpdk.org (Postfix) with ESMTP id F1CCB4021E for ; Mon, 27 Oct 2025 23:33:02 +0100 (CET) Received: by mail-yw1-f225.google.com with SMTP id 00721157ae682-785bf425f96so73462657b3.1 for ; Mon, 27 Oct 2025 15:33:02 -0700 (PDT) DKIM-Signature: v=1; a=rsa-sha256; c=relaxed/relaxed; d=iol.unh.edu; s=unh-iol; t=1761604382; x=1762209182; darn=dpdk.org; h=cc:to:from:subject:message-id:date:from:to:cc:subject:date :message-id:reply-to; bh=rfVs4fL1oVOHK0e7+HKS3MAy1h3Je6tDpjTfKfE4bfY=; b=Szb6Qv1zHOqv8QznEzaAcSkyyPVr/wL5Td9+hpQ2Rve+qkj6bc8CciE+JQx/kK9Rkt FEEwTWDhafwPZmfOrgihQmDbZifx/HK7C5FZ7U32mozTiOJoZ5SH+gCNLDlEkxJhAeZO IE6GDUjcglbrdYK5h97rb/gGPdvnzD/9HZdi0= X-Google-DKIM-Signature: v=1; a=rsa-sha256; c=relaxed/relaxed; d=1e100.net; s=20230601; t=1761604382; x=1762209182; h=cc:to:from:subject:message-id:date:x-gm-message-state:from:to:cc :subject:date:message-id:reply-to; bh=rfVs4fL1oVOHK0e7+HKS3MAy1h3Je6tDpjTfKfE4bfY=; b=mCdbf+ETbSDJvAr8Y2oWl2S8/uh5yd5L5uKH2deo1lUzcrwZcXmMyDSuuFkQDqInz5 M3MP1ueWofTLINzxYlfqWrKpBcf6GAe4u4YaFUGlgMxfylI0/vcxjYf92e2DWn30vP01 96gLwRomn9uSdTVDRkuNLWiRG3kghmwzpViBHf8fVTztcDzhfO8zfSoWC4UBIQ2OWbNv E8bbe+lVp+7B4YQod1pza62pdCWvuQ1pZfvc6pSoKeA4FiJ0yNRl/BIUcWS+sIhyF+aB 4yFuGzKaQUqfatCJ54ugZGE3RqH7ctxZEiliPl2fgVo4seUNhcl3ao0BzarHTW9V0h6l 9ChQ== X-Gm-Message-State: AOJu0YyBn3cnJaCNT6y2FRwGbIEGxGf2qhqLoxTL3ba+AvU5TcazHQAw 3ByhmZSkevBtXvmu5I1Y+kkXCexaLXCNZw2uFLdGR8QtcmiEgcnG66HJuOKVdW3iGki89a8Ujii 2402+kmSyMKA/+enVIBPerU4YZC9J/p90bMW5jOeaqAoQ X-Gm-Gg: ASbGncvBaAzui5XVxGyArD8GEWnFmikyYCiyxVGz/OqLHx88UqyBtWVhn5xXlEUBbKE 7uxxeKbLLcjg9iAtc0yvx9v8MqLYm7gYZRH8dbRrLvnlntOiPsd2VFIQlM/XTGbi0y6o+uKjIuB q6i/g4BPnAUi+RtDUAX/KOT/XzzUActduQPAn2iXcJ/UdHxm0oYtFaHvu9WPD7a0LFi32ORZgHr CI8xo+F1AmQ6UwfIUcQcCfvx57+sbPRDUcOQ4WTFu9wTO0q8V1CKl+Vwi/EZWVwT4j1DLDj9qAE DBXSWNlGnHnY6rGxWlgobKoSs5Hmc0z6tbNWpGyeJRht4+mJ9Yjys3ko2OKEISGBe26uyACGZc+ MkP5YT+E11VEn4MasjA/w7bGrRSqgR/0= X-Google-Smtp-Source: AGHT+IEKJ/+JlMn1fVhsB3QevCxxY1fPDTYJvQsMAaNZ615fJ9rlAXbP16/XdbHccBXzWvEN57L2WlfuX6cE X-Received: by 2002:a05:690c:ec3:b0:784:ab3d:dff0 with SMTP id 00721157ae682-786191ac8femr10597747b3.27.1761604382266; Mon, 27 Oct 2025 15:33:02 -0700 (PDT) Received: from postal.iol.unh.edu (postal.iol.unh.edu. [132.177.123.84]) by smtp-relay.gmail.com with ESMTPS id 00721157ae682-785ed197264sm6413557b3.15.2025.10.27.15.33.02 (version=TLS1_2 cipher=ECDHE-ECDSA-AES128-GCM-SHA256 bits=128/128); Mon, 27 Oct 2025 15:33:02 -0700 (PDT) X-Relaying-Domain: iol.unh.edu Date: Mon, 27 Oct 2025 15:33:02 -0700 (PDT) Message-ID: <68fff31e.050a0220.287aae.d2f0SMTPIN_ADDED_MISSING@mx.google.com> Received: from [172.21.0.3] (unknown [172.18.0.240]) by postal.iol.unh.edu (Postfix) with ESMTP id DE8FD604D420; Mon, 27 Oct 2025 18:33:01 -0400 (EDT) Subject: |SUCCESS| [GIT MASTER] 39b54f2dcf44ad1f91eabc7080cd5dea763607fd From: dpdklab@iol.unh.edu To: Test Report Cc: dpdk-test-reports@iol.unh.edu Content-Type: text/plain X-BeenThere: test-report@dpdk.org X-Mailman-Version: 2.1.29 Precedence: list List-Id: automatic DPDK test reports List-Unsubscribe: , List-Archive: List-Post: List-Help: List-Subscribe: , Errors-To: test-report-bounces@dpdk.org _Testing PASS_ Branch: dpdk 39b54f2dcf44ad1f91eabc7080cd5dea763607fd --> testing pass Upstream job id: Generic-DPDK-Compile-Meson#438141 Test environment and result as below: +------------------------------+--------------------+ | Environment | dpdk_meson_compile | +==============================+====================+ | Red Hat Enterprise Linux 9.5 | PASS | +------------------------------+--------------------+ | Debian GNU/Linux 12 | PASS | +------------------------------+--------------------+ | Ubuntu 20.04 | PASS | +------------------------------+--------------------+ | Fedora Linux 42 | PASS | +------------------------------+--------------------+ | Ubuntu 22.04 | PASS | +------------------------------+--------------------+ | CentOS Stream 9 | PASS | +------------------------------+--------------------+ | Ubuntu 24.04 | PASS | +------------------------------+--------------------+ | CentOS Stream 10 | PASS | +------------------------------+--------------------+ Red Hat Enterprise Linux 9.5 Kernel: 5.4 Compiler: gcc gcc (GCC) 11.5.0 20240719 (Red Hat 11.5.0-2) Debian GNU/Linux 12 Kernel: 5.4 Compiler: gcc gcc (Debian 12.2.0-14+deb12u1) 12.2.0 Ubuntu 20.04 Kernel: 5.15 Compiler: aarch64-linux-gnu-gcc gcc (Ubuntu 9.4.0-1ubuntu1~20.04.2) 9.4.0 Fedora Linux 42 Kernel: 5.4 Compiler: clang gcc (GCC) 15.2.1 20250808 (Red Hat 15.2.1-1) Ubuntu 22.04 Kernel: 5.4 Compiler: gcc gcc (Ubuntu 11.4.0-1ubuntu1~22.04) 11.4.0 CentOS Stream 9 Kernel: 5.4 Compiler: gcc gcc (GCC) 11.5.0 20240719 (Red Hat 11.5.0-11) Ubuntu 24.04 Kernel: 5.4 Compiler: gcc gcc (Ubuntu 13.3.0-6ubuntu2~24.04) 13.3.0 CentOS Stream 10 Kernel: 5.4 Compiler: gcc gcc (GCC) 14.2.1 20250110 (Red Hat 14.2.1-8) To view detailed results, visit: https://lab.dpdk.org/results/dashboard/tarballs/35355/ UNH-IOL DPDK Community Lab To manage your email subscriptions, visit: https://lab.dpdk.org/results/dashboard/preferences/subscriptions/