From mboxrd@z Thu Jan 1 00:00:00 1970 Return-Path: Received: from mails.dpdk.org (mails.dpdk.org [217.70.189.124]) by inbox.dpdk.org (Postfix) with ESMTP id 45BAD489F7 for ; Tue, 28 Oct 2025 00:30:21 +0100 (CET) Received: from mails.dpdk.org (localhost [127.0.0.1]) by mails.dpdk.org (Postfix) with ESMTP id 18AC04021E; Tue, 28 Oct 2025 00:30:21 +0100 (CET) Received: from mail-pf1-f226.google.com (mail-pf1-f226.google.com [209.85.210.226]) by mails.dpdk.org (Postfix) with ESMTP id D74C64021E for ; Tue, 28 Oct 2025 00:30:19 +0100 (CET) Received: by mail-pf1-f226.google.com with SMTP id d2e1a72fcca58-7833765433cso6616066b3a.0 for ; Mon, 27 Oct 2025 16:30:19 -0700 (PDT) DKIM-Signature: v=1; a=rsa-sha256; c=relaxed/relaxed; d=iol.unh.edu; s=unh-iol; t=1761607819; x=1762212619; darn=dpdk.org; h=references:in-reply-to:cc:to:from:subject:message-id:date:from:to :cc:subject:date:message-id:reply-to; bh=OFy8nTHIXDbdTtqa62a6N+TYmPyIwJf0H21Vzc0WZu0=; b=dCdsVmLAubJYz+zjqV5goUG+AH7iw32EZnMvYRVXQe+aUlSE2tk4Z/HflOVLugwltZ Zq/pPuP1KKjk//hY9+WEvtI/0jUnPku+kb+1rbCuxXHX+qIilf2Flp1FsYKEXyypD9kL 1DW6fg6XPUe+VEAGxKVrPqtqCXCgq0AK9APaM= X-Google-DKIM-Signature: v=1; a=rsa-sha256; c=relaxed/relaxed; d=1e100.net; s=20230601; t=1761607819; x=1762212619; h=references:in-reply-to:cc:to:from:subject:message-id:date :x-gm-message-state:from:to:cc:subject:date:message-id:reply-to; bh=OFy8nTHIXDbdTtqa62a6N+TYmPyIwJf0H21Vzc0WZu0=; b=M3KwkDG4pSnX3dEI/HPNm3fmeey3ckfp3wgG7/cHgEnZ1iT8yi9XRStwCeGLY/7KuO ueI+Igxo2NDkZjfJxHimIaW/dbkZXGBjuqSzjqmqIOlcG8pj71tV3pgRyk4goTQUzdT/ VMgP8ss6fN2tzFnJBilqD+EXahAuo5YtdGXcZ3pYAH+VPzk31mBFzNbyNonV3c+FadrJ HvOqHxSldfVhNI7251QaBZS7zXfKidOeRghokANBUD5zci/irFXRHphjNiiite0B0SuT vSfTt7W96tt5ae5X746W2YN/FHa5DnDWw7hcGXwHstFY4Vj5HZsCwwUvZ8kZ8tGgazA4 VaYA== X-Gm-Message-State: AOJu0YzfAAkSgBiuX1BtTckoLYpLysX4sYWzNaJeOeWINu0HrmVP5d6x hXq1A5UA0yOb4f6QU/S0bMdyIDTks1u220YFxjquWPvQHjrzG5iD9zGE8/U1E9YC73DjJd/P8o2 2P+Ku2sjBSVaZB58Mtrel3p2OinWar7rhNKMByxO85cTh X-Gm-Gg: ASbGncs0HPLzNKAblXxi5Tv8wCHxAVvFFpx4wSpsZcrQxy/TmjDr8sKGiaW7kzonT6+ rEl7AjBmOPB1xzsY+QQRQNYuuknVGQm/AzZvSRSkTH+bRT14ekpjQx60uaFhGtBQI0pokpOjf21 sYmp69IKZ0MTfkccGLLtlbdTNbskSp6MeGfwA7qZGhQ1h+caoKHJAmH9a9BQx/QDlAvptPvgz+H AQvIYtO/MFej3Ysx77PFfOnTI1LKI3HMCKNZDJ5OKcZmgHC0RmIEhyZtHftN5G6siLyAg8NcfmG KwQXeDlX9k9rCvb33xzPVsyQgWI1cIu9OpK9PbJJxuw5nHdPYL8Vb6B9McSXuPApZf6cwoPw4Lx t9wbP0VCWajxGI483/PW3RjxhS9pdbmU= X-Google-Smtp-Source: AGHT+IEYKoG6ZTKYm4LHPFLouBzMuAR4G6JsTl36TTUN+B7LXp2/YR8wrt0VQe6hO6jCME8NqzjR5VOh0twy X-Received: by 2002:aa7:88c7:0:b0:781:4ec:4ec4 with SMTP id d2e1a72fcca58-7a441c5ff4bmr1922584b3a.31.1761607818926; Mon, 27 Oct 2025 16:30:18 -0700 (PDT) Received: from postal.iol.unh.edu (postal.iol.unh.edu. [132.177.123.84]) by smtp-relay.gmail.com with ESMTPS id d2e1a72fcca58-7a41408a4ddsm607524b3a.5.2025.10.27.16.30.18 (version=TLS1_2 cipher=ECDHE-ECDSA-AES128-GCM-SHA256 bits=128/128); Mon, 27 Oct 2025 16:30:18 -0700 (PDT) X-Relaying-Domain: iol.unh.edu Date: Mon, 27 Oct 2025 16:30:18 -0700 (PDT) Message-ID: <6900008a.050a0220.1a4e06.cab5SMTPIN_ADDED_MISSING@mx.google.com> Received: from [172.21.0.2] (unknown [172.18.0.240]) by postal.iol.unh.edu (Postfix) with ESMTP id 278076051830; Mon, 27 Oct 2025 19:30:18 -0400 (EDT) Subject: |WARNING| pw158164-158166 [PATCH] [v3,3/3] net/tap: detect namespace From: dpdklab@iol.unh.edu To: Test Report Cc: dpdk-test-reports@iol.unh.edu, Stephen Hemminger In-Reply-To: <20251027221622.494080-8-rjarry@redhat.com> References: <20251027221622.494080-8-rjarry@redhat.com> Content-Type: text/plain X-BeenThere: test-report@dpdk.org X-Mailman-Version: 2.1.29 Precedence: list List-Id: automatic DPDK test reports List-Unsubscribe: , List-Archive: List-Post: List-Help: List-Subscribe: , Errors-To: test-report-bounces@dpdk.org Test-Label: iol-compile-amd64-testing Test-Status: WARNING http://dpdk.org/patch/158166 _Testing issues_ Submitter: Robin Jarry Date: Monday, October 27 2025 22:16:25 DPDK git baseline: Repo:dpdk-next-net Branch: master CommitID:11a6a4b1f19140ac3a57ace844be3cba00c39eaa 158164-158166 --> testing issues Upstream job id: Windows-Compile-DPDK-Native#31919 Test environment and result as below: +-------------------------------+--------------------+-------------------+------------------+-------------------+-------------------------+ | Environment | dpdk_meson_compile | dpdk_compile_spdk | dpdk_compile_ovs | dpdk_msvc_compile | dpdk_llvm_clang_compile | +===============================+====================+===================+==================+===================+=========================+ | CentOS Stream 9 | PASS | WARN | SKIPPED | SKIPPED | SKIPPED | +-------------------------------+--------------------+-------------------+------------------+-------------------+-------------------------+ | Debian GNU/Linux 12 | PASS | WARN | SKIPPED | SKIPPED | SKIPPED | +-------------------------------+--------------------+-------------------+------------------+-------------------+-------------------------+ | Ubuntu 20.04 | PASS | SKIPPED | SKIPPED | SKIPPED | SKIPPED | +-------------------------------+--------------------+-------------------+------------------+-------------------+-------------------------+ | Red Hat Enterprise Linux 8.10 | PASS | SKIPPED | SKIPPED | SKIPPED | SKIPPED | +-------------------------------+--------------------+-------------------+------------------+-------------------+-------------------------+ | CentOS Stream 10 | PASS | SKIPPED | SKIPPED | SKIPPED | SKIPPED | +-------------------------------+--------------------+-------------------+------------------+-------------------+-------------------------+ | Fedora Linux 42 | PASS | WARN | PASS | SKIPPED | SKIPPED | +-------------------------------+--------------------+-------------------+------------------+-------------------+-------------------------+ | Ubuntu 24.04 | PASS | WARN | PASS | SKIPPED | SKIPPED | +-------------------------------+--------------------+-------------------+------------------+-------------------+-------------------------+ | openSUSE Leap 15.6 | PASS | SKIPPED | SKIPPED | SKIPPED | SKIPPED | +-------------------------------+--------------------+-------------------+------------------+-------------------+-------------------------+ | Red Hat Enterprise Linux 9.5 | PASS | SKIPPED | SKIPPED | SKIPPED | SKIPPED | +-------------------------------+--------------------+-------------------+------------------+-------------------+-------------------------+ | FreeBSD 14.2 | PASS | SKIPPED | SKIPPED | SKIPPED | SKIPPED | +-------------------------------+--------------------+-------------------+------------------+-------------------+-------------------------+ | Ubuntu 22.04 | PASS | WARN | SKIPPED | SKIPPED | SKIPPED | +-------------------------------+--------------------+-------------------+------------------+-------------------+-------------------------+ | Alpine Linux 3.22.0 | PASS | SKIPPED | SKIPPED | SKIPPED | SKIPPED | +-------------------------------+--------------------+-------------------+------------------+-------------------+-------------------------+ | Windows Server 2022 | SKIPPED | SKIPPED | SKIPPED | PASS | PASS | +-------------------------------+--------------------+-------------------+------------------+-------------------+-------------------------+ ==== 20 line log output for Ubuntu 22.04 (dpdk_compile_spdk): ==== --- Failed to get log output --- ==== End log output ==== CentOS Stream 9 Kernel: 5.15 Compiler: gcc gcc (GCC) 11.5.0 20240719 (Red Hat 11.5.0-11) Debian GNU/Linux 12 Kernel: 5.15 Compiler: gcc gcc (Debian 12.2.0-14+deb12u1) 12.2.0 Ubuntu 20.04 Kernel: 4.19 Compiler: gcc gcc (Ubuntu 9.4.0-1ubuntu1~20.04.2) 9.4.0 Red Hat Enterprise Linux 8.10 Kernel: 5.15 Compiler: gcc gcc (GCC) 8.5.0 20210514 (Red Hat 8.5.0-22) CentOS Stream 10 Kernel: 5.15 Compiler: gcc gcc (GCC) 14.2.1 20250110 (Red Hat 14.2.1-8) Fedora Linux 42 Kernel: 5.15 Compiler: gcc gcc (GCC) 15.2.1 20250808 (Red Hat 15.2.1-1) Ubuntu 24.04 Kernel: 5.15 Compiler: gcc gcc (Ubuntu 13.3.0-6ubuntu2~24.04) 13.3.0 openSUSE Leap 15.6 Kernel: 5.15 Compiler: gcc gcc (SUSE Linux) 7.5.0 Red Hat Enterprise Linux 9.5 Kernel: 5.15 Compiler: gcc gcc (GCC) 11.5.0 20240719 (Red Hat 11.5.0-2) FreeBSD 14.2 Kernel: 14.2-RELEASE Compiler: clang 18.1.6 Ubuntu 22.04 Kernel: 5.15 Compiler: gcc gcc (Ubuntu 11.4.0-1ubuntu1~22.04) 11.4.0 Alpine Linux 3.22.0 Kernel: 5.15 Compiler: gcc gcc (Alpine 14.2.0) 14.2.0 Windows Server 2022 Kernel: 10.0.20348.2031 Compiler: clang 15.0.7, gcc 14.1.0 (MinGW), and MSVC VS 19.39.33521 To view detailed results, visit: https://lab.dpdk.org/results/dashboard/patchsets/34389/ UNH-IOL DPDK Community Lab To manage your email subscriptions, visit: https://lab.dpdk.org/results/dashboard/preferences/subscriptions/