From mboxrd@z Thu Jan 1 00:00:00 1970 Return-Path: Received: from mails.dpdk.org (mails.dpdk.org [217.70.189.124]) by inbox.dpdk.org (Postfix) with ESMTP id 15DF4489F9 for ; Tue, 28 Oct 2025 00:38:28 +0100 (CET) Received: from mails.dpdk.org (localhost [127.0.0.1]) by mails.dpdk.org (Postfix) with ESMTP id 0D5C04021E; Tue, 28 Oct 2025 00:38:28 +0100 (CET) Received: from mail-oo1-f98.google.com (mail-oo1-f98.google.com [209.85.161.98]) by mails.dpdk.org (Postfix) with ESMTP id E99154021E for ; Tue, 28 Oct 2025 00:38:26 +0100 (CET) Received: by mail-oo1-f98.google.com with SMTP id 006d021491bc7-654ee10146aso849179eaf.3 for ; Mon, 27 Oct 2025 16:38:26 -0700 (PDT) DKIM-Signature: v=1; a=rsa-sha256; c=relaxed/relaxed; d=iol.unh.edu; s=unh-iol; t=1761608306; x=1762213106; darn=dpdk.org; h=references:in-reply-to:cc:to:from:subject:message-id:date:from:to :cc:subject:date:message-id:reply-to; bh=7noRx6V33p4hMkUV7TUYrjP5sbQRYEilFpl/CTrhhAk=; b=VuOFw+O3el/xhPyawXZiOa3C/gag76xBfTmqPpMzfSREYGUam1U0b47KjAbWdrQoYq c9LYSANdywqLV5KOPQLteiGzG0VhdB7gGsJK5RV4PbYvE7PEq2HWshH620jqmha23Db4 jK8IDGt+bmrlOlmxUeiVvANjZm6zWDNL/hbDk= X-Google-DKIM-Signature: v=1; a=rsa-sha256; c=relaxed/relaxed; d=1e100.net; s=20230601; t=1761608306; x=1762213106; h=references:in-reply-to:cc:to:from:subject:message-id:date :x-gm-message-state:from:to:cc:subject:date:message-id:reply-to; bh=7noRx6V33p4hMkUV7TUYrjP5sbQRYEilFpl/CTrhhAk=; b=Ji3BAlwzAC1rP3r7Xna+QQQcaEz6j28woCBmoMzeBhNhaGj5ki/JdAFC0blPA3wZMe awK5jZUmta15UHrgsuGyejoQAa3hyElrflAL+xyFT7r+x1cY7TTETRfwr+GRUGkH6hqD IQgjilKyYrP6jGZNEQ19RRW09Trz1aPMoCJl89UmEbgtPivIrBjThkoioBzIMp8MMkJH IlEAc+IkfXHRgbOLUiBDkj9po1oYbYiT0TyWn7tnUtqHeW30PlEpP3K8DUB9z17Dl0b6 YEc6hH4MDcVxsb2wSMoMCkkZyK162YwwYQ0nmkm9t++Ygr6/cOiUzCcdU6ugEevw0JXK 0pKA== X-Gm-Message-State: AOJu0YydRpzMrxkgx0iribbkr82vt6A7evw2UoS0jyvYrgahUSEBy5zj WZQ0CfOxkwi+G4+poLK3uCqmHJB4hsvB7d21eFUdzlWm5ASCNp0cI7taX8VKpIUVw3G+qzC48JZ GnJT58XZobKg731WkFv2wjd6DSt3nLYfifjCvTuQwaZRzBE7tXIXfLvL646kz X-Gm-Gg: ASbGnctIdd1Ssf1DL5Q3+QcwnXP79S/zrVRrQ3JfqBAoWSedCf04V04H04+HJhtJNom 67FsHIJAnl7gdIT6/0uIkv0fWHOhnkApuTx535G1ZMERNv6gTBuGCXrtfynTFMA/EEoWDcAk31g wI4NzufiMF9UofDUYui6v9LNUMytN022I/Qs8XDzNcLmhJ8fABQYyMyktfRWKJoQwltKWuPefTu kXnpMcfmwnfZDRhm7tUENxdjIb8o4RnpYye5KPx8pf5YWQpjewDqptV0amGmjLaidJ6fvRG5qNt qdC2CsMBl+nVZi185TYI+0TdQyDeAOcgzqyjWdOwo6WHX+TlbJyA1Fw7SyfoxfpxAExIGMkmpR3 FOezoFdUo X-Google-Smtp-Source: AGHT+IGN7XTQRoHClbj/WvcMa9skAAUgxfjos7M7NNj6iLTbwgnMcQW2iIjLysU9uXntS4su1dVPwR3TG4eq X-Received: by 2002:a05:6808:1a0d:b0:44d:bd1a:c68b with SMTP id 5614622812f47-44f6bb73743mr720372b6e.63.1761608306052; Mon, 27 Oct 2025 16:38:26 -0700 (PDT) Received: from postal.iol.unh.edu (postal.iol.unh.edu. [2606:4100:3880:1234::84]) by smtp-relay.gmail.com with ESMTPS id 006d021491bc7-654ef2a3555sm201538eaf.6.2025.10.27.16.38.25 (version=TLS1_2 cipher=ECDHE-ECDSA-AES128-GCM-SHA256 bits=128/128); Mon, 27 Oct 2025 16:38:26 -0700 (PDT) X-Relaying-Domain: iol.unh.edu Date: Mon, 27 Oct 2025 16:38:26 -0700 (PDT) Message-ID: <69000272.050a0220.9a1f2.92d7SMTPIN_ADDED_MISSING@mx.google.com> Received: from [172.21.0.2] (unknown [172.18.0.240]) by postal.iol.unh.edu (Postfix) with ESMTP id 872856051830; Mon, 27 Oct 2025 19:38:25 -0400 (EDT) Subject: |SUCCESS| pw158164-158166 [PATCH] [v3,3/3] net/tap: detect namespace From: dpdklab@iol.unh.edu To: Test Report Cc: dpdk-test-reports@iol.unh.edu, Stephen Hemminger In-Reply-To: <20251027221622.494080-8-rjarry@redhat.com> References: <20251027221622.494080-8-rjarry@redhat.com> Content-Type: text/plain X-BeenThere: test-report@dpdk.org X-Mailman-Version: 2.1.29 Precedence: list List-Id: automatic DPDK test reports List-Unsubscribe: , List-Archive: List-Post: List-Help: List-Subscribe: , Errors-To: test-report-bounces@dpdk.org Test-Label: iol-unit-amd64-testing Test-Status: SUCCESS http://dpdk.org/patch/158166 _Testing PASS_ Submitter: Robin Jarry Date: Monday, October 27 2025 22:16:25 DPDK git baseline: Repo:dpdk-next-net Branch: master CommitID:11a6a4b1f19140ac3a57ace844be3cba00c39eaa 158164-158166 --> testing pass Upstream job id: Generic-VM-Unit-Test-DPDK#32093 Test environment and result as below: +-------------------------------+----------------+ | Environment | dpdk_unit_test | +===============================+================+ | Fedora Linux 40 | PASS | +-------------------------------+----------------+ | Ubuntu 24.04 | PASS | +-------------------------------+----------------+ | Ubuntu 20.04 | PASS | +-------------------------------+----------------+ | CentOS Stream 10 | PASS | +-------------------------------+----------------+ | Debian GNU/Linux 12 | PASS | +-------------------------------+----------------+ | Fedora Linux 41 | PASS | +-------------------------------+----------------+ | CentOS Stream 9 | PASS | +-------------------------------+----------------+ | Ubuntu 22.04 | PASS | +-------------------------------+----------------+ | Fedora Linux 42 | PASS | +-------------------------------+----------------+ | Red Hat Enterprise Linux 8.10 | PASS | +-------------------------------+----------------+ | Red Hat Enterprise Linux 9.5 | PASS | +-------------------------------+----------------+ | Windows Server 2022 | PASS | +-------------------------------+----------------+ Fedora Linux 40 Kernel: 5.15 Compiler: clang gcc (GCC) 14.2.1 20240912 (Red Hat 14.2.1-3) Ubuntu 24.04 Kernel: 5.15 Compiler: gcc gcc (Ubuntu 13.3.0-6ubuntu2~24.04) 13.3.0 Ubuntu 20.04 Kernel: 5.15 Compiler: gcc gcc (Ubuntu 9.4.0-1ubuntu1~20.04.2) 9.4.0 CentOS Stream 10 Kernel: 5.15 Compiler: gcc gcc (GCC) 14.2.1 20250110 (Red Hat 14.2.1-8) Debian GNU/Linux 12 Kernel: 5.15 Compiler: gcc gcc (Debian 12.2.0-14+deb12u1) 12.2.0 Fedora Linux 41 Kernel: 5.15 Compiler: gcc gcc (GCC) 14.3.1 20250523 (Red Hat 14.3.1-1) CentOS Stream 9 Kernel: 5.15 Compiler: gcc gcc (GCC) 11.5.0 20240719 (Red Hat 11.5.0-11) Ubuntu 22.04 Kernel: 5.15 Compiler: gcc gcc (Ubuntu 11.4.0-1ubuntu1~22.04) 11.4.0 Fedora Linux 42 Kernel: 5.15 Compiler: gcc gcc (GCC) 15.2.1 20250808 (Red Hat 15.2.1-1) Red Hat Enterprise Linux 8.10 Kernel: 5.15 Compiler: gcc gcc (GCC) 8.5.0 20210514 (Red Hat 8.5.0-22) Red Hat Enterprise Linux 9.5 Kernel: 5.15 Compiler: gcc gcc (GCC) 11.5.0 20240719 (Red Hat 11.5.0-2) Windows Server 2022 Kernel: 10.0.20348.2031 Compiler: clang 15.0.7, gcc 14.1.0 (MinGW), and MSVC VS 19.39.33521 To view detailed results, visit: https://lab.dpdk.org/results/dashboard/patchsets/34389/ UNH-IOL DPDK Community Lab To manage your email subscriptions, visit: https://lab.dpdk.org/results/dashboard/preferences/subscriptions/