From mboxrd@z Thu Jan 1 00:00:00 1970 Return-Path: Received: from mails.dpdk.org (mails.dpdk.org [217.70.189.124]) by inbox.dpdk.org (Postfix) with ESMTP id 39CD9489F9 for ; Tue, 28 Oct 2025 00:39:43 +0100 (CET) Received: from mails.dpdk.org (localhost [127.0.0.1]) by mails.dpdk.org (Postfix) with ESMTP id 334C24021E; Tue, 28 Oct 2025 00:39:43 +0100 (CET) Received: from mail-il1-f226.google.com (mail-il1-f226.google.com [209.85.166.226]) by mails.dpdk.org (Postfix) with ESMTP id 726FD4021E for ; Tue, 28 Oct 2025 00:39:42 +0100 (CET) Received: by mail-il1-f226.google.com with SMTP id e9e14a558f8ab-430e1f19a1aso26955495ab.1 for ; Mon, 27 Oct 2025 16:39:42 -0700 (PDT) DKIM-Signature: v=1; a=rsa-sha256; c=relaxed/relaxed; d=iol.unh.edu; s=unh-iol; t=1761608382; x=1762213182; darn=dpdk.org; h=references:in-reply-to:cc:to:from:subject:message-id:date:from:to :cc:subject:date:message-id:reply-to; bh=skDts7nsss4Jlb/xDjK9IlSXG5eNT87UvduGx0lzjJs=; b=RAescUL/SS4z2g5UJ/zlh+AoGtAFLj6LJOtyxatwCRAytQeWwgpDzseeH+XEgc0p6p QCLICVNDdg8OIZKj39D5joQGKPq6JriWoYZ6X3sy8/9F/xVKXyMhkroLDSX8mai+K3bm ZTFpgqdJoPJTEsO/gxWBQ+amOtn6AmS1H/vQE= X-Google-DKIM-Signature: v=1; a=rsa-sha256; c=relaxed/relaxed; d=1e100.net; s=20230601; t=1761608382; x=1762213182; h=references:in-reply-to:cc:to:from:subject:message-id:date :x-gm-message-state:from:to:cc:subject:date:message-id:reply-to; bh=skDts7nsss4Jlb/xDjK9IlSXG5eNT87UvduGx0lzjJs=; b=FUZ2yCbVdOO2DH6+tpYG+Vi5DlmEGXSiEzezBeyXtqIE/A7BWM388SGQvBfWvfFJW4 hZEHQb71FR+DA8ZMNTDVcM7aZjd4Gh/OEz7tIzq45WMyQbfvuI+4EmZPBX+iH6oH2iOn 0+u5No5z0g59SeZQUZgSd3YYDe1CZ7Nz4SRYpbRnnxOfP/1BgtL7+PaQX/XmgTnyc+Jb 64gSYbwq7DWjtU4QkWbtB3VCgOOWswMhr8YecxVe+y0oNZDsgnLsHDMyh7CVbBHhJUGb DmWJ+yraFB+mkGzVrKK4tGf0FAUESXX8UWRq/RXo/a+0Ora2D3dS+Fxiot0pzXHYUFKV R9UA== X-Gm-Message-State: AOJu0Yy6NYS1gdqCil1W3QNmLHW5SwlHH9f5QAjY/LFee5bu7JPPhVFS 8Ugra1/XmrRwbF2SoFMgiEZCQeZyldEdtCLfpqiXpPTgw2C0/chy94zBd5hv1wztpyoCnJgsaE3 NOpvAUOcygicvm8ko1xXChMO50zkuxMx8thrn0+qPbHBqz7EUnUJhyYfJOe11 X-Gm-Gg: ASbGncua9FzG7EGRpSi2FIMpJs9XsoDjA49vTuAJvNH5eu6jqT3hYiSsRbIruJsNuD4 HZtFKba7+NfcElM/jkoVcMpnhpr6/vUY2uoaQuspC0DSj6AT2ACaL+6cJwpEijyNjIDJSEyZYrY s9Y5V6T1+bNlHBUPnq0pckV7iLQ49nTuinjSV4rYS8PZQgJL6ff9EVD4fXB3RHsxwXyaqAJgZRJ EQT0Vj/utIh7aQlHI5fJpCaWW9E4c1WMd36vbD/ut6WcCGmrl8PHnqlEWu7DFfDyM8ZCctLbTiq jA0YF5EhSpogsQeQQpRIKh7oh0boMnowVvsu2frTSt2Rk/9nHgw7uUp0MOWvWEtsHjdmRkYN6Jt 7gos8aum4 X-Google-Smtp-Source: AGHT+IEq0yBEtLZQAR9EUSMD0qeq1+IbXb6VS/vUiHf/bgciN5BwgBvvhFo/N0VnDB2u3Ps6BnGFCAf+DZr9 X-Received: by 2002:a92:cda5:0:b0:42f:a6b7:922b with SMTP id e9e14a558f8ab-432103d8780mr18033135ab.7.1761608381765; Mon, 27 Oct 2025 16:39:41 -0700 (PDT) Received: from postal.iol.unh.edu (postal.iol.unh.edu. [2606:4100:3880:1234::84]) by smtp-relay.gmail.com with ESMTPS id 8926c6da1cb9f-5aea76ea679sm735571173.7.2025.10.27.16.39.41 (version=TLS1_2 cipher=ECDHE-ECDSA-AES128-GCM-SHA256 bits=128/128); Mon, 27 Oct 2025 16:39:41 -0700 (PDT) X-Relaying-Domain: iol.unh.edu Date: Mon, 27 Oct 2025 16:39:41 -0700 (PDT) Message-ID: <690002bd.050a0220.2aa120.1e1dSMTPIN_ADDED_MISSING@mx.google.com> Received: from [172.21.0.3] (unknown [172.18.0.240]) by postal.iol.unh.edu (Postfix) with ESMTP id 346BF6051830; Mon, 27 Oct 2025 19:39:41 -0400 (EDT) Subject: |WARNING| pw158164-158166 [PATCH] [v3,3/3] net/tap: detect namespace From: dpdklab@iol.unh.edu To: Test Report Cc: dpdk-test-reports@iol.unh.edu, Stephen Hemminger In-Reply-To: <20251027221622.494080-8-rjarry@redhat.com> References: <20251027221622.494080-8-rjarry@redhat.com> Content-Type: text/plain X-BeenThere: test-report@dpdk.org X-Mailman-Version: 2.1.29 Precedence: list List-Id: automatic DPDK test reports List-Unsubscribe: , List-Archive: List-Post: List-Help: List-Subscribe: , Errors-To: test-report-bounces@dpdk.org Test-Label: iol-compile-amd64-testing Test-Status: WARNING http://dpdk.org/patch/158166 _Testing issues_ Submitter: Robin Jarry Date: Monday, October 27 2025 22:16:25 DPDK git baseline: Repo:dpdk-next-net Branch: master CommitID:11a6a4b1f19140ac3a57ace844be3cba00c39eaa 158164-158166 --> testing issues Upstream job id: Windows-Compile-DPDK-Native#31920 Test environment and result as below: +-------------------------------+--------------------+-------------------+------------------+-------------------+-------------------------+----------------------+ | Environment | dpdk_meson_compile | dpdk_compile_spdk | dpdk_compile_ovs | dpdk_msvc_compile | dpdk_llvm_clang_compile | dpdk_mingw64_compile | +===============================+====================+===================+==================+===================+=========================+======================+ | CentOS Stream 9 | PASS | WARN | SKIPPED | SKIPPED | SKIPPED | SKIPPED | +-------------------------------+--------------------+-------------------+------------------+-------------------+-------------------------+----------------------+ | Debian GNU/Linux 12 | PASS | WARN | SKIPPED | SKIPPED | SKIPPED | SKIPPED | +-------------------------------+--------------------+-------------------+------------------+-------------------+-------------------------+----------------------+ | Ubuntu 20.04 | PASS | SKIPPED | SKIPPED | SKIPPED | SKIPPED | SKIPPED | +-------------------------------+--------------------+-------------------+------------------+-------------------+-------------------------+----------------------+ | Red Hat Enterprise Linux 8.10 | PASS | SKIPPED | SKIPPED | SKIPPED | SKIPPED | SKIPPED | +-------------------------------+--------------------+-------------------+------------------+-------------------+-------------------------+----------------------+ | CentOS Stream 10 | PASS | SKIPPED | SKIPPED | SKIPPED | SKIPPED | SKIPPED | +-------------------------------+--------------------+-------------------+------------------+-------------------+-------------------------+----------------------+ | Fedora Linux 42 | PASS | WARN | PASS | SKIPPED | SKIPPED | SKIPPED | +-------------------------------+--------------------+-------------------+------------------+-------------------+-------------------------+----------------------+ | Ubuntu 24.04 | PASS | WARN | PASS | SKIPPED | SKIPPED | SKIPPED | +-------------------------------+--------------------+-------------------+------------------+-------------------+-------------------------+----------------------+ | openSUSE Leap 15.6 | PASS | SKIPPED | SKIPPED | SKIPPED | SKIPPED | SKIPPED | +-------------------------------+--------------------+-------------------+------------------+-------------------+-------------------------+----------------------+ | Red Hat Enterprise Linux 9.5 | PASS | SKIPPED | SKIPPED | SKIPPED | SKIPPED | SKIPPED | +-------------------------------+--------------------+-------------------+------------------+-------------------+-------------------------+----------------------+ | FreeBSD 14.2 | PASS | SKIPPED | SKIPPED | SKIPPED | SKIPPED | SKIPPED | +-------------------------------+--------------------+-------------------+------------------+-------------------+-------------------------+----------------------+ | Ubuntu 22.04 | PASS | WARN | SKIPPED | SKIPPED | SKIPPED | SKIPPED | +-------------------------------+--------------------+-------------------+------------------+-------------------+-------------------------+----------------------+ | Alpine Linux 3.22.0 | PASS | SKIPPED | SKIPPED | SKIPPED | SKIPPED | SKIPPED | +-------------------------------+--------------------+-------------------+------------------+-------------------+-------------------------+----------------------+ | Windows Server 2022 | SKIPPED | SKIPPED | SKIPPED | PASS | PASS | PASS | +-------------------------------+--------------------+-------------------+------------------+-------------------+-------------------------+----------------------+ ==== 20 line log output for Ubuntu 22.04 (dpdk_compile_spdk): ==== --- Failed to get log output --- ==== End log output ==== CentOS Stream 9 Kernel: 5.15 Compiler: gcc gcc (GCC) 11.5.0 20240719 (Red Hat 11.5.0-11) Debian GNU/Linux 12 Kernel: 5.15 Compiler: gcc gcc (Debian 12.2.0-14+deb12u1) 12.2.0 Ubuntu 20.04 Kernel: 4.19 Compiler: gcc gcc (Ubuntu 9.4.0-1ubuntu1~20.04.2) 9.4.0 Red Hat Enterprise Linux 8.10 Kernel: 5.15 Compiler: gcc gcc (GCC) 8.5.0 20210514 (Red Hat 8.5.0-22) CentOS Stream 10 Kernel: 5.15 Compiler: gcc gcc (GCC) 14.2.1 20250110 (Red Hat 14.2.1-8) Fedora Linux 42 Kernel: 5.15 Compiler: gcc gcc (GCC) 15.2.1 20250808 (Red Hat 15.2.1-1) Ubuntu 24.04 Kernel: 5.15 Compiler: gcc gcc (Ubuntu 13.3.0-6ubuntu2~24.04) 13.3.0 openSUSE Leap 15.6 Kernel: 5.15 Compiler: gcc gcc (SUSE Linux) 7.5.0 Red Hat Enterprise Linux 9.5 Kernel: 5.15 Compiler: gcc gcc (GCC) 11.5.0 20240719 (Red Hat 11.5.0-2) FreeBSD 14.2 Kernel: 14.2-RELEASE Compiler: clang 18.1.6 Ubuntu 22.04 Kernel: 5.15 Compiler: gcc gcc (Ubuntu 11.4.0-1ubuntu1~22.04) 11.4.0 Alpine Linux 3.22.0 Kernel: 5.15 Compiler: gcc gcc (Alpine 14.2.0) 14.2.0 Windows Server 2022 Kernel: 10.0.20348.2031 Compiler: clang 15.0.7, gcc 14.1.0 (MinGW), and MSVC VS 19.39.33521 To view detailed results, visit: https://lab.dpdk.org/results/dashboard/patchsets/34389/ UNH-IOL DPDK Community Lab To manage your email subscriptions, visit: https://lab.dpdk.org/results/dashboard/preferences/subscriptions/