From mboxrd@z Thu Jan 1 00:00:00 1970 Return-Path: Received: from mails.dpdk.org (mails.dpdk.org [217.70.189.124]) by inbox.dpdk.org (Postfix) with ESMTP id C24A2489F6 for ; Tue, 28 Oct 2025 00:43:46 +0100 (CET) Received: from mails.dpdk.org (localhost [127.0.0.1]) by mails.dpdk.org (Postfix) with ESMTP id B98074021E; Tue, 28 Oct 2025 00:43:46 +0100 (CET) Received: from mail-io1-f98.google.com (mail-io1-f98.google.com [209.85.166.98]) by mails.dpdk.org (Postfix) with ESMTP id 46FF54021E for ; Tue, 28 Oct 2025 00:43:45 +0100 (CET) Received: by mail-io1-f98.google.com with SMTP id ca18e2360f4ac-93e89a59d68so228853539f.0 for ; Mon, 27 Oct 2025 16:43:45 -0700 (PDT) DKIM-Signature: v=1; a=rsa-sha256; c=relaxed/relaxed; d=iol.unh.edu; s=unh-iol; t=1761608624; x=1762213424; darn=dpdk.org; h=references:in-reply-to:cc:to:from:subject:message-id:date:from:to :cc:subject:date:message-id:reply-to; bh=6SGywpE+DgW0yjys8beZ7+X7Zsf7PjlmMPv3Pt3JD5o=; b=Q+iTJVr+MTg9Gh3WoUSBsC5kD3gfnnCpWtSSV8lU/nN0a10h75n97n6mpXoI07EMbE +6wHSoNZGEy8M13zT4gU96Aok/zkS/BrXw6nsIiOSq4uyZnA6j+uN6VeU9oeRkGpyxu/ t3wdp6QXa4hCweJeJg1xTTCBYtHuhAnZ4ILHg= X-Google-DKIM-Signature: v=1; a=rsa-sha256; c=relaxed/relaxed; d=1e100.net; s=20230601; t=1761608624; x=1762213424; h=references:in-reply-to:cc:to:from:subject:message-id:date :x-gm-message-state:from:to:cc:subject:date:message-id:reply-to; bh=6SGywpE+DgW0yjys8beZ7+X7Zsf7PjlmMPv3Pt3JD5o=; b=EOvmSx/hX/jqBtG6aNfMDDRgssOY24QoaC91SqBTeG/mqi/+lOByNWanXbo7HAI2oL FAA18n0b6zgg/3HOkR84cxE/m6EpqD4GcJD2YuUhJJKuStPTYPNJbCvaqEMCuLvpy6L8 OFnEAKZUQOnzwVGqASXQxi6HphY6pzgBRU5tOMfCERZk8msxVobQmCR+kFGDreYMYvP/ DqVXujzwwBlhNqYSqdQS8RfmfcmqfuQUyeYZF6d3u+4ocHK6HRqGLSWkUdvc+2c3oluB kkd6ToEMN0PIKhzQ5pfB4zGHtUkYMBo7baOl/rl8n2pp06BmnbJ4UAEe62AA3gUjOtLL CovA== X-Gm-Message-State: AOJu0YzBUw53E78TM5nSqI1S73Tdqk6bkMvrSL21it/ZIaat0dDfN94X ccMWcnqhTW6NIScnyHeeEtoU2KfyBEb0Wz1wvX5MAapu94Udh4dvDyVjMTrFO40sgNvbvMVJ8ud 8kjzLHlcQ7R83Mnwg6xHOZTQCy8vR5lFMpfw83tK3Xx3uKW4WMru4N4+j7pJ3 X-Gm-Gg: ASbGncsZ5W0Ao/c9EXjHpohIg/mnj03QAlQal1Dipw7eWKISqibi0/yltyMCGRXNEP/ H/xu9BI9YQgfg+P97fYZrGXXjiFewb1B5GxIOUveLpmk4PdyrIb5kMoba3/eY/qX4juD5Ywxs7o UIvuFhXOel+iLA6GLsm4DkMQ7pvy8ACVxjfOVV3un9Gr5YfUmuLYprf/hYv1q15FTyUkcAcDNfr ERUPOkDOvQZBVuwQTp8gGF39A4VDjY/fAZZj7bpL+hjWjW3uinH46xbeIDon6nSAuZjpJq9vLkJ 0+4d5QrUND+Pfwf+jqHi2UGCqvx/+BnZGi/j0L+RHHa7bV+BhOMK7l4R1oKU1sCYTFIYi+ijN46 Yl4ruzUSu X-Google-Smtp-Source: AGHT+IG1x0tTmtwoDA8TkRcdc9S0tLlOxQ5ob8vWbWoqUX/cUab8a5wb/JtyXZu7AIjBp2ebPN33wiiegr16 X-Received: by 2002:a05:6602:2b12:b0:93e:7d6a:b0fd with SMTP id ca18e2360f4ac-945b8334ceemr282294739f.7.1761608624475; Mon, 27 Oct 2025 16:43:44 -0700 (PDT) Received: from postal.iol.unh.edu (postal.iol.unh.edu. [2606:4100:3880:1234::84]) by smtp-relay.gmail.com with ESMTPS id ca18e2360f4ac-94359e9aea2sm53760839f.6.2025.10.27.16.43.44 (version=TLS1_2 cipher=ECDHE-ECDSA-AES128-GCM-SHA256 bits=128/128); Mon, 27 Oct 2025 16:43:44 -0700 (PDT) X-Relaying-Domain: iol.unh.edu Date: Mon, 27 Oct 2025 16:43:44 -0700 (PDT) Message-ID: <690003b0.6b0a0220.5bb53.86ccSMTPIN_ADDED_MISSING@mx.google.com> Received: from [172.21.0.2] (unknown [172.18.0.240]) by postal.iol.unh.edu (Postfix) with ESMTP id 06E546051830; Mon, 27 Oct 2025 19:43:44 -0400 (EDT) Subject: |SUCCESS| pw158164-158166 [PATCH] [v3,3/3] net/tap: detect namespace From: dpdklab@iol.unh.edu To: Test Report Cc: dpdk-test-reports@iol.unh.edu, Stephen Hemminger In-Reply-To: <20251027221622.494080-8-rjarry@redhat.com> References: <20251027221622.494080-8-rjarry@redhat.com> Content-Type: text/plain X-BeenThere: test-report@dpdk.org X-Mailman-Version: 2.1.29 Precedence: list List-Id: automatic DPDK test reports List-Unsubscribe: , List-Archive: List-Post: List-Help: List-Subscribe: , Errors-To: test-report-bounces@dpdk.org Test-Label: iol-unit-amd64-testing Test-Status: SUCCESS http://dpdk.org/patch/158166 _Testing PASS_ Submitter: Robin Jarry Date: Monday, October 27 2025 22:16:25 DPDK git baseline: Repo:dpdk-next-net Branch: master CommitID:11a6a4b1f19140ac3a57ace844be3cba00c39eaa 158164-158166 --> testing pass Upstream job id: Generic-VM-Unit-Test-DPDK#32094 Test environment and result as below: +-------------------------------+----------------+ | Environment | dpdk_unit_test | +===============================+================+ | Fedora Linux 40 | PASS | +-------------------------------+----------------+ | Ubuntu 24.04 | PASS | +-------------------------------+----------------+ | Ubuntu 20.04 | PASS | +-------------------------------+----------------+ | CentOS Stream 10 | PASS | +-------------------------------+----------------+ | Debian GNU/Linux 12 | PASS | +-------------------------------+----------------+ | Fedora Linux 41 | PASS | +-------------------------------+----------------+ | CentOS Stream 9 | PASS | +-------------------------------+----------------+ | Ubuntu 22.04 | PASS | +-------------------------------+----------------+ | Fedora Linux 42 | PASS | +-------------------------------+----------------+ | Red Hat Enterprise Linux 8.10 | PASS | +-------------------------------+----------------+ | Red Hat Enterprise Linux 9.5 | PASS | +-------------------------------+----------------+ | Windows Server 2022 | PASS | +-------------------------------+----------------+ Fedora Linux 40 Kernel: 5.15 Compiler: clang gcc (GCC) 14.2.1 20240912 (Red Hat 14.2.1-3) Ubuntu 24.04 Kernel: 5.15 Compiler: gcc gcc (Ubuntu 13.3.0-6ubuntu2~24.04) 13.3.0 Ubuntu 20.04 Kernel: 5.15 Compiler: gcc gcc (Ubuntu 9.4.0-1ubuntu1~20.04.2) 9.4.0 CentOS Stream 10 Kernel: 5.15 Compiler: gcc gcc (GCC) 14.2.1 20250110 (Red Hat 14.2.1-8) Debian GNU/Linux 12 Kernel: 5.15 Compiler: gcc gcc (Debian 12.2.0-14+deb12u1) 12.2.0 Fedora Linux 41 Kernel: 5.15 Compiler: gcc gcc (GCC) 14.3.1 20250523 (Red Hat 14.3.1-1) CentOS Stream 9 Kernel: 5.15 Compiler: gcc gcc (GCC) 11.5.0 20240719 (Red Hat 11.5.0-11) Ubuntu 22.04 Kernel: 5.15 Compiler: gcc gcc (Ubuntu 11.4.0-1ubuntu1~22.04) 11.4.0 Fedora Linux 42 Kernel: 5.15 Compiler: gcc gcc (GCC) 15.2.1 20250808 (Red Hat 15.2.1-1) Red Hat Enterprise Linux 8.10 Kernel: 5.15 Compiler: gcc gcc (GCC) 8.5.0 20210514 (Red Hat 8.5.0-22) Red Hat Enterprise Linux 9.5 Kernel: 5.15 Compiler: gcc gcc (GCC) 11.5.0 20240719 (Red Hat 11.5.0-2) Windows Server 2022 Kernel: 10.0.20348.2031 Compiler: clang 15.0.7, gcc 14.1.0 (MinGW), and MSVC VS 19.39.33521 To view detailed results, visit: https://lab.dpdk.org/results/dashboard/patchsets/34389/ UNH-IOL DPDK Community Lab To manage your email subscriptions, visit: https://lab.dpdk.org/results/dashboard/preferences/subscriptions/