From mboxrd@z Thu Jan 1 00:00:00 1970 Return-Path: Received: from mails.dpdk.org (mails.dpdk.org [217.70.189.124]) by inbox.dpdk.org (Postfix) with ESMTP id 9CB0F489F6 for ; Tue, 28 Oct 2025 01:01:37 +0100 (CET) Received: from mails.dpdk.org (localhost [127.0.0.1]) by mails.dpdk.org (Postfix) with ESMTP id 6DC9B4021E; Tue, 28 Oct 2025 01:01:37 +0100 (CET) Received: from mail-pg1-f227.google.com (mail-pg1-f227.google.com [209.85.215.227]) by mails.dpdk.org (Postfix) with ESMTP id 471874021E for ; Tue, 28 Oct 2025 01:01:36 +0100 (CET) Received: by mail-pg1-f227.google.com with SMTP id 41be03b00d2f7-b67ae7e76abso4060384a12.3 for ; Mon, 27 Oct 2025 17:01:36 -0700 (PDT) DKIM-Signature: v=1; a=rsa-sha256; c=relaxed/relaxed; d=iol.unh.edu; s=unh-iol; t=1761609695; x=1762214495; darn=dpdk.org; h=references:in-reply-to:cc:to:from:subject:message-id:date:from:to :cc:subject:date:message-id:reply-to; bh=id9bODll8ZZz73amZpUgpCsIKLlb5JpqI3Z2TU1XCJA=; b=bVhUT602DhY1UPr2wLthFg0+AyYDMabGGKIdm6lumClxQDVlhy5HTrLaaDa3zCcaiG B9LEeQGopvh/RtUACx8JhnUqJgdCdt8YDgbJUuaBkDhTEy+Vcy+voM88NErPJuaLXncJ wVR1xZAwQCXyh9Ij7zA+bw9v9ORt0s6f+twqU= X-Google-DKIM-Signature: v=1; a=rsa-sha256; c=relaxed/relaxed; d=1e100.net; s=20230601; t=1761609695; x=1762214495; h=references:in-reply-to:cc:to:from:subject:message-id:date :x-gm-message-state:from:to:cc:subject:date:message-id:reply-to; bh=id9bODll8ZZz73amZpUgpCsIKLlb5JpqI3Z2TU1XCJA=; b=euO43xuzF6iUKEw2plDqsfM4tJFJv2B6W/EnbzLoYGn7Cm0tXhd+FwWZUBtVsLUqbw BHV18Uxl5mDDDztQmX7EzR68XgU2jLPX8ic9OqHi/Xq3epZ3kZedDvWseqxVuqqMPd6m SNgEvQYDw+30zY/PXVmOvFe26BN8QkIXycj7r734wNb5iZGuiFE5WlShg0vu7l1NUphH xefmAver2B9TodIyp5zBdyvzvMnvGDyvy2OjCoudq1SQn0dnfTM+6/XXKftgTvvgmvAf qhk9Q4oU/eqtlnrQyL5+Y3RRlGsGIiG1yO3fyjogZXBt3fDVeIfP3UKE7/Bb3WqiBGZP aTlA== X-Gm-Message-State: AOJu0Yx62Eclu9dtccr/okmyN7IKUxCOKaFSuNnfwvEZrzk9/h/Hei3s ehsaKRLXBr7H86N2nS8+9CCOYmW/QmDCx0RcJHUS0yHrYcLGdqSWtrbaaaqVH49Elr1qhcItcRc /NFTriLqN0ybbngQJtN1VRC82ti7G8Zqa3b4vHMZ+w4RG4bTn9M3mizfdJQDf X-Gm-Gg: ASbGncv0g4ooMw+YGG8HChhcVyd0/k8qGw8fPD3ZYq4glMulBjpraPOsNFseQcFq9Bv TMFOMdIvcTeIi1AvBHKjr9HzE7G/JFal8gCJI7H+lSUjiXLO6kv7LiHmPzIdd79QevF51Msi6l3 pJG2mejbsktISpQeCBpTD4h6YSjLZxwxVE8t5jU0GgU758nDU5IGNs+EVO0EsR20caaaiK+Yl3l wXlLQsFw3kcw2OaM7FUFmIvt9lJyhSQ8Z4KzxI/n42WwlNR6BYFUa+KIODNVxbF0kmTOF9PyjkG 0KJhQHG7FoLH8L39fsgUwIAI9wo245LGpsAABMGAkvOmUIEtZ1lpMyjXYssROUF7Mg3t9OkbiiX n0+nqkfJS X-Google-Smtp-Source: AGHT+IFThP1eKxQp30azKAe96Nigf8rZEOS9U4g75LPUy5rPkM/MutRyMmCrb5kGn3+z+Dg1fwjiAUf+KVlr X-Received: by 2002:a17:902:e88d:b0:269:9adf:839 with SMTP id d9443c01a7336-294cb37a5a5mr17444455ad.19.1761609695131; Mon, 27 Oct 2025 17:01:35 -0700 (PDT) Received: from postal.iol.unh.edu (postal.iol.unh.edu. [2606:4100:3880:1234::84]) by smtp-relay.gmail.com with ESMTPS id d9443c01a7336-29498e42ebdsm9043825ad.63.2025.10.27.17.01.34 (version=TLS1_2 cipher=ECDHE-ECDSA-AES128-GCM-SHA256 bits=128/128); Mon, 27 Oct 2025 17:01:35 -0700 (PDT) X-Relaying-Domain: iol.unh.edu Date: Mon, 27 Oct 2025 17:01:35 -0700 (PDT) Message-ID: <690007df.170a0220.201ff5.93a3SMTPIN_ADDED_MISSING@mx.google.com> Received: from [172.21.0.3] (unknown [172.18.0.240]) by postal.iol.unh.edu (Postfix) with ESMTP id 2D1C660003E7; Mon, 27 Oct 2025 20:01:34 -0400 (EDT) Subject: |SUCCESS| pw158164-158166 [PATCH] [v3,3/3] net/tap: detect namespace From: dpdklab@iol.unh.edu To: Test Report Cc: dpdk-test-reports@iol.unh.edu, Stephen Hemminger In-Reply-To: <20251027221622.494080-8-rjarry@redhat.com> References: <20251027221622.494080-8-rjarry@redhat.com> Content-Type: text/plain X-BeenThere: test-report@dpdk.org X-Mailman-Version: 2.1.29 Precedence: list List-Id: automatic DPDK test reports List-Unsubscribe: , List-Archive: List-Post: List-Help: List-Subscribe: , Errors-To: test-report-bounces@dpdk.org Test-Label: iol-unit-arm64-testing Test-Status: SUCCESS http://dpdk.org/patch/158166 _Testing PASS_ Submitter: Robin Jarry Date: Monday, October 27 2025 22:16:25 DPDK git baseline: Repo:dpdk-next-net Branch: master CommitID:11a6a4b1f19140ac3a57ace844be3cba00c39eaa 158164-158166 --> testing pass Upstream job id: Generic-Unit-Test-DPDK#385718 Test environment and result as below: +------------------------------+----------------+---------------------------+--------------+------------------------------+ | Environment | dpdk_unit_test | cryptodev_sw_zuc_autotest | lpm_autotest | cryptodev_sw_snow3g_autotest | +==============================+================+===========================+==============+==============================+ | Fedora Linux 41 | PASS | SKIPPED | SKIPPED | SKIPPED | +------------------------------+----------------+---------------------------+--------------+------------------------------+ | Fedora Linux 42 | PASS | SKIPPED | SKIPPED | SKIPPED | +------------------------------+----------------+---------------------------+--------------+------------------------------+ | Fedora Linux 40 | PASS | SKIPPED | SKIPPED | SKIPPED | +------------------------------+----------------+---------------------------+--------------+------------------------------+ | CentOS Stream 10 | PASS | SKIPPED | SKIPPED | SKIPPED | +------------------------------+----------------+---------------------------+--------------+------------------------------+ | Ubuntu 20.04 | PASS | SKIPPED | PASS | SKIPPED | +------------------------------+----------------+---------------------------+--------------+------------------------------+ | Debian GNU/Linux 12 | PASS | SKIPPED | SKIPPED | SKIPPED | +------------------------------+----------------+---------------------------+--------------+------------------------------+ | CentOS Stream 9 | PASS | SKIPPED | SKIPPED | SKIPPED | +------------------------------+----------------+---------------------------+--------------+------------------------------+ | Ubuntu 22.04 | PASS | SKIPPED | SKIPPED | SKIPPED | +------------------------------+----------------+---------------------------+--------------+------------------------------+ | Ubuntu 24.04 | PASS | SKIPPED | SKIPPED | SKIPPED | +------------------------------+----------------+---------------------------+--------------+------------------------------+ | Red Hat Enterprise Linux 9.5 | PASS | SKIPPED | SKIPPED | SKIPPED | +------------------------------+----------------+---------------------------+--------------+------------------------------+ | Debian 12 (arm) | SKIPPED | PASS | SKIPPED | PASS | +------------------------------+----------------+---------------------------+--------------+------------------------------+ Fedora Linux 41 Kernel: 5.4 Compiler: clang gcc (GCC) 14.3.1 20250523 (Red Hat 14.3.1-1) Fedora Linux 42 Kernel: 5.4 Compiler: clang gcc (GCC) 15.2.1 20250808 (Red Hat 15.2.1-1) Fedora Linux 40 Kernel: 5.4 Compiler: gcc gcc (GCC) 14.2.1 20240912 (Red Hat 14.2.1-3) CentOS Stream 10 Kernel: 5.4 Compiler: gcc gcc (GCC) 14.2.1 20250110 (Red Hat 14.2.1-8) Ubuntu 20.04 Kernel: 5.4 Compiler: gcc gcc (Ubuntu 9.4.0-1ubuntu1~20.04.2) 9.4.0 Debian GNU/Linux 12 Kernel: 5.4 Compiler: gcc gcc (Debian 12.2.0-14+deb12u1) 12.2.0 CentOS Stream 9 Kernel: 5.4 Compiler: gcc gcc (GCC) 11.5.0 20240719 (Red Hat 11.5.0-11) Ubuntu 22.04 Kernel: 5.4 Compiler: gcc gcc (Ubuntu 11.4.0-1ubuntu1~22.04) 11.4.0 Ubuntu 24.04 Kernel: 5.4 Compiler: gcc gcc (Ubuntu 13.3.0-6ubuntu2~24.04) 13.3.0 Red Hat Enterprise Linux 9.5 Kernel: 5.4 Compiler: gcc gcc (GCC) 11.5.0 20240719 (Red Hat 11.5.0-2) Debian 12 (arm) Kernel: Depends on container host Compiler: gcc (Debian 12.2.0-14) 12.2.0 To view detailed results, visit: https://lab.dpdk.org/results/dashboard/patchsets/34389/ UNH-IOL DPDK Community Lab To manage your email subscriptions, visit: https://lab.dpdk.org/results/dashboard/preferences/subscriptions/