From mboxrd@z Thu Jan 1 00:00:00 1970 Return-Path: Received: from mails.dpdk.org (mails.dpdk.org [217.70.189.124]) by inbox.dpdk.org (Postfix) with ESMTP id 4DA69489EC for ; Tue, 28 Oct 2025 03:10:23 +0100 (CET) Received: from mails.dpdk.org (localhost [127.0.0.1]) by mails.dpdk.org (Postfix) with ESMTP id 2BF534021E; Tue, 28 Oct 2025 03:10:23 +0100 (CET) Received: from mail-pj1-f97.google.com (mail-pj1-f97.google.com [209.85.216.97]) by mails.dpdk.org (Postfix) with ESMTP id 3A0654021E for ; Tue, 28 Oct 2025 03:10:21 +0100 (CET) Received: by mail-pj1-f97.google.com with SMTP id 98e67ed59e1d1-33b9dc8d517so5215048a91.0 for ; Mon, 27 Oct 2025 19:10:21 -0700 (PDT) DKIM-Signature: v=1; a=rsa-sha256; c=relaxed/relaxed; d=iol.unh.edu; s=unh-iol; t=1761617420; x=1762222220; darn=dpdk.org; h=references:in-reply-to:cc:to:from:subject:message-id:date:from:to :cc:subject:date:message-id:reply-to; bh=q6QFtvrvj3S/u/E3CIL1UO+kIh2GrpoQvL5c20y7S3g=; b=bOlwyJTBUj7GgkPBQ+cSC637LjLOqWnAx+nJ/HtuOPpostg35f5mj/KccQSpiRN97z 5cLUKyeNfbzenqJgI7Po468CW/4Wxfl5gg49EtWFGaY0iAbCVrqU09tNJ9r7JvOqTniE r/DI3c67CphpaL/9QVjr9xtTDKxYXwINmeCEY= X-Google-DKIM-Signature: v=1; a=rsa-sha256; c=relaxed/relaxed; d=1e100.net; s=20230601; t=1761617420; x=1762222220; h=references:in-reply-to:cc:to:from:subject:message-id:date :x-gm-message-state:from:to:cc:subject:date:message-id:reply-to; bh=q6QFtvrvj3S/u/E3CIL1UO+kIh2GrpoQvL5c20y7S3g=; b=wosQMHKtya5anTUdKsRYt7lPOOk0FrxgXNRYvwtaVdkgJyUVFSMbm8Zoiz2cUPaE7e LGcoqutx2ODS6zwVW82m+T912rPBxLccJsdDfs1Hb9q53HuPx3Bf77FjfrysCop7oGVb 1THZgQLvFJGVohsEshSAHmWM5YmUKzA9TU3DQRQQG64TL0DKi8Ht2hRgf3Ow4OG1QvWw cWmZ7uewhLWvxaUpPvHngX+RKlpovOALWByH0vMsz7eJGpMOmDOq9QzXPxVMfH9J8Jgb Tqb88ZATxHvu4DRIyF0ifK/aZpPjKGmM+j/IzSF+L3c/hSHURFgdgrrGpYgxHBWRnE4l 1awA== X-Gm-Message-State: AOJu0YyzrJbOwn2eKk9Y3G8KvnVTNg9VLpubgfoBLAVUw6P0oFa9FA25 NXi60Vosu7qdmABrEh3YtGOXqziQ+3IbS1u2qoxESd8HpssPTlJax86hqLBxHEhdwiOa92hEhS1 HqKEFRJ1oHoyMLyKr7ElzGwgeEiC7v3nH8HBv0F9IlKMV X-Gm-Gg: ASbGnctNNTdVp2wEUU+JBFcM2C9fkRZJz81ffZk07fniak0edUkITvvGUG9EDXSOTwI ZfBv7BSnAE+DlC/1n26XLyK2y8zSsBROso5+GXWKrBNqiZSZDzKGX6GyiOpDT70w9byMLWdBjfD aHcdy0/FwKR6TJtyiGfsbjfZuUS/aszoLGjIJUZ7IPw5STolwIx171wd1y3lGFiSbwU65RKATkH geIV/K3ETl4hnBoHvIMNq0UtZM0DAPsBIyEwEb3oZaIzo3kEX+uBhWwVvWuPj6r8aegrRNmDHa6 u7r1BsHOhWqt3xOc3j5elHL1l7cUWVsPV8L4M90cNP8lBJh/GAVeiJ487l4yWHR63dcOvNCnBtw cJTQJgDs5elLP7DauKqbCIsyJwHOxm2g= X-Google-Smtp-Source: AGHT+IHLx9NgQqZTW1ng52i8lAZNZUzgwRAINYXdGbbsxEXf6s8BuJzZWFBQbHoRruar8yZq4WPyCuYO3zRW X-Received: by 2002:a17:90b:58ef:b0:32e:e18a:3691 with SMTP id 98e67ed59e1d1-34027ab4469mr2167162a91.35.1761617420087; Mon, 27 Oct 2025 19:10:20 -0700 (PDT) Received: from postal.iol.unh.edu (postal.iol.unh.edu. [132.177.123.84]) by smtp-relay.gmail.com with ESMTPS id 98e67ed59e1d1-33fed81483bsm925020a91.8.2025.10.27.19.10.19 (version=TLS1_2 cipher=ECDHE-ECDSA-AES128-GCM-SHA256 bits=128/128); Mon, 27 Oct 2025 19:10:20 -0700 (PDT) X-Relaying-Domain: iol.unh.edu Date: Mon, 27 Oct 2025 19:10:20 -0700 (PDT) Message-ID: <6900260c.170a0220.1d03ae.ac5dSMTPIN_ADDED_MISSING@mx.google.com> Received: from [172.21.0.2] (unknown [172.18.0.240]) by postal.iol.unh.edu (Postfix) with ESMTP id 34D7560003E7; Mon, 27 Oct 2025 22:10:19 -0400 (EDT) Subject: |SUCCESS| pw158164-158166 [PATCH] [v3,3/3] net/tap: detect namespace From: dpdklab@iol.unh.edu To: Test Report Cc: dpdk-test-reports@iol.unh.edu, Stephen Hemminger In-Reply-To: <20251027221622.494080-8-rjarry@redhat.com> References: <20251027221622.494080-8-rjarry@redhat.com> Content-Type: text/plain X-BeenThere: test-report@dpdk.org X-Mailman-Version: 2.1.29 Precedence: list List-Id: automatic DPDK test reports List-Unsubscribe: , List-Archive: List-Post: List-Help: List-Subscribe: , Errors-To: test-report-bounces@dpdk.org Test-Label: iol-compile-arm64-testing Test-Status: SUCCESS http://dpdk.org/patch/158166 _Testing PASS_ Submitter: Robin Jarry Date: Monday, October 27 2025 22:16:25 DPDK git baseline: Repo:dpdk-next-net Branch: master CommitID:11a6a4b1f19140ac3a57ace844be3cba00c39eaa 158164-158166 --> testing pass Upstream job id: Generic-DPDK-Compile-Meson#438168 Test environment and result as below: +------------------------------+--------------------+ | Environment | dpdk_meson_compile | +==============================+====================+ | Ubuntu 20.04 | PASS | +------------------------------+--------------------+ | Fedora Linux 42 | PASS | +------------------------------+--------------------+ | Debian GNU/Linux 12 | PASS | +------------------------------+--------------------+ | Red Hat Enterprise Linux 9.5 | PASS | +------------------------------+--------------------+ | Ubuntu 22.04 | PASS | +------------------------------+--------------------+ | CentOS Stream 10 | PASS | +------------------------------+--------------------+ | CentOS Stream 9 | PASS | +------------------------------+--------------------+ | Ubuntu 24.04 | PASS | +------------------------------+--------------------+ Ubuntu 20.04 Kernel: 5.4 Compiler: gcc gcc (Ubuntu 9.4.0-1ubuntu1~20.04.2) 9.4.0 Fedora Linux 42 Kernel: 5.4 Compiler: gcc gcc (GCC) 15.2.1 20250808 (Red Hat 15.2.1-1) Debian GNU/Linux 12 Kernel: 5.4 Compiler: gcc gcc (Debian 12.2.0-14+deb12u1) 12.2.0 Red Hat Enterprise Linux 9.5 Kernel: 5.4 Compiler: gcc gcc (GCC) 11.5.0 20240719 (Red Hat 11.5.0-2) Ubuntu 22.04 Kernel: 5.4 Compiler: gcc gcc (Ubuntu 11.4.0-1ubuntu1~22.04) 11.4.0 CentOS Stream 10 Kernel: 5.4 Compiler: gcc gcc (GCC) 14.2.1 20250110 (Red Hat 14.2.1-8) CentOS Stream 9 Kernel: 5.4 Compiler: gcc gcc (GCC) 11.5.0 20240719 (Red Hat 11.5.0-11) Ubuntu 24.04 Kernel: 5.4 Compiler: gcc gcc (Ubuntu 13.3.0-6ubuntu2~24.04) 13.3.0 To view detailed results, visit: https://lab.dpdk.org/results/dashboard/patchsets/34389/ UNH-IOL DPDK Community Lab To manage your email subscriptions, visit: https://lab.dpdk.org/results/dashboard/preferences/subscriptions/