From mboxrd@z Thu Jan 1 00:00:00 1970 Return-Path: Received: from mails.dpdk.org (mails.dpdk.org [217.70.189.124]) by inbox.dpdk.org (Postfix) with ESMTP id 6B8A4489F5 for ; Tue, 28 Oct 2025 06:34:27 +0100 (CET) Received: from mails.dpdk.org (localhost [127.0.0.1]) by mails.dpdk.org (Postfix) with ESMTP id 4E72F40262; Tue, 28 Oct 2025 06:34:27 +0100 (CET) Received: from mail-pj1-f97.google.com (mail-pj1-f97.google.com [209.85.216.97]) by mails.dpdk.org (Postfix) with ESMTP id D2E8240262 for ; Tue, 28 Oct 2025 06:34:25 +0100 (CET) Received: by mail-pj1-f97.google.com with SMTP id 98e67ed59e1d1-33067909400so4144861a91.2 for ; Mon, 27 Oct 2025 22:34:25 -0700 (PDT) DKIM-Signature: v=1; a=rsa-sha256; c=relaxed/relaxed; d=iol.unh.edu; s=unh-iol; t=1761629665; x=1762234465; darn=dpdk.org; h=cc:to:from:subject:message-id:date:from:to:cc:subject:date :message-id:reply-to; bh=nuznik2QV5Qro0skc3AfzC7HGuHhPpp5FraK6mgMFsU=; b=c/yIHL2LoWDVLYehJWXotaJLQxka3WhnCKiIiM6yu5jNYHeO3v+4gyrv5hAv8hGcl8 PrwlYbyLvtyf/1PBnmMD8qIq2lYt3AkQorhO3dU2LNl3iUPHjzK1/5aPc1tY1V4AiNCc d6w8VzExTMV4z/jC6Nybj0xvI98xD+uBeLoKA= X-Google-DKIM-Signature: v=1; a=rsa-sha256; c=relaxed/relaxed; d=1e100.net; s=20230601; t=1761629665; x=1762234465; h=cc:to:from:subject:message-id:date:x-gm-message-state:from:to:cc :subject:date:message-id:reply-to; bh=nuznik2QV5Qro0skc3AfzC7HGuHhPpp5FraK6mgMFsU=; b=QYHvWGOPoAzgXimrZhjfQGCP4t+MbeWTnsLkSrptvFtCpy5GiBq8JLNE/zSSwEm/Tp oUqNq/VldNbEUQpQH3kq03gyZn3/SbG06km7c58Nb86UJ9jXvNhgvv85g0WfqCHyx1sn Nlh/jOEskq6Bdpa4YrSFfcTce4ah8bOUH4TVuS/Bll9JV4toucrbcn6a5ZvUWAJB7m6s N5GIb766c7p8F0o2hlhW0pdZNDbvqQKr61qqnBJi5k91dFKVEMtL7nXKDJkAKBZ1epPt rlh6uExWyLXLwYt78hvvo3m8l8Y2LSNm1ZmIVSpWkhet7FhXMC3Pvj2YHPYLmF18/nAR ntyA== X-Gm-Message-State: AOJu0YzP2aCPWx7SpmQlQvuk/Io16pMyKhxKw4qLgz7ESU+RbGPVoAIE g3NB/cmskchBKsL1gLoQ8VjI5dqd6cayhTO6uXtRU3dfN3jFUjq+bnLfqIsoBaS3sq/WFVrNQ8m tR80Tzjxlp+DSmFsmpAKdqfjJB0UbAfiajxE3 X-Gm-Gg: ASbGncvoJw71zWyBphFDHSlOC8CVmJC2RpQ6phBqzpcuFJjBO35fUBd+4nTNgDuoTyb v9ZeGqXwjJAXqN4+jSmHCgkUALfYQF3ugVL6uTXaLYzJccWoAMbXUlnvUTyOy8PTQ9rvFsjN/2Y dOqMkgJdDBFB+cs0fubudbFRCFB42eyUD6pJaHv8kp4MXIuwsLvQmAVfYOSRra6zmjP5Dtft3s7 KeBWkIpsePLvKQVl20QYGQMh0IMdpyKF7H2AyHScqCO/CGfm7WBnzm4T/n69KEhYo/EkBdcMkvF DQC8ShMEyt073YNiiNs8EN2W9s0KR1jvbFbKnZZs0pM6G1WwWAklp1PFqVuFyc5mo7R7IsfVcGG Wv9mf6yln9TfZBglA9GutBj9RwKDRj1U= X-Google-Smtp-Source: AGHT+IG+3zsKdzl962u47ngyC0a5GWhuK7bXB7Q/ImKM7WhgOF4yymnImF2YJV6LkTRbOElu7e3lKtxpXlNc X-Received: by 2002:a17:90b:2fc8:b0:339:9a71:efd8 with SMTP id 98e67ed59e1d1-34027c0a990mr2481122a91.37.1761629664800; Mon, 27 Oct 2025 22:34:24 -0700 (PDT) Received: from postal.iol.unh.edu (postal.iol.unh.edu. [132.177.123.84]) by smtp-relay.gmail.com with ESMTPS id 41be03b00d2f7-b712c59cff9sm730459a12.6.2025.10.27.22.34.24 (version=TLS1_2 cipher=ECDHE-ECDSA-AES128-GCM-SHA256 bits=128/128); Mon, 27 Oct 2025 22:34:24 -0700 (PDT) X-Relaying-Domain: iol.unh.edu Date: Mon, 27 Oct 2025 22:34:24 -0700 (PDT) Message-ID: <690055e0.630a0220.248047.2374SMTPIN_ADDED_MISSING@mx.google.com> Received: from [172.21.0.2] (unknown [172.18.0.240]) by postal.iol.unh.edu (Postfix) with ESMTP id 173D16051830; Tue, 28 Oct 2025 01:34:24 -0400 (EDT) Subject: |SUCCESS| [GIT MASTER] 3b43ce3f4a54468e7ef65760c2fd7b4d6ee6d9fc From: dpdklab@iol.unh.edu To: Test Report Cc: dpdk-test-reports@iol.unh.edu, Xueming Li , Christian Ehrhardt , Kevin Traynor , Luca Boccassi Content-Type: text/plain X-BeenThere: test-report@dpdk.org X-Mailman-Version: 2.1.29 Precedence: list List-Id: automatic DPDK test reports List-Unsubscribe: , List-Archive: List-Post: List-Help: List-Subscribe: , Errors-To: test-report-bounces@dpdk.org _Testing PASS_ Branch: tags/v22.11 3b43ce3f4a54468e7ef65760c2fd7b4d6ee6d9fc --> testing pass Upstream job id: Generic-DPDK-Compile-Meson#438178 Test environment and result as below: +-------------------------------+--------------------+-------------------------+----------------------+ | Environment | dpdk_meson_compile | dpdk_llvm_clang_compile | dpdk_mingw64_compile | +===============================+====================+=========================+======================+ | FreeBSD 14.2 | PASS | SKIPPED | SKIPPED | +-------------------------------+--------------------+-------------------------+----------------------+ | Fedora Linux 42 | PASS | SKIPPED | SKIPPED | +-------------------------------+--------------------+-------------------------+----------------------+ | Red Hat Enterprise Linux 9.5 | PASS | SKIPPED | SKIPPED | +-------------------------------+--------------------+-------------------------+----------------------+ | openSUSE Leap 15.6 | PASS | SKIPPED | SKIPPED | +-------------------------------+--------------------+-------------------------+----------------------+ | Ubuntu 20.04 | PASS | SKIPPED | SKIPPED | +-------------------------------+--------------------+-------------------------+----------------------+ | Debian GNU/Linux 12 | PASS | SKIPPED | SKIPPED | +-------------------------------+--------------------+-------------------------+----------------------+ | Red Hat Enterprise Linux 8.10 | PASS | SKIPPED | SKIPPED | +-------------------------------+--------------------+-------------------------+----------------------+ | CentOS Stream 9 | PASS | SKIPPED | SKIPPED | +-------------------------------+--------------------+-------------------------+----------------------+ | Ubuntu 22.04 | PASS | SKIPPED | SKIPPED | +-------------------------------+--------------------+-------------------------+----------------------+ | Ubuntu 24.04 | PASS | SKIPPED | SKIPPED | +-------------------------------+--------------------+-------------------------+----------------------+ | CentOS Stream 10 | PASS | SKIPPED | SKIPPED | +-------------------------------+--------------------+-------------------------+----------------------+ | Windows Server 2022 | SKIPPED | PASS | PASS | +-------------------------------+--------------------+-------------------------+----------------------+ FreeBSD 14.2 Kernel: 14.2-RELEASE Compiler: clang 18.1.6 Fedora Linux 42 Kernel: 5.15 Compiler: clang gcc (GCC) 15.2.1 20250808 (Red Hat 15.2.1-1) Red Hat Enterprise Linux 9.5 Kernel: 5.15 Compiler: gcc gcc (GCC) 11.5.0 20240719 (Red Hat 11.5.0-2) openSUSE Leap 15.6 Kernel: 5.15 Compiler: gcc gcc (SUSE Linux) 7.5.0 Ubuntu 20.04 Kernel: 4.19 Compiler: gcc gcc (Ubuntu 9.4.0-1ubuntu1~20.04.2) 9.4.0 Debian GNU/Linux 12 Kernel: 5.15 Compiler: gcc gcc (Debian 12.2.0-14+deb12u1) 12.2.0 Red Hat Enterprise Linux 8.10 Kernel: 5.15 Compiler: gcc gcc (GCC) 8.5.0 20210514 (Red Hat 8.5.0-22) CentOS Stream 9 Kernel: 5.15 Compiler: gcc gcc (GCC) 11.5.0 20240719 (Red Hat 11.5.0-11) Ubuntu 22.04 Kernel: 5.15 Compiler: gcc gcc (Ubuntu 11.4.0-1ubuntu1~22.04) 11.4.0 Ubuntu 24.04 Kernel: 5.15 Compiler: gcc gcc (Ubuntu 13.3.0-6ubuntu2~24.04) 13.3.0 CentOS Stream 10 Kernel: 5.15 Compiler: gcc gcc (GCC) 14.2.1 20250110 (Red Hat 14.2.1-8) Windows Server 2022 Kernel: 10.0.20348.2031 Compiler: clang 15.0.7, gcc 14.1.0 (MinGW), and MSVC VS 19.39.33521 To view detailed results, visit: https://lab.dpdk.org/results/dashboard/tarballs/35357/ UNH-IOL DPDK Community Lab To manage your email subscriptions, visit: https://lab.dpdk.org/results/dashboard/preferences/subscriptions/