From: dpdklab@iol.unh.edu
To: Test Report <test-report@dpdk.org>
Cc: dpdk-test-reports@iol.unh.edu
Subject: |PENDING| pw158167-158169 [PATCH] [v9,3/3] doc: note on unsupported
Date: Mon, 27 Oct 2025 23:16:06 -0700 (PDT) [thread overview]
Message-ID: <69005fa6.050a0220.3968fd.b8bfSMTPIN_ADDED_MISSING@mx.google.com> (raw)
In-Reply-To: <20251028052943.121453-4-shaiq.wani@intel.com>
Test-Label: iol-sample-apps-testing
Test-Status: PENDING
http://dpdk.org/patch/158169
_Testing pending_
Submitter: Shaiq Wani <shaiq.wani@intel.com>
Date: Tuesday, October 28 2025 05:29:43
DPDK git baseline: Repo:dpdk-next-net-intel
Branch: master
CommitID:6b997d6b9ffdbb4f8ecd14d1f217da69cdc783af
158167-158169 --> testing pending
Upstream job id: Template-DTS-Pipeline#251549
Test environment and result as below:
+--------------+----------------------+----------------------+
| Environment | dpdk_fips_validation | compressdev_zlib_pmd |
+==============+======================+======================+
| Ubuntu 20.04 | PEND | SKIPPED |
+--------------+----------------------+----------------------+
| Ubuntu 22.04 | SKIPPED | PASS |
+--------------+----------------------+----------------------+
Ubuntu 20.04
Kernel: 5.15
Compiler: gcc gcc (Ubuntu 9.4.0-1ubuntu1~20.04.2) 9.4.0
Ubuntu 22.04
Kernel: 5.15
Compiler: gcc gcc (Ubuntu 11.4.0-1ubuntu1~22.04.2) 11.4.0
To view detailed results, visit:
https://lab.dpdk.org/results/dashboard/patchsets/34390/
UNH-IOL DPDK Community Lab
To manage your email subscriptions, visit:
https://lab.dpdk.org/results/dashboard/preferences/subscriptions/
next prev parent reply other threads:[~2025-10-28 6:16 UTC|newest]
Thread overview: 23+ messages / expand[flat|nested] mbox.gz Atom feed top
[not found] <20251028052943.121453-4-shaiq.wani@intel.com>
2025-10-28 4:55 ` |SUCCESS| pw158167-158169 [PATCH v9 3/3] doc: note on unsupported completion queue sharing qemudev
2025-10-28 5:00 ` qemudev
2025-10-28 5:29 ` |SUCCESS| pw158169 " checkpatch
2025-10-28 6:06 ` |PENDING| pw158167-158169 [PATCH] [v9,3/3] doc: note on unsupported dpdklab
2025-10-28 6:08 ` |SUCCESS| " dpdklab
2025-10-28 6:12 ` dpdklab
2025-10-28 6:16 ` dpdklab [this message]
2025-10-28 6:24 ` dpdklab
2025-10-28 6:27 ` dpdklab
2025-10-28 6:28 ` |PENDING| " dpdklab
2025-10-28 6:29 ` |SUCCESS| " dpdklab
2025-10-28 6:29 ` dpdklab
2025-10-28 6:36 ` |WARNING| " dpdklab
2025-10-28 6:43 ` |PENDING| " dpdklab
2025-10-28 6:53 ` |SUCCESS| pw158169 [PATCH v9 3/3] doc: note on unsupported completion queue sharing 0-day Robot
2025-10-28 6:53 ` 0-day Robot
2025-10-28 6:54 ` |WARNING| pw158167-158169 [PATCH] [v9,3/3] doc: note on unsupported dpdklab
2025-10-28 6:58 ` |SUCCESS| " dpdklab
2025-10-28 7:07 ` |WARNING| " dpdklab
2025-10-28 7:17 ` |SUCCESS| " dpdklab
2025-10-28 7:19 ` dpdklab
2025-10-28 9:58 ` dpdklab
2025-10-28 14:16 ` dpdklab
Reply instructions:
You may reply publicly to this message via plain-text email
using any one of the following methods:
* Save the following mbox file, import it into your mail client,
and reply-to-all from there: mbox
Avoid top-posting and favor interleaved quoting:
https://en.wikipedia.org/wiki/Posting_style#Interleaved_style
* Reply using the --to, --cc, and --in-reply-to
switches of git-send-email(1):
git send-email \
--in-reply-to=69005fa6.050a0220.3968fd.b8bfSMTPIN_ADDED_MISSING@mx.google.com \
--to=dpdklab@iol.unh.edu \
--cc=dpdk-test-reports@iol.unh.edu \
--cc=test-report@dpdk.org \
/path/to/YOUR_REPLY
https://kernel.org/pub/software/scm/git/docs/git-send-email.html
* If your mail client supports setting the In-Reply-To header
via mailto: links, try the mailto: link
Be sure your reply has a Subject: header at the top and a blank line
before the message body.
This is a public inbox, see mirroring instructions
for how to clone and mirror all data and code used for this inbox;
as well as URLs for NNTP newsgroup(s).