From mboxrd@z Thu Jan 1 00:00:00 1970 Return-Path: Received: from mails.dpdk.org (mails.dpdk.org [217.70.189.124]) by inbox.dpdk.org (Postfix) with ESMTP id A0CDD489F5 for ; Tue, 28 Oct 2025 07:19:41 +0100 (CET) Received: from mails.dpdk.org (localhost [127.0.0.1]) by mails.dpdk.org (Postfix) with ESMTP id 822B04021E; Tue, 28 Oct 2025 07:19:41 +0100 (CET) Received: from mail-il1-f227.google.com (mail-il1-f227.google.com [209.85.166.227]) by mails.dpdk.org (Postfix) with ESMTP id 43E8B4021E for ; Tue, 28 Oct 2025 07:19:40 +0100 (CET) Received: by mail-il1-f227.google.com with SMTP id e9e14a558f8ab-430da09aa87so26317405ab.2 for ; Mon, 27 Oct 2025 23:19:40 -0700 (PDT) DKIM-Signature: v=1; a=rsa-sha256; c=relaxed/relaxed; d=iol.unh.edu; s=unh-iol; t=1761632379; x=1762237179; darn=dpdk.org; h=cc:to:from:subject:message-id:date:from:to:cc:subject:date :message-id:reply-to; bh=SYmlM6/B7Ap5bxaYqyGF+Id9DRWJ/hZhnsJZNm/DMF4=; b=Iwcyn09X+iy8KKLEtKofcLq8r79hPaQeKQGgkiuiUWhnIXdzjbD7xkF3aMZW+nDeWk Qp3ztCUGmxApSUww6LQ4/e1oTdCOgie4SzR0xGBUDN0PaRD8VDCox1ego8fH3jFyxI0m pJ59jdYshFkUAhpIaPgtVK6Y+BSaX03wzDimo= X-Google-DKIM-Signature: v=1; a=rsa-sha256; c=relaxed/relaxed; d=1e100.net; s=20230601; t=1761632379; x=1762237179; h=cc:to:from:subject:message-id:date:x-gm-message-state:from:to:cc :subject:date:message-id:reply-to; bh=SYmlM6/B7Ap5bxaYqyGF+Id9DRWJ/hZhnsJZNm/DMF4=; b=akfzW1jVKtgN/bE1M8596RZpj0PJUmdVp5tglv/CicZocYfZV6LHSqgfeescueT7F4 jTaY3La8GLhaFXHdSb+6uwcesmKC08/WnWpxegT1cZMCgbCD/yMgoubbYRt1m8Yego1O ZeG7NTxeLzyaYT7Wxyb7p9Wm3a2BGyD2oKMYW9j8A4t7GP7MfEPjHD3E2Pal4pOJFd3h MDxOIvcMBQjhuVjGeOWwcrpXjvPajvblNAgZZDaIMGOp03XpUhIrz7c3BDdYKk6GX28+ zCbisjHgv/GzSJ4CLuR1gLZFgTffWl4Y8FRTGZDXaMr1wHuFAUJRLL3KWu0pxhKPqDew UVNA== X-Gm-Message-State: AOJu0Yw8IgqfdJmWjdSrLuFOxfWrSFglnOHTv8o6F/mIfJETRLccbGrF RYnhR43XhaV1GDoCLLhu6fdzQVDP2jTXPt2qeclfHGiXAgAuG1l+XHtXVs+ppkst7Lme1SbXa8C dGs7q/h0j6NvflE21TdK7zFhaMRewBwN550iBf56tnLoWBeJ1wOEA X-Gm-Gg: ASbGnct2olBzurDWjEK1VOugG/dciYfqTaaO64uhHwTpW35vKhqVHgdcUonR11G5Xt9 uWAzNb7YAPSFvAoi/rSuEpi8IGwuP9RphIvtzaU4LWaV8MIbkHZ1wLJAnUEXLg9dT9gcthGuQCA PSuC4+tzF2+0dwz/HUq0ezawYzOdCk509cu3EqL5TV+yjmyF0qaBHtefdbIBk/nyKR31vTj29Wm 20wYbwRNPrcRx7hGCklwRwbsbs4nct3eLuwjStxvl+KL8DJGUANe50XTPWVTHlqc+WlXqq/J69Y +3c2UMrHBWqT1vbnUBHt61LAyq0aYgK/huQEDgdBLFj4Dyyie9JXfKjqeAr08d9qKlS4sH4cHX8 zzMQzgCPy X-Google-Smtp-Source: AGHT+IGjJGYJrVlnOHy8WbYV0oNNFvLTn9X4ST4GzbX6lE+ULvj/930rCk3uxbuqhObbxYPshW0dFLayt80i X-Received: by 2002:a05:6e02:747:b0:430:b787:1c7a with SMTP id e9e14a558f8ab-4320f7726f7mr35102435ab.17.1761632379446; Mon, 27 Oct 2025 23:19:39 -0700 (PDT) Received: from postal.iol.unh.edu (postal.iol.unh.edu. [2606:4100:3880:1234::84]) by smtp-relay.gmail.com with ESMTPS id 8926c6da1cb9f-5aea9866f6csm782059173.21.2025.10.27.23.19.39 (version=TLS1_2 cipher=ECDHE-ECDSA-AES128-GCM-SHA256 bits=128/128); Mon, 27 Oct 2025 23:19:39 -0700 (PDT) X-Relaying-Domain: iol.unh.edu Date: Mon, 27 Oct 2025 23:19:39 -0700 (PDT) Message-ID: <6900607b.050a0220.2d42b8.4a47SMTPIN_ADDED_MISSING@mx.google.com> Received: from [172.21.0.2] (unknown [172.18.0.240]) by postal.iol.unh.edu (Postfix) with ESMTP id 04BD36051830; Tue, 28 Oct 2025 02:19:39 -0400 (EDT) Subject: |WARNING| [GIT MASTER] 62f583c49bf67dd4d6733ece14e55fe6839e66d1 From: dpdklab@iol.unh.edu To: Test Report Cc: dpdk-test-reports@iol.unh.edu, Xueming Li , Christian Ehrhardt , Kevin Traynor , Luca Boccassi Content-Type: text/plain X-BeenThere: test-report@dpdk.org X-Mailman-Version: 2.1.29 Precedence: list List-Id: automatic DPDK test reports List-Unsubscribe: , List-Archive: List-Post: List-Help: List-Subscribe: , Errors-To: test-report-bounces@dpdk.org _Testing issues_ Branch: tags/v23.11 62f583c49bf67dd4d6733ece14e55fe6839e66d1 --> testing issues Upstream job id: Generic-Unit-Test-DPDK#385782 Test environment and result as below: +------------------------------+----------------+--------------+------------------------------+---------------------------+ | Environment | dpdk_unit_test | lpm_autotest | cryptodev_sw_snow3g_autotest | cryptodev_sw_zuc_autotest | +==============================+================+==============+==============================+===========================+ | Debian GNU/Linux 12 | PASS | SKIPPED | SKIPPED | SKIPPED | +------------------------------+----------------+--------------+------------------------------+---------------------------+ | CentOS Stream 9 | PASS | SKIPPED | SKIPPED | SKIPPED | +------------------------------+----------------+--------------+------------------------------+---------------------------+ | Fedora Linux 40 | PASS | SKIPPED | SKIPPED | SKIPPED | +------------------------------+----------------+--------------+------------------------------+---------------------------+ | CentOS Stream 10 | PASS | SKIPPED | SKIPPED | SKIPPED | +------------------------------+----------------+--------------+------------------------------+---------------------------+ | Fedora Linux 42 | PASS | SKIPPED | SKIPPED | SKIPPED | +------------------------------+----------------+--------------+------------------------------+---------------------------+ | Fedora Linux 41 | PASS | SKIPPED | SKIPPED | SKIPPED | +------------------------------+----------------+--------------+------------------------------+---------------------------+ | Red Hat Enterprise Linux 9.5 | PASS | SKIPPED | SKIPPED | SKIPPED | +------------------------------+----------------+--------------+------------------------------+---------------------------+ | Ubuntu 22.04 | PASS | SKIPPED | SKIPPED | SKIPPED | +------------------------------+----------------+--------------+------------------------------+---------------------------+ | Ubuntu 20.04 | PASS | PASS | SKIPPED | SKIPPED | +------------------------------+----------------+--------------+------------------------------+---------------------------+ | Ubuntu 24.04 | PASS | SKIPPED | SKIPPED | SKIPPED | +------------------------------+----------------+--------------+------------------------------+---------------------------+ | Debian 12 (arm) | SKIPPED | SKIPPED | PASS | PASS | +------------------------------+----------------+--------------+------------------------------+---------------------------+ Debian GNU/Linux 12 Kernel: 5.4 Compiler: gcc gcc (Debian 12.2.0-14+deb12u1) 12.2.0 CentOS Stream 9 Kernel: 5.4 Compiler: gcc gcc (GCC) 11.5.0 20240719 (Red Hat 11.5.0-11) Fedora Linux 40 Kernel: 5.4 Compiler: gcc gcc (GCC) 14.2.1 20240912 (Red Hat 14.2.1-3) CentOS Stream 10 Kernel: 5.4 Compiler: gcc gcc (GCC) 14.2.1 20250110 (Red Hat 14.2.1-8) Fedora Linux 42 Kernel: 5.4 Compiler: gcc gcc (GCC) 15.2.1 20250808 (Red Hat 15.2.1-1) Fedora Linux 41 Kernel: 5.4 Compiler: gcc gcc (GCC) 14.3.1 20250523 (Red Hat 14.3.1-1) Red Hat Enterprise Linux 9.5 Kernel: 5.4 Compiler: gcc gcc (GCC) 11.5.0 20240719 (Red Hat 11.5.0-2) Ubuntu 22.04 Kernel: 5.4 Compiler: gcc gcc (Ubuntu 11.4.0-1ubuntu1~22.04) 11.4.0 Ubuntu 20.04 Kernel: 5.4 Compiler: gcc gcc (Ubuntu 9.4.0-1ubuntu1~20.04.2) 9.4.0 Ubuntu 24.04 Kernel: 5.4 Compiler: gcc gcc (Ubuntu 13.3.0-6ubuntu2~24.04) 13.3.0 Debian 12 (arm) Kernel: Depends on container host Compiler: gcc (Debian 12.2.0-14) 12.2.0 To view detailed results, visit: https://lab.dpdk.org/results/dashboard/tarballs/35358/ UNH-IOL DPDK Community Lab To manage your email subscriptions, visit: https://lab.dpdk.org/results/dashboard/preferences/subscriptions/