From mboxrd@z Thu Jan 1 00:00:00 1970 Return-Path: Received: from mails.dpdk.org (mails.dpdk.org [217.70.189.124]) by inbox.dpdk.org (Postfix) with ESMTP id A0ECE489F5 for ; Tue, 28 Oct 2025 07:40:49 +0100 (CET) Received: from mails.dpdk.org (localhost [127.0.0.1]) by mails.dpdk.org (Postfix) with ESMTP id 8CFEF4021E; Tue, 28 Oct 2025 07:40:49 +0100 (CET) Received: from mail-io1-f99.google.com (mail-io1-f99.google.com [209.85.166.99]) by mails.dpdk.org (Postfix) with ESMTP id 5D4074021E for ; Tue, 28 Oct 2025 07:40:48 +0100 (CET) Received: by mail-io1-f99.google.com with SMTP id ca18e2360f4ac-938bf212b72so237364539f.1 for ; Mon, 27 Oct 2025 23:40:48 -0700 (PDT) DKIM-Signature: v=1; a=rsa-sha256; c=relaxed/relaxed; d=iol.unh.edu; s=unh-iol; t=1761633647; x=1762238447; darn=dpdk.org; h=cc:to:from:subject:message-id:date:from:to:cc:subject:date :message-id:reply-to; bh=/OR9fT63Ra3qJCXJi6uTh6RiU/S/muQFLk8E3nmJy+8=; b=A4L7WpZhMlBjZXd3v48apITtUrURC5cGGM5OY9JJfHjzY/TN2mX3e6qhcqaqEOy89z WTJ7D7X031359xDaStkkGKDNoU5xUVQKZbzYJ3DErHatM+mIPJg7IFQPXXXgMoL8TjAZ oSOSg9VTLWUYb4V1Rn0W48Pd40745ZSAEYcu0= X-Google-DKIM-Signature: v=1; a=rsa-sha256; c=relaxed/relaxed; d=1e100.net; s=20230601; t=1761633647; x=1762238447; h=cc:to:from:subject:message-id:date:x-gm-message-state:from:to:cc :subject:date:message-id:reply-to; bh=/OR9fT63Ra3qJCXJi6uTh6RiU/S/muQFLk8E3nmJy+8=; b=w0sA7RYfw1LEE2Kxhu3KiEWZTxcXb9ntI4sTtXdEABfSQiKAFT8s8RNKE6cNQ2p1ft 6Cnjd9ubAQxez9QXYjdsHyeZ/3XX3/1J0jOzwlQ0eBbEwK2TJZVEWup7B61p7fhYUbw2 YvDX/w0iegn1er0NKswB0qef8qeHmztaYfI/vwt35Uk8rHqh33gE9jteIsg0fm+DznC9 ZnjFthr62JZ5RU1wYOv1yKO+jp89iq5+Jzirfj7tDl/wXy8LIuw8kei3sorJtoOmjD/9 qfuwoOrMHv+2xiCWAfwxTWxnFwuZl0Fxu8YLaXY/pekuCoiNBaIxWXzLcnvrII1jU/dE yEJw== X-Gm-Message-State: AOJu0YwmwwOdYns3abIiB1LR8W9rtkK8thXAWPOp+oESCZCh6987SCXY od3wZGk7VjhGXJSqBcjNnfMN6666UsoHYWjyRQlBZNrMKUbZ9ZSBM+wlE8wnqV8fTorfDyQzZp0 AjlITCG1HRIZSrrpeLh3Mabzlav6+Etzlqo9R X-Gm-Gg: ASbGnctmWfRQ9Q+f0grnH48kQxevUp30pxn1JLuOCI0EGIsc6ebaFvLV6gQ2gpbgZ1n 62eH9st8rucAV7g8G76exsOctotR8IMNuBMl13VmScwIi0ksBp0Iqv4GrsBoMehbU/VYfhrW7L9 S/m3b7tz2K+aJIQEo9VtS//jtfOG0dBRQ6V0JlyQ5F86amnZKNiuln6B9sJzVZB8+AcbAnjxdAw QDZev6xXA5/ya7fjNHiuJ5x+leWpEcJGK0UW1z8cy5AWN4qimoxbL2DECDldYeNiRZ52GJnb83B 0C2u1jcBnMPT8lnmcNRhQS63Xugs1uK69+jlC+6kITcVql9BvohwUiDd0WpG7P+WStMo9UDDuto EM31sa0dBn7zT1vrEsl2QKZAtT2LsXL4= X-Google-Smtp-Source: AGHT+IHjmVjAFLU8TEu6lFpPCjM75Dz6ltKCGDyBMe9FXMOEToJ4rKjiMj8GLgl25ZtddeMu+JFx4Q9smYnz X-Received: by 2002:a05:6e02:2486:b0:42d:8b1c:5710 with SMTP id e9e14a558f8ab-4320f5fd34emr38428645ab.0.1761633647590; Mon, 27 Oct 2025 23:40:47 -0700 (PDT) Received: from postal.iol.unh.edu (postal.iol.unh.edu. [132.177.123.84]) by smtp-relay.gmail.com with ESMTPS id 8926c6da1cb9f-5aea80c885csm791932173.18.2025.10.27.23.40.47 (version=TLS1_2 cipher=ECDHE-ECDSA-AES128-GCM-SHA256 bits=128/128); Mon, 27 Oct 2025 23:40:47 -0700 (PDT) X-Relaying-Domain: iol.unh.edu Date: Mon, 27 Oct 2025 23:40:47 -0700 (PDT) Message-ID: <6900656f.050a0220.2c93f3.435fSMTPIN_ADDED_MISSING@mx.google.com> Received: from [172.21.0.2] (unknown [172.18.0.240]) by postal.iol.unh.edu (Postfix) with ESMTP id 2A27A6051830; Tue, 28 Oct 2025 02:40:47 -0400 (EDT) Subject: |SUCCESS| [GIT MASTER] b287e404643aeab5bb5db084c142789df187844e From: dpdklab@iol.unh.edu To: Test Report Cc: dpdk-test-reports@iol.unh.edu, Xueming Li , Christian Ehrhardt , Kevin Traynor , Luca Boccassi Content-Type: text/plain X-BeenThere: test-report@dpdk.org X-Mailman-Version: 2.1.29 Precedence: list List-Id: automatic DPDK test reports List-Unsubscribe: , List-Archive: List-Post: List-Help: List-Subscribe: , Errors-To: test-report-bounces@dpdk.org _Testing PASS_ Branch: tags/v24.11 b287e404643aeab5bb5db084c142789df187844e --> testing pass Upstream job id: Generic-Unit-Test-DPDK#385809 Test environment and result as below: +-------------------------------+----------------+ | Environment | dpdk_unit_test | +===============================+================+ | Fedora Linux 40 | PASS | +-------------------------------+----------------+ | CentOS Stream 10 | PASS | +-------------------------------+----------------+ | Fedora Linux 42 | PASS | +-------------------------------+----------------+ | CentOS Stream 9 | PASS | +-------------------------------+----------------+ | Red Hat Enterprise Linux 9.5 | PASS | +-------------------------------+----------------+ | Debian GNU/Linux 12 | PASS | +-------------------------------+----------------+ | Red Hat Enterprise Linux 8.10 | PASS | +-------------------------------+----------------+ | Fedora Linux 41 | PASS | +-------------------------------+----------------+ | Ubuntu 22.04 | PASS | +-------------------------------+----------------+ | Ubuntu 20.04 | PASS | +-------------------------------+----------------+ | Ubuntu 24.04 | PASS | +-------------------------------+----------------+ | Windows Server 2022 | PASS | +-------------------------------+----------------+ Fedora Linux 40 Kernel: 5.15 Compiler: clang gcc (GCC) 14.2.1 20240912 (Red Hat 14.2.1-3) CentOS Stream 10 Kernel: 5.15 Compiler: gcc gcc (GCC) 14.2.1 20250110 (Red Hat 14.2.1-8) Fedora Linux 42 Kernel: 5.15 Compiler: gcc gcc (GCC) 15.2.1 20250808 (Red Hat 15.2.1-1) CentOS Stream 9 Kernel: 5.15 Compiler: gcc gcc (GCC) 11.5.0 20240719 (Red Hat 11.5.0-11) Red Hat Enterprise Linux 9.5 Kernel: 5.15 Compiler: gcc gcc (GCC) 11.5.0 20240719 (Red Hat 11.5.0-2) Debian GNU/Linux 12 Kernel: 5.15 Compiler: gcc gcc (Debian 12.2.0-14+deb12u1) 12.2.0 Red Hat Enterprise Linux 8.10 Kernel: 5.15 Compiler: gcc gcc (GCC) 8.5.0 20210514 (Red Hat 8.5.0-22) Fedora Linux 41 Kernel: 5.15 Compiler: gcc gcc (GCC) 14.3.1 20250523 (Red Hat 14.3.1-1) Ubuntu 22.04 Kernel: 5.15 Compiler: gcc gcc (Ubuntu 11.4.0-1ubuntu1~22.04) 11.4.0 Ubuntu 20.04 Kernel: 5.15 Compiler: gcc gcc (Ubuntu 9.4.0-1ubuntu1~20.04.2) 9.4.0 Ubuntu 24.04 Kernel: 5.15 Compiler: gcc gcc (Ubuntu 13.3.0-6ubuntu2~24.04) 13.3.0 Windows Server 2022 Kernel: 10.0.20348.2031 Compiler: clang 15.0.7, gcc 14.1.0 (MinGW), and MSVC VS 19.39.33521 To view detailed results, visit: https://lab.dpdk.org/results/dashboard/tarballs/35359/ UNH-IOL DPDK Community Lab To manage your email subscriptions, visit: https://lab.dpdk.org/results/dashboard/preferences/subscriptions/