From mboxrd@z Thu Jan 1 00:00:00 1970 Return-Path: Received: from mails.dpdk.org (mails.dpdk.org [217.70.189.124]) by inbox.dpdk.org (Postfix) with ESMTP id 72038489F5 for ; Tue, 28 Oct 2025 07:48:56 +0100 (CET) Received: from mails.dpdk.org (localhost [127.0.0.1]) by mails.dpdk.org (Postfix) with ESMTP id 472594021E; Tue, 28 Oct 2025 07:48:56 +0100 (CET) Received: from mail-pj1-f97.google.com (mail-pj1-f97.google.com [209.85.216.97]) by mails.dpdk.org (Postfix) with ESMTP id 461454021E for ; Tue, 28 Oct 2025 07:48:55 +0100 (CET) Received: by mail-pj1-f97.google.com with SMTP id 98e67ed59e1d1-33ba5d8f3bfso5025807a91.3 for ; Mon, 27 Oct 2025 23:48:55 -0700 (PDT) DKIM-Signature: v=1; a=rsa-sha256; c=relaxed/relaxed; d=iol.unh.edu; s=unh-iol; t=1761634134; x=1762238934; darn=dpdk.org; h=cc:to:from:subject:message-id:date:from:to:cc:subject:date :message-id:reply-to; bh=OVDYJMxbCflEBdDCZcsa0aXuQ/gXeXkW9RxKHaKak/4=; b=TOfZB2pr11QDDT42IQrZFnYxyhYJVZ8IJP/6u1rVEjB51NzE/rJb6moouQqK6L0ELY gQKgk1zTzH+Rjlxrh+igCziC1dP72dUlBPGPQtgw3Oo95GOaZuQ3m9tLMz8wQliy9VN+ YyCvAPBvyxgU0B1tqgIN/YIGL22QWfOHPxwGY= X-Google-DKIM-Signature: v=1; a=rsa-sha256; c=relaxed/relaxed; d=1e100.net; s=20230601; t=1761634134; x=1762238934; h=cc:to:from:subject:message-id:date:x-gm-message-state:from:to:cc :subject:date:message-id:reply-to; bh=OVDYJMxbCflEBdDCZcsa0aXuQ/gXeXkW9RxKHaKak/4=; b=AjJQ0jegdg13hpf+cCkJuym0dcRavlz8ZufIjqwdyoMhzAyDlpVgrZfoq0/aRNhR3F //kLAc+Bcf630TUqen6Tsz7cDsQY2dVsPEC7hwHC3p/elLpLbr7CYciZgplwom/XhvHL PHFkck8XK8WxTP22bpTf4Z/1u/wOMYrs1GustLaR3A77lupIZ/B5hATgiVlTqt6fPlbO +yYjEswO15CjrmfWxRRXKEGC6qtF/dkqEeIr3jLsXP1wdjxJI9Enfs8JKOfRS185AfvY RS17PtwQT3nph5lvFH2pBni+0JKRwR7atTREpzVqrrt75mTcsQAapjTp5HpR/2ilSTAQ 1iIQ== X-Gm-Message-State: AOJu0Yz54z5cD9rx95NcB3AKRwriomGnCM41C7zVooAA83WIZ2FuABvg SJ+6chAPRxw1jOnfbn1URI21s48Oe8cAPaRuV4RbF+x3pReAkMyTWgDNBpG7QcRj5IAW2fu/4EF XqxKFLtbraHQqMZBIDwN2Z/IbEUq4pkYVQ0i7 X-Gm-Gg: ASbGncuMTNc0xVoGS7vGNM9qRNFBTQvkD0toKzLnLP8YXF/TemvsCVB7gxQhDkjd/wj xTq5f+fgqAXRiNUDvIetxXNNJaGc1+FKYI3f7eQGxuURsxFBiDoZCD6baSDZPioe0G1e2qKcfrr bXh2J8qjLbS/LSG8lRddduKMbK1N+XMJIH6OUxAeJlvW7X1Y6Io/NFzyO50N+nMj43xjo5PFanx KIyRfqNppvgEKtSROjlqvjUXJGikGQ09YVV/6AoGvyQ5sGw76WxQeGWyvA6aylWAOl9dOiMdCzm z/Go8a+qZuMK0dzoI6DEGAgrXONDnBAiiWv7F6HikUiOo6EBgne3JkCY0XzOZU1bmjQPObDRlZs 85QibdF4DwVUNFaJ5rQg6Lb4mMlxklng= X-Google-Smtp-Source: AGHT+IF8WArBcldol+b+1ODB6TztqRjJURrgPqMIOJN4ebDjCIXBEchE6rQlUFk56TnWEyWr0bSCZM7S4BSi X-Received: by 2002:a17:90b:1d48:b0:32e:936f:ad7 with SMTP id 98e67ed59e1d1-34027bdd760mr2496944a91.27.1761634134272; Mon, 27 Oct 2025 23:48:54 -0700 (PDT) Received: from postal.iol.unh.edu (postal.iol.unh.edu. [132.177.123.84]) by smtp-relay.gmail.com with ESMTPS id 98e67ed59e1d1-33fed81483bsm977468a91.8.2025.10.27.23.48.54 (version=TLS1_2 cipher=ECDHE-ECDSA-AES128-GCM-SHA256 bits=128/128); Mon, 27 Oct 2025 23:48:54 -0700 (PDT) X-Relaying-Domain: iol.unh.edu Date: Mon, 27 Oct 2025 23:48:54 -0700 (PDT) Message-ID: <69006756.170a0220.1d03ae.d2dcSMTPIN_ADDED_MISSING@mx.google.com> Received: from [172.21.0.3] (unknown [172.18.0.240]) by postal.iol.unh.edu (Postfix) with ESMTP id 5EF026051830; Tue, 28 Oct 2025 02:48:53 -0400 (EDT) Subject: |SUCCESS| [GIT MASTER] b287e404643aeab5bb5db084c142789df187844e From: dpdklab@iol.unh.edu To: Test Report Cc: dpdk-test-reports@iol.unh.edu, Xueming Li , Christian Ehrhardt , Kevin Traynor , Luca Boccassi Content-Type: text/plain X-BeenThere: test-report@dpdk.org X-Mailman-Version: 2.1.29 Precedence: list List-Id: automatic DPDK test reports List-Unsubscribe: , List-Archive: List-Post: List-Help: List-Subscribe: , Errors-To: test-report-bounces@dpdk.org _Testing PASS_ Branch: tags/v24.11 b287e404643aeab5bb5db084c142789df187844e --> testing pass Upstream job id: Generic-DPDK-Compile-Meson#438247 Test environment and result as below: +-------------------------------+--------------------+------------------+-------------------+-------------------+-------------------------+----------------------+ | Environment | dpdk_meson_compile | dpdk_compile_ovs | dpdk_compile_spdk | dpdk_msvc_compile | dpdk_llvm_clang_compile | dpdk_mingw64_compile | +===============================+====================+==================+===================+===================+=========================+======================+ | openSUSE Leap 15.6 | PASS | SKIPPED | SKIPPED | SKIPPED | SKIPPED | SKIPPED | +-------------------------------+--------------------+------------------+-------------------+-------------------+-------------------------+----------------------+ | Fedora Linux 42 | PASS | PASS | PASS | SKIPPED | SKIPPED | SKIPPED | +-------------------------------+--------------------+------------------+-------------------+-------------------+-------------------------+----------------------+ | CentOS Stream 10 | PASS | SKIPPED | SKIPPED | SKIPPED | SKIPPED | SKIPPED | +-------------------------------+--------------------+------------------+-------------------+-------------------+-------------------------+----------------------+ | CentOS Stream 9 | PASS | SKIPPED | PASS | SKIPPED | SKIPPED | SKIPPED | +-------------------------------+--------------------+------------------+-------------------+-------------------+-------------------------+----------------------+ | Debian GNU/Linux 12 | PASS | SKIPPED | PASS | SKIPPED | SKIPPED | SKIPPED | +-------------------------------+--------------------+------------------+-------------------+-------------------+-------------------------+----------------------+ | Red Hat Enterprise Linux 9.5 | PASS | SKIPPED | SKIPPED | SKIPPED | SKIPPED | SKIPPED | +-------------------------------+--------------------+------------------+-------------------+-------------------+-------------------------+----------------------+ | Ubuntu 22.04 | PASS | SKIPPED | PASS | SKIPPED | SKIPPED | SKIPPED | +-------------------------------+--------------------+------------------+-------------------+-------------------+-------------------------+----------------------+ | Red Hat Enterprise Linux 8.10 | PASS | SKIPPED | SKIPPED | SKIPPED | SKIPPED | SKIPPED | +-------------------------------+--------------------+------------------+-------------------+-------------------+-------------------------+----------------------+ | Ubuntu 20.04 | PASS | SKIPPED | SKIPPED | SKIPPED | SKIPPED | SKIPPED | +-------------------------------+--------------------+------------------+-------------------+-------------------+-------------------------+----------------------+ | Ubuntu 24.04 | PASS | PASS | PASS | SKIPPED | SKIPPED | SKIPPED | +-------------------------------+--------------------+------------------+-------------------+-------------------+-------------------------+----------------------+ | Alpine Linux 3.22.0 | PASS | SKIPPED | SKIPPED | SKIPPED | SKIPPED | SKIPPED | +-------------------------------+--------------------+------------------+-------------------+-------------------+-------------------------+----------------------+ | FreeBSD 14.2 | PASS | SKIPPED | SKIPPED | SKIPPED | SKIPPED | SKIPPED | +-------------------------------+--------------------+------------------+-------------------+-------------------+-------------------------+----------------------+ | Windows Server 2022 | SKIPPED | SKIPPED | SKIPPED | PASS | PASS | PASS | +-------------------------------+--------------------+------------------+-------------------+-------------------+-------------------------+----------------------+ openSUSE Leap 15.6 Kernel: 5.15 Compiler: gcc gcc (SUSE Linux) 7.5.0 Fedora Linux 42 Kernel: 5.15 Compiler: clang gcc (GCC) 15.2.1 20250808 (Red Hat 15.2.1-1) CentOS Stream 10 Kernel: 5.15 Compiler: gcc gcc (GCC) 14.2.1 20250110 (Red Hat 14.2.1-8) CentOS Stream 9 Kernel: 5.15 Compiler: gcc gcc (GCC) 11.5.0 20240719 (Red Hat 11.5.0-11) Debian GNU/Linux 12 Kernel: 5.15 Compiler: gcc gcc (Debian 12.2.0-14+deb12u1) 12.2.0 Red Hat Enterprise Linux 9.5 Kernel: 5.15 Compiler: gcc gcc (GCC) 11.5.0 20240719 (Red Hat 11.5.0-2) Ubuntu 22.04 Kernel: 5.15 Compiler: gcc gcc (Ubuntu 11.4.0-1ubuntu1~22.04) 11.4.0 Red Hat Enterprise Linux 8.10 Kernel: 5.15 Compiler: gcc gcc (GCC) 8.5.0 20210514 (Red Hat 8.5.0-22) Ubuntu 20.04 Kernel: 5.15 Compiler: gcc gcc (Ubuntu 9.4.0-1ubuntu1~20.04.2) 9.4.0 Ubuntu 24.04 Kernel: 5.15 Compiler: gcc gcc (Ubuntu 13.3.0-6ubuntu2~24.04) 13.3.0 Alpine Linux 3.22.0 Kernel: 5.15 Compiler: gcc gcc (Alpine 14.2.0) 14.2.0 FreeBSD 14.2 Kernel: 14.2-RELEASE Compiler: clang 18.1.6 Windows Server 2022 Kernel: 10.0.20348.2031 Compiler: clang 15.0.7, gcc 14.1.0 (MinGW), and MSVC VS 19.39.33521 To view detailed results, visit: https://lab.dpdk.org/results/dashboard/tarballs/35359/ UNH-IOL DPDK Community Lab To manage your email subscriptions, visit: https://lab.dpdk.org/results/dashboard/preferences/subscriptions/