From mboxrd@z Thu Jan 1 00:00:00 1970 Return-Path: Received: from mails.dpdk.org (mails.dpdk.org [217.70.189.124]) by inbox.dpdk.org (Postfix) with ESMTP id 3024C489F8 for ; Tue, 28 Oct 2025 08:07:27 +0100 (CET) Received: from mails.dpdk.org (localhost [127.0.0.1]) by mails.dpdk.org (Postfix) with ESMTP id 01BB64021E; Tue, 28 Oct 2025 08:07:27 +0100 (CET) Received: from mail-pj1-f100.google.com (mail-pj1-f100.google.com [209.85.216.100]) by mails.dpdk.org (Postfix) with ESMTP id DD0DF4021E for ; Tue, 28 Oct 2025 08:07:25 +0100 (CET) Received: by mail-pj1-f100.google.com with SMTP id 98e67ed59e1d1-340299fe579so733066a91.2 for ; Tue, 28 Oct 2025 00:07:25 -0700 (PDT) DKIM-Signature: v=1; a=rsa-sha256; c=relaxed/relaxed; d=iol.unh.edu; s=unh-iol; t=1761635245; x=1762240045; darn=dpdk.org; h=references:in-reply-to:cc:to:from:subject:message-id:date:from:to :cc:subject:date:message-id:reply-to; bh=Z6uPl+ZcPqNh5tT+WghO5ihCWwqe8R8NkQcTj/ZSPts=; b=VoHOqgKeqlgQhllGCz7q4PmZoHrshMVFu+1BRUQnFEHkeeu3dc2fv7GLIec/ebKqU8 ZsP1jVRXbqurAwVnze+tnrEhvNspacQsaS4yZ1XqY4ixYMww3qB7QV/ZJm4WNHOb/Acr rqM1AfU8kiTenlXt2DQRBdjMYoOEzSUmbTcz0= X-Google-DKIM-Signature: v=1; a=rsa-sha256; c=relaxed/relaxed; d=1e100.net; s=20230601; t=1761635245; x=1762240045; h=references:in-reply-to:cc:to:from:subject:message-id:date :x-gm-message-state:from:to:cc:subject:date:message-id:reply-to; bh=Z6uPl+ZcPqNh5tT+WghO5ihCWwqe8R8NkQcTj/ZSPts=; b=QBq5FQx6PNMpNhArAOUX2BqYjWuR7HSxqp6R2QMni7+tuiUGv4wJEADUy+yIkBTQM0 U2HUKMs1ofEJrvTgHR8Uc11CeOAFzOxbENU4blT8OFelY2+uAWRujWc113Tf5HEIu3sa AkvY+WL8oup9j6sTsK/XGLnMMd7KD6ONxd3spo9udx49a+TsXWgQp3qCS4Q+aLoImF7r 7kJwD0+oBd39NAZcF82N+paDJL4f3lAFeKaiMxypsSpwr8LqOyG4YA5KVG5uVY7ryAxQ iRwa6Jgiy1uR+EzbiZlwilGGFitoi9LRZ4T4tLHL7iL3yYrlcC5YOfz9ivjlcX7Pn1BC ppiQ== X-Gm-Message-State: AOJu0Yy9ME2BfJIiA/w61CKzUDGUICh1CJ6IekksJZ3/n1YDFePeuL3W jkATF/ntSHA/5NHhD4LX5Vd5LLkm5btdiVL9XoosLTCpM1f4B9wG6NeA9IgMW9PL3GMYmB7iqRR Laz61ZRxnEqnO/InybK0j+bwP/kBXFfTLUqPFuriw0GZ8u3w3eGiKr/eUu/ux X-Gm-Gg: ASbGncu5wPxFp/TgPcjo86ZEAzhVVvzuvF4bKeapDkLAbNoM61iNzp/9puaje5RlKGU 8YKBZFTHgHlQioIx20jk6s91aK88jzT+p4XvZF72CGzf5pSFhDmulsUnuwLSycL/99XSBpLUgdd eaAYtqFqSP8UBj0MxlMa2cVHWFS54rwjArBhUzqO8ITSmxgPJplMCKVYBW0glCPfr5/Q4GyikHt ouT5EbWL0oIpNDjLH2YYv80n72eZRgNB85PuP9mAYkmFElhaYEJuXXrLUHoatE2isPRbm6MELDF oOo8QnzDRNPiujy56KgGu53yMYetkrS04KYKmX8qp/oOhHWJ5ZBZ2OXNsLakMcPh4JLqvk/v50F Rj8ACieAW X-Google-Smtp-Source: AGHT+IH3ih1FxoNIUMIFuknsjUKeDBzSime3d9V17efsHENqpXyYo92K7wetwLm384HlWMnT5KAk8yvKMskC X-Received: by 2002:a17:90b:35c6:b0:330:4604:3ae8 with SMTP id 98e67ed59e1d1-34027a7fcdcmr3366475a91.21.1761635244865; Tue, 28 Oct 2025 00:07:24 -0700 (PDT) Received: from postal.iol.unh.edu (postal.iol.unh.edu. [2606:4100:3880:1234::84]) by smtp-relay.gmail.com with ESMTPS id 98e67ed59e1d1-33fed7e4894sm925483a91.7.2025.10.28.00.07.24 (version=TLS1_2 cipher=ECDHE-ECDSA-AES128-GCM-SHA256 bits=128/128); Tue, 28 Oct 2025 00:07:24 -0700 (PDT) X-Relaying-Domain: iol.unh.edu Date: Tue, 28 Oct 2025 00:07:24 -0700 (PDT) Message-ID: <69006bac.170a0220.343600.a719SMTPIN_ADDED_MISSING@mx.google.com> Received: from [172.21.0.3] (unknown [172.18.0.240]) by postal.iol.unh.edu (Postfix) with ESMTP id 088706051830; Tue, 28 Oct 2025 03:07:24 -0400 (EDT) Subject: |WARNING| pw158167-158169 [PATCH] [v9,3/3] doc: note on unsupported From: dpdklab@iol.unh.edu To: Test Report Cc: dpdk-test-reports@iol.unh.edu, Bruce Richardson In-Reply-To: <20251028052943.121453-4-shaiq.wani@intel.com> References: <20251028052943.121453-4-shaiq.wani@intel.com> Content-Type: text/plain X-BeenThere: test-report@dpdk.org X-Mailman-Version: 2.1.29 Precedence: list List-Id: automatic DPDK test reports List-Unsubscribe: , List-Archive: List-Post: List-Help: List-Subscribe: , Errors-To: test-report-bounces@dpdk.org Test-Label: iol-compile-amd64-testing Test-Status: WARNING http://dpdk.org/patch/158169 _Testing issues_ Submitter: Shaiq Wani Date: Tuesday, October 28 2025 05:29:43 DPDK git baseline: Repo:dpdk-next-net-intel Branch: master CommitID:6b997d6b9ffdbb4f8ecd14d1f217da69cdc783af 158167-158169 --> testing issues Upstream job id: Generic-DPDK-Compile-Meson#438272 Test environment and result as below: +-------------------------------+--------------------+-------------------+------------------+-------------------------+-------------------+----------------------+ | Environment | dpdk_meson_compile | dpdk_compile_spdk | dpdk_compile_ovs | dpdk_llvm_clang_compile | dpdk_msvc_compile | dpdk_mingw64_compile | +===============================+====================+===================+==================+=========================+===================+======================+ | openSUSE Leap 15.6 | PASS | SKIPPED | SKIPPED | SKIPPED | SKIPPED | SKIPPED | +-------------------------------+--------------------+-------------------+------------------+-------------------------+-------------------+----------------------+ | Red Hat Enterprise Linux 8.10 | PASS | SKIPPED | SKIPPED | SKIPPED | SKIPPED | SKIPPED | +-------------------------------+--------------------+-------------------+------------------+-------------------------+-------------------+----------------------+ | CentOS Stream 9 | PASS | WARN | SKIPPED | SKIPPED | SKIPPED | SKIPPED | +-------------------------------+--------------------+-------------------+------------------+-------------------------+-------------------+----------------------+ | CentOS Stream 10 | PASS | SKIPPED | SKIPPED | SKIPPED | SKIPPED | SKIPPED | +-------------------------------+--------------------+-------------------+------------------+-------------------------+-------------------+----------------------+ | Fedora Linux 42 | PASS | WARN | PASS | SKIPPED | SKIPPED | SKIPPED | +-------------------------------+--------------------+-------------------+------------------+-------------------------+-------------------+----------------------+ | Debian GNU/Linux 12 | PASS | WARN | SKIPPED | SKIPPED | SKIPPED | SKIPPED | +-------------------------------+--------------------+-------------------+------------------+-------------------------+-------------------+----------------------+ | Red Hat Enterprise Linux 9.5 | PASS | SKIPPED | SKIPPED | SKIPPED | SKIPPED | SKIPPED | +-------------------------------+--------------------+-------------------+------------------+-------------------------+-------------------+----------------------+ | Ubuntu 20.04 | PASS | SKIPPED | SKIPPED | SKIPPED | SKIPPED | SKIPPED | +-------------------------------+--------------------+-------------------+------------------+-------------------------+-------------------+----------------------+ | FreeBSD 14.2 | PASS | SKIPPED | SKIPPED | SKIPPED | SKIPPED | SKIPPED | +-------------------------------+--------------------+-------------------+------------------+-------------------------+-------------------+----------------------+ | Ubuntu 22.04 | PASS | WARN | SKIPPED | SKIPPED | SKIPPED | SKIPPED | +-------------------------------+--------------------+-------------------+------------------+-------------------------+-------------------+----------------------+ | Ubuntu 24.04 | PASS | WARN | PASS | SKIPPED | SKIPPED | SKIPPED | +-------------------------------+--------------------+-------------------+------------------+-------------------------+-------------------+----------------------+ | Alpine Linux 3.22.0 | PASS | SKIPPED | SKIPPED | SKIPPED | SKIPPED | SKIPPED | +-------------------------------+--------------------+-------------------+------------------+-------------------------+-------------------+----------------------+ | Windows Server 2022 | SKIPPED | SKIPPED | SKIPPED | PASS | PASS | PASS | +-------------------------------+--------------------+-------------------+------------------+-------------------------+-------------------+----------------------+ ==== 20 line log output for Ubuntu 24.04 (dpdk_compile_spdk): ==== --- Failed to get log output --- ==== End log output ==== openSUSE Leap 15.6 Kernel: 5.15 Compiler: gcc gcc (SUSE Linux) 7.5.0 Red Hat Enterprise Linux 8.10 Kernel: 5.15 Compiler: gcc gcc (GCC) 8.5.0 20210514 (Red Hat 8.5.0-22) CentOS Stream 9 Kernel: 5.15 Compiler: gcc gcc (GCC) 11.5.0 20240719 (Red Hat 11.5.0-11) CentOS Stream 10 Kernel: 5.15 Compiler: gcc gcc (GCC) 14.2.1 20250110 (Red Hat 14.2.1-8) Fedora Linux 42 Kernel: 5.15 Compiler: gcc gcc (GCC) 15.2.1 20250808 (Red Hat 15.2.1-1) Debian GNU/Linux 12 Kernel: 5.15 Compiler: gcc gcc (Debian 12.2.0-14+deb12u1) 12.2.0 Red Hat Enterprise Linux 9.5 Kernel: 5.15 Compiler: gcc gcc (GCC) 11.5.0 20240719 (Red Hat 11.5.0-2) Ubuntu 20.04 Kernel: 5.15 Compiler: gcc gcc (Ubuntu 9.4.0-1ubuntu1~20.04.2) 9.4.0 FreeBSD 14.2 Kernel: 14.2-RELEASE Compiler: clang 18.1.6 Ubuntu 22.04 Kernel: 5.15 Compiler: gcc gcc (Ubuntu 11.4.0-1ubuntu1~22.04) 11.4.0 Ubuntu 24.04 Kernel: 5.15 Compiler: gcc gcc (Ubuntu 13.3.0-6ubuntu2~24.04) 13.3.0 Alpine Linux 3.22.0 Kernel: 5.15 Compiler: gcc gcc (Alpine 14.2.0) 14.2.0 Windows Server 2022 Kernel: 10.0.20348.2031 Compiler: clang 15.0.7, gcc 14.1.0 (MinGW), and MSVC VS 19.39.33521 To view detailed results, visit: https://lab.dpdk.org/results/dashboard/patchsets/34390/ UNH-IOL DPDK Community Lab To manage your email subscriptions, visit: https://lab.dpdk.org/results/dashboard/preferences/subscriptions/