From mboxrd@z Thu Jan 1 00:00:00 1970 Return-Path: Received: from mails.dpdk.org (mails.dpdk.org [217.70.189.124]) by inbox.dpdk.org (Postfix) with ESMTP id 1CE4E489E6 for ; Tue, 28 Oct 2025 08:19:36 +0100 (CET) Received: from mails.dpdk.org (localhost [127.0.0.1]) by mails.dpdk.org (Postfix) with ESMTP id 097274021E; Tue, 28 Oct 2025 08:19:36 +0100 (CET) Received: from mail-yx1-f98.google.com (mail-yx1-f98.google.com [74.125.224.98]) by mails.dpdk.org (Postfix) with ESMTP id 603094021E for ; Tue, 28 Oct 2025 08:19:34 +0100 (CET) Received: by mail-yx1-f98.google.com with SMTP id 956f58d0204a3-63e3a7a67a4so6041893d50.1 for ; Tue, 28 Oct 2025 00:19:34 -0700 (PDT) DKIM-Signature: v=1; a=rsa-sha256; c=relaxed/relaxed; d=iol.unh.edu; s=unh-iol; t=1761635973; x=1762240773; darn=dpdk.org; h=references:in-reply-to:cc:to:from:subject:message-id:date:from:to :cc:subject:date:message-id:reply-to; bh=Am3RICud/Doa7y2ENqILrb3RlByczMfTDDVoj9wsE18=; b=bXxt7KAg+qKc+FMiT/cULg/xo4AVGXHVQhicEYc1ujbvJulh8VNgQTVEUFIw2osHBR X9TtFjtSnSGGQ6LtPSFd7cm8Naf6KPv/eJBjKiixJY+RgZ7AdUqO6NuVssCpPPCSSn7S 6iHPvPwFu3VaxI+p7i+dyFZo2LE9qikyr0gac= X-Google-DKIM-Signature: v=1; a=rsa-sha256; c=relaxed/relaxed; d=1e100.net; s=20230601; t=1761635973; x=1762240773; h=references:in-reply-to:cc:to:from:subject:message-id:date :x-gm-message-state:from:to:cc:subject:date:message-id:reply-to; bh=Am3RICud/Doa7y2ENqILrb3RlByczMfTDDVoj9wsE18=; b=nDJWzG2QB+HVAJqb2o+SfMLQFB8jPCufKAKteV7tItg/oiSC8HSkibcg0vD7QBH1UY rYv18sfcaInbMI+FKG2Vl/2wT2ik86TjMeMaUnT1FyMTCMGPhZLgSCxjLlREU1uSohK+ nswVM8q8BBCrYBsHgHFVD7nF1hpamAZtYAoJuGAw0MNsyKVrqqmcu/SZdwADHg8Joo+H OcnOsY3+LlyCLBXSGMEYVLkGVZGcBhw402OMQ+GBN0TWFOTrW5gsfTt1Rmc5u5VW4Nez PFIBm1xnpfw7OnZ4PfqMke3AIVb58OtN+xHQJa7fWkVJDbEg2BqYMjMtHVxLJqHLa0lt N9Vw== X-Gm-Message-State: AOJu0Yy7yGrFYYIgeN6Fh7VESNY0suABcAAHRAtQyn1cSI8DxIdvD2eq 5qqIKU77/sI8zwB2Nt3EGSvyJIfvJOtVUyeBWgwMYXA53IltKuv/8ZmHqcp7pgc16S4VYW531hz KD38ivNgiHdGBkoF/wYWVnklHsqfebs2NgqVH+XRQ4zq/ X-Gm-Gg: ASbGncv3waJaLxdp2RBf0mYDvP5NlyoQmHvjfly0nRkYswpQn1oBJXIqdqyULCVOXgZ B2WGEf0QbY+RkJGmUAR8XpPGNGVQdT7GxSCQX5W2IhpY16LIpmNMEPQAYj+fimvj9BZTUiQhjq+ q56Pz5l5qVKH7Iplybq4OPWequGFoa5RSEehCVwJOjpae1Vl4A0XoDuwa9yVVmWOGm2h9kndWlV Hf3QgkN9I5YegwWAdk5Ee3Y5jlo4S2ZGiXqmJh6Ia9rdYWyrqUTiE/lXikOt7KkqXvXt7gLAw2y q/oYtywbZBVSZFjepb4p8geGFHMmluomWf8H8Q/mJaRIUUxXGdc7pWxl2NPjiGdrdhcGRK0vhPj BbWmcwSSrh+T9RMIWAYtLESYhbs4TaJM= X-Google-Smtp-Source: AGHT+IEaSqsmmHwAsaQ/P7Duwea1hd9B5UB1u1b5IMSCkjM0UGcwP1gLMhW1AyCOW094QdPQjOOQdzsrrC6p X-Received: by 2002:a05:690e:1517:b0:63f:415b:a787 with SMTP id 956f58d0204a3-63f6b8bdfafmr2296365d50.0.1761635973641; Tue, 28 Oct 2025 00:19:33 -0700 (PDT) Received: from postal.iol.unh.edu (postal.iol.unh.edu. [132.177.123.84]) by smtp-relay.gmail.com with ESMTPS id 956f58d0204a3-63f4c453191sm799028d50.9.2025.10.28.00.19.33 (version=TLS1_2 cipher=ECDHE-ECDSA-AES128-GCM-SHA256 bits=128/128); Tue, 28 Oct 2025 00:19:33 -0700 (PDT) X-Relaying-Domain: iol.unh.edu Date: Tue, 28 Oct 2025 00:19:33 -0700 (PDT) Message-ID: <69006e85.530a0220.32a080.427fSMTPIN_ADDED_MISSING@mx.google.com> Received: from [172.21.0.2] (unknown [172.18.0.240]) by postal.iol.unh.edu (Postfix) with ESMTP id ED7176050A61; Tue, 28 Oct 2025 03:19:32 -0400 (EDT) Subject: |SUCCESS| pw158167-158169 [PATCH] [v9,3/3] doc: note on unsupported From: dpdklab@iol.unh.edu To: Test Report Cc: dpdk-test-reports@iol.unh.edu, Bruce Richardson In-Reply-To: <20251028052943.121453-4-shaiq.wani@intel.com> References: <20251028052943.121453-4-shaiq.wani@intel.com> Content-Type: text/plain X-BeenThere: test-report@dpdk.org X-Mailman-Version: 2.1.29 Precedence: list List-Id: automatic DPDK test reports List-Unsubscribe: , List-Archive: List-Post: List-Help: List-Subscribe: , Errors-To: test-report-bounces@dpdk.org Test-Label: iol-unit-amd64-testing Test-Status: SUCCESS http://dpdk.org/patch/158169 _Testing PASS_ Submitter: Shaiq Wani Date: Tuesday, October 28 2025 05:29:43 DPDK git baseline: Repo:dpdk-next-net-intel Branch: master CommitID:6b997d6b9ffdbb4f8ecd14d1f217da69cdc783af 158167-158169 --> testing pass Upstream job id: Generic-Unit-Test-DPDK#385831 Test environment and result as below: +-------------------------------+----------------+ | Environment | dpdk_unit_test | +===============================+================+ | Fedora Linux 41 | PASS | +-------------------------------+----------------+ | CentOS Stream 9 | PASS | +-------------------------------+----------------+ | Debian GNU/Linux 12 | PASS | +-------------------------------+----------------+ | CentOS Stream 10 | PASS | +-------------------------------+----------------+ | Windows Server 2022 | PASS | +-------------------------------+----------------+ | Fedora Linux 42 | PASS | +-------------------------------+----------------+ | Fedora Linux 40 | PASS | +-------------------------------+----------------+ | Red Hat Enterprise Linux 8.10 | PASS | +-------------------------------+----------------+ | Ubuntu 20.04 | PASS | +-------------------------------+----------------+ | Ubuntu 24.04 | PASS | +-------------------------------+----------------+ | Ubuntu 22.04 | PASS | +-------------------------------+----------------+ | Red Hat Enterprise Linux 9.5 | PASS | +-------------------------------+----------------+ Fedora Linux 41 Kernel: 5.15 Compiler: gcc gcc (GCC) 14.3.1 20250523 (Red Hat 14.3.1-1) CentOS Stream 9 Kernel: 5.15 Compiler: gcc gcc (GCC) 11.5.0 20240719 (Red Hat 11.5.0-11) Debian GNU/Linux 12 Kernel: 5.15 Compiler: gcc gcc (Debian 12.2.0-14+deb12u1) 12.2.0 CentOS Stream 10 Kernel: 5.15 Compiler: gcc gcc (GCC) 14.2.1 20250110 (Red Hat 14.2.1-8) Windows Server 2022 Kernel: 10.0.20348.2031 Compiler: clang 15.0.7, gcc 14.1.0 (MinGW), and MSVC VS 19.39.33521 Fedora Linux 42 Kernel: 5.15 Compiler: clang gcc (GCC) 15.2.1 20250808 (Red Hat 15.2.1-1) Fedora Linux 40 Kernel: 5.15 Compiler: gcc gcc (GCC) 14.2.1 20240912 (Red Hat 14.2.1-3) Red Hat Enterprise Linux 8.10 Kernel: 5.15 Compiler: gcc gcc (GCC) 8.5.0 20210514 (Red Hat 8.5.0-22) Ubuntu 20.04 Kernel: 5.15 Compiler: gcc gcc (Ubuntu 9.4.0-1ubuntu1~20.04.2) 9.4.0 Ubuntu 24.04 Kernel: 5.15 Compiler: gcc gcc (Ubuntu 13.3.0-6ubuntu2~24.04) 13.3.0 Ubuntu 22.04 Kernel: 5.15 Compiler: gcc gcc (Ubuntu 11.4.0-1ubuntu1~22.04) 11.4.0 Red Hat Enterprise Linux 9.5 Kernel: 5.15 Compiler: gcc gcc (GCC) 11.5.0 20240719 (Red Hat 11.5.0-2) To view detailed results, visit: https://lab.dpdk.org/results/dashboard/patchsets/34390/ UNH-IOL DPDK Community Lab To manage your email subscriptions, visit: https://lab.dpdk.org/results/dashboard/preferences/subscriptions/