From mboxrd@z Thu Jan 1 00:00:00 1970 Return-Path: Received: from mails.dpdk.org (mails.dpdk.org [217.70.189.124]) by inbox.dpdk.org (Postfix) with ESMTP id 63BCF489E6 for ; Tue, 28 Oct 2025 08:58:35 +0100 (CET) Received: from mails.dpdk.org (localhost [127.0.0.1]) by mails.dpdk.org (Postfix) with ESMTP id 4460F4021E; Tue, 28 Oct 2025 08:58:35 +0100 (CET) Received: from mail-io1-f98.google.com (mail-io1-f98.google.com [209.85.166.98]) by mails.dpdk.org (Postfix) with ESMTP id 7454A4021E for ; Tue, 28 Oct 2025 08:58:34 +0100 (CET) Received: by mail-io1-f98.google.com with SMTP id ca18e2360f4ac-9459db1337cso299650339f.0 for ; Tue, 28 Oct 2025 00:58:34 -0700 (PDT) DKIM-Signature: v=1; a=rsa-sha256; c=relaxed/relaxed; d=iol.unh.edu; s=unh-iol; t=1761638313; x=1762243113; darn=dpdk.org; h=cc:to:from:subject:message-id:date:from:to:cc:subject:date :message-id:reply-to; bh=ENCNpOa9Tj8pys8mZ0E2PYfe3eGAF17i2wdGc9EOqvU=; b=CoOPpbBMJKMtHQ4tkXnu6KZDA2PBF8G6ee8JeP8EGMsA1bTXVaM0oGDj1DuJ0Tz5gi tqXr/gghL5guGhg9nyR/HpxFbHNHVAAqe/BVYAy19fdMXd5/C56WvapN/WkI0qestMk0 bISWyCfDK7AaTjGA16IftkxE+vGzeewG4Rcek= X-Google-DKIM-Signature: v=1; a=rsa-sha256; c=relaxed/relaxed; d=1e100.net; s=20230601; t=1761638313; x=1762243113; h=cc:to:from:subject:message-id:date:x-gm-message-state:from:to:cc :subject:date:message-id:reply-to; bh=ENCNpOa9Tj8pys8mZ0E2PYfe3eGAF17i2wdGc9EOqvU=; b=dISDC8RpeWesMIeyDt1XE3chWQ67kr5KlBFydt5Ua5wM/EhNu/tWfksJNqYPUUqTCw SMNkdaKu18iWsKaKEHkArmNVRpFa7OZY5QVhRuFQ1OuH0uFTtM9XReHVfyNBJh1gehIa cKzsqMH/yT7HUyFQ3UGhbyKn5ZfruW4NTKvYFQ53XkKVW298wn10hDQGP3mXVwwhr93D VSPUSf9p8v7QajxV/4o1DLdKh4jXs7a/lUxnIGuBvc2DGInbaBhLP904kUknQhY3fiLw 71jEl3VcvVROHRp39YY9tBD9C8/aMyfkLyLI+558+fuNj8/fqNrAVS8WKV7oQdwks/qZ JE0w== X-Gm-Message-State: AOJu0YzbCc+9z9cPb8E7YErCEzjJHfFoitIzhU5UOG0Q0t3/plmLjFY4 olamx8zYY2JbZkau7dpeWM/l+apKTfqkMgoq29NSR1xQsAV95Eawex1m5A1iuccWH2qjNV+e080 zm+ibk2nrtSfi5C8WYI8EArNOEEtl5TqG61+UcCs+vxyVGFMZnU8M X-Gm-Gg: ASbGncuyFJ9jO6x97+hNAO3K44EEsPBcVkaCCl8cp+4gBnk6BN8sYWMQR+R1xgCOCzV p1IuLt6D1bJieEbtNdoYMoGHOa4PbPuUDInidbVgpPIWZ9HWE6guwecc3vz/fEhSZwrjqmnEWnM yYMcXnViN64W1Bd+zex02Pe3PH5Z9ZXW6DBRCTgOso3t0dZxx73st4/rK76c0ZVotcA34t9IH+Z do/W33Wggg+GWNhZCkO/QfLTR4vSSsd/CzQyZMdDtlqUneMkvBtlFb+ya3/wklzSx+2Z7jeQS++ td7PwKIPB7aN4MLoFLPXSzTMwKzO/I6MPFwsu5aN9Kv89MX0dVfdB3ciKvGwUAT/jCIhnPPBWig I5K9wvxgQ X-Google-Smtp-Source: AGHT+IGYdZJ6GIbFf5i5sVfLqlYTzyHGdXGF5wek66iXGaL9ObozCAvkh7hX8ZBoIZgfun0FpULyNyyJgIy7 X-Received: by 2002:a92:ca0c:0:b0:430:afe4:6a4b with SMTP id e9e14a558f8ab-4320f77080cmr36686095ab.19.1761638313617; Tue, 28 Oct 2025 00:58:33 -0700 (PDT) Received: from postal.iol.unh.edu (postal.iol.unh.edu. [2606:4100:3880:1234::84]) by smtp-relay.gmail.com with ESMTPS id 8926c6da1cb9f-5aeaa31bfbdsm764432173.37.2025.10.28.00.58.33 (version=TLS1_2 cipher=ECDHE-ECDSA-AES128-GCM-SHA256 bits=128/128); Tue, 28 Oct 2025 00:58:33 -0700 (PDT) X-Relaying-Domain: iol.unh.edu Date: Tue, 28 Oct 2025 00:58:33 -0700 (PDT) Message-ID: <690077a9.050a0220.21ec62.2ee1SMTPIN_ADDED_MISSING@mx.google.com> Received: from [172.21.0.2] (unknown [172.18.0.240]) by postal.iol.unh.edu (Postfix) with ESMTP id 2660660003F4; Tue, 28 Oct 2025 03:58:33 -0400 (EDT) Subject: |SUCCESS| [GIT MASTER] b287e404643aeab5bb5db084c142789df187844e From: dpdklab@iol.unh.edu To: Test Report Cc: dpdk-test-reports@iol.unh.edu, Xueming Li , Christian Ehrhardt , Kevin Traynor , Luca Boccassi Content-Type: text/plain X-BeenThere: test-report@dpdk.org X-Mailman-Version: 2.1.29 Precedence: list List-Id: automatic DPDK test reports List-Unsubscribe: , List-Archive: List-Post: List-Help: List-Subscribe: , Errors-To: test-report-bounces@dpdk.org _Testing PASS_ Branch: tags/v24.11 b287e404643aeab5bb5db084c142789df187844e --> testing pass Upstream job id: Generic-Unit-Test-DPDK#385793 Test environment and result as below: +------------------------------+----------------+------------------------------+--------------+---------------------------+ | Environment | dpdk_unit_test | cryptodev_sw_snow3g_autotest | lpm_autotest | cryptodev_sw_zuc_autotest | +==============================+================+==============================+==============+===========================+ | Fedora Linux 40 | PASS | SKIPPED | SKIPPED | SKIPPED | +------------------------------+----------------+------------------------------+--------------+---------------------------+ | CentOS Stream 10 | PASS | SKIPPED | SKIPPED | SKIPPED | +------------------------------+----------------+------------------------------+--------------+---------------------------+ | Debian GNU/Linux 12 | PASS | SKIPPED | SKIPPED | SKIPPED | +------------------------------+----------------+------------------------------+--------------+---------------------------+ | CentOS Stream 9 | PASS | SKIPPED | SKIPPED | SKIPPED | +------------------------------+----------------+------------------------------+--------------+---------------------------+ | Fedora Linux 42 | PASS | SKIPPED | SKIPPED | SKIPPED | +------------------------------+----------------+------------------------------+--------------+---------------------------+ | Ubuntu 22.04 | PASS | SKIPPED | SKIPPED | SKIPPED | +------------------------------+----------------+------------------------------+--------------+---------------------------+ | Fedora Linux 41 | PASS | SKIPPED | SKIPPED | SKIPPED | +------------------------------+----------------+------------------------------+--------------+---------------------------+ | Ubuntu 24.04 | PASS | SKIPPED | SKIPPED | SKIPPED | +------------------------------+----------------+------------------------------+--------------+---------------------------+ | Ubuntu 20.04 | PASS | SKIPPED | PASS | SKIPPED | +------------------------------+----------------+------------------------------+--------------+---------------------------+ | Red Hat Enterprise Linux 9.5 | PASS | SKIPPED | SKIPPED | SKIPPED | +------------------------------+----------------+------------------------------+--------------+---------------------------+ | Debian 12 (arm) | SKIPPED | PASS | SKIPPED | PASS | +------------------------------+----------------+------------------------------+--------------+---------------------------+ Fedora Linux 40 Kernel: 5.4 Compiler: clang gcc (GCC) 14.2.1 20240912 (Red Hat 14.2.1-3) CentOS Stream 10 Kernel: 5.4 Compiler: gcc gcc (GCC) 14.2.1 20250110 (Red Hat 14.2.1-8) Debian GNU/Linux 12 Kernel: 5.4 Compiler: gcc gcc (Debian 12.2.0-14+deb12u1) 12.2.0 CentOS Stream 9 Kernel: 5.4 Compiler: gcc gcc (GCC) 11.5.0 20240719 (Red Hat 11.5.0-11) Fedora Linux 42 Kernel: 5.4 Compiler: clang gcc (GCC) 15.2.1 20250808 (Red Hat 15.2.1-1) Ubuntu 22.04 Kernel: 5.4 Compiler: gcc gcc (Ubuntu 11.4.0-1ubuntu1~22.04) 11.4.0 Fedora Linux 41 Kernel: 5.4 Compiler: clang gcc (GCC) 14.3.1 20250523 (Red Hat 14.3.1-1) Ubuntu 24.04 Kernel: 5.4 Compiler: gcc gcc (Ubuntu 13.3.0-6ubuntu2~24.04) 13.3.0 Ubuntu 20.04 Kernel: 5.4 Compiler: gcc gcc (Ubuntu 9.4.0-1ubuntu1~20.04.2) 9.4.0 Red Hat Enterprise Linux 9.5 Kernel: 5.4 Compiler: gcc gcc (GCC) 11.5.0 20240719 (Red Hat 11.5.0-2) Debian 12 (arm) Kernel: Depends on container host Compiler: gcc (Debian 12.2.0-14) 12.2.0 To view detailed results, visit: https://lab.dpdk.org/results/dashboard/tarballs/35359/ UNH-IOL DPDK Community Lab To manage your email subscriptions, visit: https://lab.dpdk.org/results/dashboard/preferences/subscriptions/