From mboxrd@z Thu Jan 1 00:00:00 1970 Return-Path: Received: from mails.dpdk.org (mails.dpdk.org [217.70.189.124]) by inbox.dpdk.org (Postfix) with ESMTP id 44CC4489E8 for ; Tue, 28 Oct 2025 09:29:11 +0100 (CET) Received: from mails.dpdk.org (localhost [127.0.0.1]) by mails.dpdk.org (Postfix) with ESMTP id 3FF274021E; Tue, 28 Oct 2025 09:29:11 +0100 (CET) Received: from mail-qk1-f225.google.com (mail-qk1-f225.google.com [209.85.222.225]) by mails.dpdk.org (Postfix) with ESMTP id 5C8CE4021E for ; Tue, 28 Oct 2025 09:29:09 +0100 (CET) Received: by mail-qk1-f225.google.com with SMTP id af79cd13be357-8a3eac7ca30so155585385a.2 for ; Tue, 28 Oct 2025 01:29:09 -0700 (PDT) DKIM-Signature: v=1; a=rsa-sha256; c=relaxed/relaxed; d=iol.unh.edu; s=unh-iol; t=1761640149; x=1762244949; darn=dpdk.org; h=cc:to:from:subject:message-id:date:from:to:cc:subject:date :message-id:reply-to; bh=pBlRMt4Zv54MFEBuwq/KT36vvfoOUnDX07KA5YUs364=; b=dewFMxa4v7khTIFN/994styAv7EIzjqKpRVtPPrs2O5zeWy9ZxRRvGSI1DneqpSEVI VRea/w4sVIFg8mRmuOQ2nP+ERkeBzSCfK+kBlJnXNSxNazDxWTSNle4uQOkmqN8hTcJx 1KHE9MHK2Zr6qSJIOVCnToXrmnfTyB28yZhj8= X-Google-DKIM-Signature: v=1; a=rsa-sha256; c=relaxed/relaxed; d=1e100.net; s=20230601; t=1761640149; x=1762244949; h=cc:to:from:subject:message-id:date:x-gm-message-state:from:to:cc :subject:date:message-id:reply-to; bh=pBlRMt4Zv54MFEBuwq/KT36vvfoOUnDX07KA5YUs364=; b=jtUa7RM5r6FU5sbACZojKBEJND0TqiQF8rwPt1CpfXTwuH4j7bqd44NcDEbMBxkjt1 LdTngzLANG3zOPN+9167adygLpsrtf+JKCUr+g0xDKfqYbsHx9nDDbGm83FAlqiM7fTw Ib5BnSqZAxgSGXzdY+x27YNne+ucRGTm3vZVOaY/3XJx2T83KQ06HtmZlvM65o2kPP9K 5CRg56pweKee4vlvoHCBv+TvLFlZbo0pIdVZzPa1YRFcB/2ELve8uHKt2M1iNt33pfi/ emJZHY/mCqQQdDYpHSC3llFpSuI4RI9wdvtgnzcujEQBsTTJf7nyBJ9JCdXv5kmHqTN8 e69g== X-Gm-Message-State: AOJu0YwQHjuLR3Ie0jYNDWorQPUDGT3kK0LCg/5JLigTTOfS8dnE72Z3 rxVAVmb4dPGV/ROjHoh6sT4Yw4uJgbLf+x2yzWNRDijLyhaAYdFFno03vkivXfjm2NfvswOxDqa 2jbxELToZWTKAK4YjV4CsLB14HLu70fO1zVyJIhD8OWatiW3Vqchc X-Gm-Gg: ASbGnctZVzXnUndXTvze1HnQ8m8NAj3hSvZe1Wr53LzJEsvaDZji5cjniJkODd2FGxv EpIMsM2dRUgjckPh87Hy9mbazx3JSpncN7Bc+hEIhJmSblntn7A2xcPoV56aH8596n+WoP7kJC9 UDw+7MO5vr6zWmqRFJnBPZ9oO5EZ27dtF7uRTgL6yDs0okMe8WFrHIGicJK7GkLAcUs7ehTyTTZ y6bY9XTgYakquqKeiHcrp8Db/L/Vyx+gnDPPBmT6yltuAkzhVpdDB/uZEdhAIrGuSKu3+/2Pp0P fdoCqKgQkJpyWFI9nUEJT/4uDWQqsINwovpDQGrIeZRXSoFryD1l32MUnA+M9JrHpqUTHFGz2GJ e9tkeWDag X-Google-Smtp-Source: AGHT+IE7Fg5Z/x+DoXtkHDP/RcaP4ZzpCz8WyD/9BaPAeyzSJsN7Iy94lILTG/9pRc83Xy75UFiN+1OfU8uJ X-Received: by 2002:a05:620a:29ce:b0:89e:a9ea:a374 with SMTP id af79cd13be357-8a7009d6b4fmr340716585a.67.1761640148594; Tue, 28 Oct 2025 01:29:08 -0700 (PDT) Received: from postal.iol.unh.edu (postal.iol.unh.edu. [2606:4100:3880:1234::84]) by smtp-relay.gmail.com with ESMTPS id af79cd13be357-89f24be03dcsm83935685a.8.2025.10.28.01.29.08 (version=TLS1_2 cipher=ECDHE-ECDSA-AES128-GCM-SHA256 bits=128/128); Tue, 28 Oct 2025 01:29:08 -0700 (PDT) X-Relaying-Domain: iol.unh.edu Date: Tue, 28 Oct 2025 01:29:08 -0700 (PDT) Message-ID: <69007ed4.050a0220.10209f.65bbSMTPIN_ADDED_MISSING@mx.google.com> Received: from [172.21.0.2] (unknown [172.18.0.240]) by postal.iol.unh.edu (Postfix) with ESMTP id 32A2C6051830; Tue, 28 Oct 2025 04:29:08 -0400 (EDT) Subject: |SUCCESS| [GIT MASTER] 3b43ce3f4a54468e7ef65760c2fd7b4d6ee6d9fc From: dpdklab@iol.unh.edu To: Test Report Cc: dpdk-test-reports@iol.unh.edu, Xueming Li , Christian Ehrhardt , Kevin Traynor , Luca Boccassi Content-Type: text/plain X-BeenThere: test-report@dpdk.org X-Mailman-Version: 2.1.29 Precedence: list List-Id: automatic DPDK test reports List-Unsubscribe: , List-Archive: List-Post: List-Help: List-Subscribe: , Errors-To: test-report-bounces@dpdk.org _Testing PASS_ Branch: tags/v22.11 3b43ce3f4a54468e7ef65760c2fd7b4d6ee6d9fc --> testing pass Upstream job id: Generic-DPDK-Compile-Meson#438198 Test environment and result as below: +------------------------------+--------------------+ | Environment | dpdk_meson_compile | +==============================+====================+ | Red Hat Enterprise Linux 9.5 | PASS | +------------------------------+--------------------+ | Debian GNU/Linux 12 | PASS | +------------------------------+--------------------+ | Ubuntu 22.04 | PASS | +------------------------------+--------------------+ | Ubuntu 20.04 | PASS | +------------------------------+--------------------+ | CentOS Stream 10 | PASS | +------------------------------+--------------------+ | CentOS Stream 9 | PASS | +------------------------------+--------------------+ | Fedora Linux 42 | PASS | +------------------------------+--------------------+ | Ubuntu 24.04 | PASS | +------------------------------+--------------------+ Red Hat Enterprise Linux 9.5 Kernel: 5.4 Compiler: gcc gcc (GCC) 11.5.0 20240719 (Red Hat 11.5.0-2) Debian GNU/Linux 12 Kernel: 5.4 Compiler: gcc gcc (Debian 12.2.0-14+deb12u1) 12.2.0 Ubuntu 22.04 Kernel: 5.4 Compiler: gcc gcc (Ubuntu 11.4.0-1ubuntu1~22.04) 11.4.0 Ubuntu 20.04 Kernel: 5.4 Compiler: gcc gcc (Ubuntu 9.4.0-1ubuntu1~20.04.2) 9.4.0 CentOS Stream 10 Kernel: 5.4 Compiler: gcc gcc (GCC) 14.2.1 20250110 (Red Hat 14.2.1-8) CentOS Stream 9 Kernel: 5.4 Compiler: gcc gcc (GCC) 11.5.0 20240719 (Red Hat 11.5.0-11) Fedora Linux 42 Kernel: 5.4 Compiler: clang gcc (GCC) 15.2.1 20250808 (Red Hat 15.2.1-1) Ubuntu 24.04 Kernel: 5.4 Compiler: gcc gcc (Ubuntu 13.3.0-6ubuntu2~24.04) 13.3.0 To view detailed results, visit: https://lab.dpdk.org/results/dashboard/tarballs/35357/ UNH-IOL DPDK Community Lab To manage your email subscriptions, visit: https://lab.dpdk.org/results/dashboard/preferences/subscriptions/