From: dpdklab@iol.unh.edu
To: Test Report <test-report@dpdk.org>
Cc: dpdk-test-reports@iol.unh.edu
Subject: |PENDING| pw158175-158177 [PATCH] [v1,3/3] net/r8169: fix issues rep
Date: Tue, 28 Oct 2025 02:29:25 -0700 (PDT) [thread overview]
Message-ID: <69008cf5.170a0220.233b7d.1c95SMTPIN_ADDED_MISSING@mx.google.com> (raw)
In-Reply-To: <20251028084716.369128-4-howard_wang@realsil.com.cn>
Test-Label: iol-compile-amd64-testing
Test-Status: PENDING
http://dpdk.org/patch/158177
_Testing pending_
Submitter: Howard Wang <howard_wang@realsil.com.cn>
Date: Tuesday, October 28 2025 08:47:16
DPDK git baseline: Repo:dpdk-next-net
Branch: master
CommitID:11a6a4b1f19140ac3a57ace844be3cba00c39eaa
158175-158177 --> testing pending
Upstream job id: Generic-VM-DPDK-Compile-Meson#39298
Test environment and result as below:
+-------------------------------+--------------------+-------------------+------------------+
| Environment | dpdk_meson_compile | dpdk_compile_spdk | dpdk_compile_ovs |
+===============================+====================+===================+==================+
| Debian GNU/Linux 12 | PEND | PEND | SKIPPED |
+-------------------------------+--------------------+-------------------+------------------+
| Red Hat Enterprise Linux 8.10 | PEND | SKIPPED | SKIPPED |
+-------------------------------+--------------------+-------------------+------------------+
| FreeBSD 14.2 | PEND | SKIPPED | SKIPPED |
+-------------------------------+--------------------+-------------------+------------------+
| Ubuntu 20.04 | PEND | SKIPPED | SKIPPED |
+-------------------------------+--------------------+-------------------+------------------+
| Alpine Linux 3.22.0 | PEND | SKIPPED | SKIPPED |
+-------------------------------+--------------------+-------------------+------------------+
| CentOS Stream 10 | PEND | SKIPPED | SKIPPED |
+-------------------------------+--------------------+-------------------+------------------+
| Fedora Linux 42 | PEND | PEND | PEND |
+-------------------------------+--------------------+-------------------+------------------+
| CentOS Stream 9 | PEND | PEND | SKIPPED |
+-------------------------------+--------------------+-------------------+------------------+
| openSUSE Leap 15.6 | PEND | SKIPPED | SKIPPED |
+-------------------------------+--------------------+-------------------+------------------+
| Ubuntu 24.04 | PEND | PEND | PEND |
+-------------------------------+--------------------+-------------------+------------------+
| Ubuntu 22.04 | PEND | PEND | SKIPPED |
+-------------------------------+--------------------+-------------------+------------------+
| Red Hat Enterprise Linux 9.5 | PEND | SKIPPED | SKIPPED |
+-------------------------------+--------------------+-------------------+------------------+
Debian GNU/Linux 12
Kernel: 5.15
Compiler: gcc gcc (Debian 12.2.0-14+deb12u1) 12.2.0
Red Hat Enterprise Linux 8.10
Kernel: 5.15
Compiler: gcc gcc (GCC) 8.5.0 20210514 (Red Hat 8.5.0-22)
FreeBSD 14.2
Kernel: 14.2-RELEASE
Compiler: clang 18.1.6
Ubuntu 20.04
Kernel: 4.19
Compiler: gcc gcc (Ubuntu 9.4.0-1ubuntu1~20.04.2) 9.4.0
Alpine Linux 3.22.0
Kernel: 5.15
Compiler: gcc gcc (Alpine 14.2.0) 14.2.0
CentOS Stream 10
Kernel: 5.15
Compiler: gcc gcc (GCC) 14.2.1 20250110 (Red Hat 14.2.1-8)
Fedora Linux 42
Kernel: 5.15
Compiler: clang gcc (GCC) 15.2.1 20250808 (Red Hat 15.2.1-1)
CentOS Stream 9
Kernel: 5.15
Compiler: gcc gcc (GCC) 11.5.0 20240719 (Red Hat 11.5.0-11)
openSUSE Leap 15.6
Kernel: 5.15
Compiler: gcc gcc (SUSE Linux) 7.5.0
Ubuntu 24.04
Kernel: 5.15
Compiler: gcc gcc (Ubuntu 13.3.0-6ubuntu2~24.04) 13.3.0
Ubuntu 22.04
Kernel: 5.15
Compiler: gcc gcc (Ubuntu 11.4.0-1ubuntu1~22.04) 11.4.0
Red Hat Enterprise Linux 9.5
Kernel: 5.15
Compiler: gcc gcc (GCC) 11.5.0 20240719 (Red Hat 11.5.0-2)
To view detailed results, visit:
https://lab.dpdk.org/results/dashboard/patchsets/34393/
UNH-IOL DPDK Community Lab
To manage your email subscriptions, visit:
https://lab.dpdk.org/results/dashboard/preferences/subscriptions/
next prev parent reply other threads:[~2025-10-28 9:29 UTC|newest]
Thread overview: 23+ messages / expand[flat|nested] mbox.gz Atom feed top
[not found] <20251028084716.369128-4-howard_wang@realsil.com.cn>
2025-10-28 8:24 ` |SUCCESS| pw158175-158177 [PATCH v1 3/3] net/r8169: fix issues reported by Coverity qemudev
2025-10-28 8:29 ` qemudev
2025-10-28 8:47 ` |WARNING| pw158177 " checkpatch
2025-10-28 9:29 ` dpdklab [this message]
2025-10-28 9:30 ` |SUCCESS| pw158175-158177 [PATCH] [v1,3/3] net/r8169: fix issues rep dpdklab
2025-10-28 9:35 ` dpdklab
2025-10-28 9:39 ` dpdklab
2025-10-28 9:52 ` dpdklab
2025-10-28 9:57 ` dpdklab
2025-10-28 10:10 ` |PENDING| " dpdklab
2025-10-28 10:19 ` |SUCCESS| pw158177 [PATCH v1 3/3] net/r8169: fix issues reported by Coverity 0-day Robot
2025-10-28 10:19 ` 0-day Robot
2025-10-28 10:29 ` |SUCCESS| pw158175-158177 [PATCH] [v1,3/3] net/r8169: fix issues rep dpdklab
2025-10-28 10:34 ` |PENDING| " dpdklab
2025-10-28 10:57 ` |SUCCESS| " dpdklab
2025-10-28 11:18 ` |WARNING| " dpdklab
2025-10-28 11:43 ` |SUCCESS| " dpdklab
2025-10-28 12:04 ` dpdklab
2025-10-28 13:21 ` dpdklab
2025-10-28 13:24 ` |WARNING| " dpdklab
2025-10-28 14:00 ` |SUCCESS| " dpdklab
2025-10-28 14:02 ` dpdklab
2025-10-28 14:16 ` dpdklab
Reply instructions:
You may reply publicly to this message via plain-text email
using any one of the following methods:
* Save the following mbox file, import it into your mail client,
and reply-to-all from there: mbox
Avoid top-posting and favor interleaved quoting:
https://en.wikipedia.org/wiki/Posting_style#Interleaved_style
* Reply using the --to, --cc, and --in-reply-to
switches of git-send-email(1):
git send-email \
--in-reply-to=69008cf5.170a0220.233b7d.1c95SMTPIN_ADDED_MISSING@mx.google.com \
--to=dpdklab@iol.unh.edu \
--cc=dpdk-test-reports@iol.unh.edu \
--cc=test-report@dpdk.org \
/path/to/YOUR_REPLY
https://kernel.org/pub/software/scm/git/docs/git-send-email.html
* If your mail client supports setting the In-Reply-To header
via mailto: links, try the mailto: link
Be sure your reply has a Subject: header at the top and a blank line
before the message body.
This is a public inbox, see mirroring instructions
for how to clone and mirror all data and code used for this inbox;
as well as URLs for NNTP newsgroup(s).