From mboxrd@z Thu Jan 1 00:00:00 1970 Return-Path: Received: from mails.dpdk.org (mails.dpdk.org [217.70.189.124]) by inbox.dpdk.org (Postfix) with ESMTP id 4DFE9489F1 for ; Tue, 28 Oct 2025 10:35:51 +0100 (CET) Received: from mails.dpdk.org (localhost [127.0.0.1]) by mails.dpdk.org (Postfix) with ESMTP id 486094021E; Tue, 28 Oct 2025 10:35:51 +0100 (CET) Received: from mail-ot1-f97.google.com (mail-ot1-f97.google.com [209.85.210.97]) by mails.dpdk.org (Postfix) with ESMTP id 4FE19402F0 for ; Tue, 28 Oct 2025 10:35:46 +0100 (CET) Received: by mail-ot1-f97.google.com with SMTP id 46e09a7af769-7c3e26d534fso4054783a34.1 for ; Tue, 28 Oct 2025 02:35:46 -0700 (PDT) DKIM-Signature: v=1; a=rsa-sha256; c=relaxed/relaxed; d=iol.unh.edu; s=unh-iol; t=1761644145; x=1762248945; darn=dpdk.org; h=references:in-reply-to:cc:to:from:subject:message-id:date:from:to :cc:subject:date:message-id:reply-to; bh=vhOfQvA2ZJnUN83+Tsnpsketlt5l7RlTVf4mNCqPcjY=; b=LSExxBletSjDjLbBaokDu0y6h4oAU09zlXXNI1KMDxYSsLOtDPhcITl0HrQYgVxL0D R3K73QALuzKoWwZ3HlWsT4ZPPjzwR894b6s0Kgy6MfrWiTFoZU16MVhK4yscYtW0cHyw uSzilNkwiCSI1x4AZBdcJeS66vv9DPAveODEc= X-Google-DKIM-Signature: v=1; a=rsa-sha256; c=relaxed/relaxed; d=1e100.net; s=20230601; t=1761644145; x=1762248945; h=references:in-reply-to:cc:to:from:subject:message-id:date :x-gm-message-state:from:to:cc:subject:date:message-id:reply-to; bh=vhOfQvA2ZJnUN83+Tsnpsketlt5l7RlTVf4mNCqPcjY=; b=f+ZmFSgg44iMab3Ro7Jbi82oDVd1TPOzrZDth+aAsf0Wcnh5JQTeHS8ncQuO6YzjAZ KtAaQ9H2sOuiw9MqMsHbVIjWsxWLooY8O7YB5zl57gx3JowCVQKa93/ZDxOiTkbo/R/v k0BUJtHk1zs9t+0zkjuaUwySdBnRTUx3wMRbYzcxFr5MimANcbKQUG3RkXx3g90GjWpF 3DM/n1stXFnqqAL6sx1QZRLiCQBLduqWQhvh5NFn5oKEVPuYtqNQhUheRm0cl90uj1QH /bHjV2ScvEFWnRlxUUK68zHFdkRi4FHjL3iZiYAVqO9c/sfDi1jwohiqlQWbdiWS3646 8ntg== X-Gm-Message-State: AOJu0YzY9qfK3rtgWLCu9zkLRumYNBI06bUgWd1ylcHv+0Z0wfpevUee C+SoQp1/HoeNpSWCSp6MPbUAcUklZpfO3v8wa1wuDW8r+eTaGXx9cX3/VrMrXAV+X78mAoKRKa6 FVbl5O5GE6Q91a6I7EUFQ8zL5WBXUtXbd/zlBEA9JcaUu X-Gm-Gg: ASbGncsOZKBJixXEmTFaN9xMsaBQR+Job2NgKuutnocnTAqwCl48cW9dZDv5Llb0j6B 6QCNd/ybeYouXi/cWM3t7xZraR1LJUbk6tFWBlY5LObPRhbLiWx1nD8GAlWSUwSc+ISkaF96ypy TT3iYT1DfrUobph6JzJ6yQEBK/S7YwrEJY2iNrqqMzEbp6jCHHbmNEyAy6ax9/ap+siKj8BgG4g DgNHX1+H9Vx64y8VwUbwQflmVx6s0Aovo488jNSe1nvQlU+Ei9fhwJ9pd4KgGJ0/0hntNCbvhn1 LhpAlaJtkIVz8/XF+D1c5OXDioS6VJv5fAaXOuao66HlBZE7nJUFLbElbN1PObStM3ohXcgCxOo or/snW8vK4uZWr0z2achRvPDnS3HFiAY= X-Google-Smtp-Source: AGHT+IHvVRqFhDXamuaF4ppIjkc6hrDvVeDdZsFYcVS3ellHtJ4S6KGl8BD5oeimA6ltyGw6AA6tTuhACMFD X-Received: by 2002:a05:6830:6185:b0:7b4:1768:ff31 with SMTP id 46e09a7af769-7c6781912eemr1352403a34.25.1761644145469; Tue, 28 Oct 2025 02:35:45 -0700 (PDT) Received: from postal.iol.unh.edu (postal.iol.unh.edu. [132.177.123.84]) by smtp-relay.gmail.com with ESMTPS id 46e09a7af769-7c53e32af35sm649918a34.6.2025.10.28.02.35.45 (version=TLS1_2 cipher=ECDHE-ECDSA-AES128-GCM-SHA256 bits=128/128); Tue, 28 Oct 2025 02:35:45 -0700 (PDT) X-Relaying-Domain: iol.unh.edu Date: Tue, 28 Oct 2025 02:35:45 -0700 (PDT) Message-ID: <69008e71.050a0220.3968fd.d2daSMTPIN_ADDED_MISSING@mx.google.com> Received: from [172.21.0.3] (unknown [172.18.0.240]) by postal.iol.unh.edu (Postfix) with ESMTP id 985C06051830; Tue, 28 Oct 2025 05:35:43 -0400 (EDT) Subject: |WARNING| pw158170 [PATCH] app/procinfo: fix warning of deprecated c From: dpdklab@iol.unh.edu To: Test Report Cc: dpdk-test-reports@iol.unh.edu In-Reply-To: <20251028081733.38583-1-fengchengwen@huawei.com> References: <20251028081733.38583-1-fengchengwen@huawei.com> Content-Type: text/plain X-BeenThere: test-report@dpdk.org X-Mailman-Version: 2.1.29 Precedence: list List-Id: automatic DPDK test reports List-Unsubscribe: , List-Archive: List-Post: List-Help: List-Subscribe: , Errors-To: test-report-bounces@dpdk.org Test-Label: iol-compile-amd64-testing Test-Status: WARNING http://dpdk.org/patch/158170 _Testing issues_ Submitter: Chengwen Feng Date: Tuesday, October 28 2025 08:17:33 DPDK git baseline: Repo:dpdk Branch: master CommitID:39b54f2dcf44ad1f91eabc7080cd5dea763607fd 158170 --> testing issues Upstream job id: Generic-DPDK-Compile-Meson#438286 Test environment and result as below: +-------------------------------+--------------------+------------------+-------------------+-------------------------+-------------------+----------------------+ | Environment | dpdk_meson_compile | dpdk_compile_ovs | dpdk_compile_spdk | dpdk_llvm_clang_compile | dpdk_msvc_compile | dpdk_mingw64_compile | +===============================+====================+==================+===================+=========================+===================+======================+ | CentOS Stream 10 | PASS | SKIPPED | SKIPPED | SKIPPED | SKIPPED | SKIPPED | +-------------------------------+--------------------+------------------+-------------------+-------------------------+-------------------+----------------------+ | openSUSE Leap 15.6 | PASS | SKIPPED | SKIPPED | SKIPPED | SKIPPED | SKIPPED | +-------------------------------+--------------------+------------------+-------------------+-------------------------+-------------------+----------------------+ | Fedora Linux 42 | PASS | PASS | WARN | SKIPPED | SKIPPED | SKIPPED | +-------------------------------+--------------------+------------------+-------------------+-------------------------+-------------------+----------------------+ | Red Hat Enterprise Linux 8.10 | PASS | SKIPPED | SKIPPED | SKIPPED | SKIPPED | SKIPPED | +-------------------------------+--------------------+------------------+-------------------+-------------------------+-------------------+----------------------+ | CentOS Stream 9 | PASS | SKIPPED | WARN | SKIPPED | SKIPPED | SKIPPED | +-------------------------------+--------------------+------------------+-------------------+-------------------------+-------------------+----------------------+ | Debian GNU/Linux 12 | PASS | SKIPPED | WARN | SKIPPED | SKIPPED | SKIPPED | +-------------------------------+--------------------+------------------+-------------------+-------------------------+-------------------+----------------------+ | Ubuntu 20.04 | PASS | SKIPPED | SKIPPED | SKIPPED | SKIPPED | SKIPPED | +-------------------------------+--------------------+------------------+-------------------+-------------------------+-------------------+----------------------+ | Red Hat Enterprise Linux 9.5 | PASS | SKIPPED | SKIPPED | SKIPPED | SKIPPED | SKIPPED | +-------------------------------+--------------------+------------------+-------------------+-------------------------+-------------------+----------------------+ | Ubuntu 22.04 | PASS | SKIPPED | WARN | SKIPPED | SKIPPED | SKIPPED | +-------------------------------+--------------------+------------------+-------------------+-------------------------+-------------------+----------------------+ | Ubuntu 24.04 | PASS | PASS | WARN | SKIPPED | SKIPPED | SKIPPED | +-------------------------------+--------------------+------------------+-------------------+-------------------------+-------------------+----------------------+ | Alpine Linux 3.22.0 | PASS | SKIPPED | SKIPPED | SKIPPED | SKIPPED | SKIPPED | +-------------------------------+--------------------+------------------+-------------------+-------------------------+-------------------+----------------------+ | FreeBSD 14.2 | PASS | SKIPPED | SKIPPED | SKIPPED | SKIPPED | SKIPPED | +-------------------------------+--------------------+------------------+-------------------+-------------------------+-------------------+----------------------+ | Windows Server 2022 | SKIPPED | SKIPPED | SKIPPED | PASS | PASS | PASS | +-------------------------------+--------------------+------------------+-------------------+-------------------------+-------------------+----------------------+ ==== 20 line log output for Ubuntu 24.04 (dpdk_compile_spdk): ==== --- Failed to get log output --- ==== End log output ==== CentOS Stream 10 Kernel: 5.15 Compiler: gcc gcc (GCC) 14.2.1 20250110 (Red Hat 14.2.1-8) openSUSE Leap 15.6 Kernel: 5.15 Compiler: gcc gcc (SUSE Linux) 7.5.0 Fedora Linux 42 Kernel: 5.15 Compiler: gcc gcc (GCC) 15.2.1 20250808 (Red Hat 15.2.1-1) Red Hat Enterprise Linux 8.10 Kernel: 5.15 Compiler: gcc gcc (GCC) 8.5.0 20210514 (Red Hat 8.5.0-22) CentOS Stream 9 Kernel: 5.15 Compiler: gcc gcc (GCC) 11.5.0 20240719 (Red Hat 11.5.0-11) Debian GNU/Linux 12 Kernel: 5.15 Compiler: gcc gcc (Debian 12.2.0-14+deb12u1) 12.2.0 Ubuntu 20.04 Kernel: 4.19 Compiler: gcc gcc (Ubuntu 9.4.0-1ubuntu1~20.04.2) 9.4.0 Red Hat Enterprise Linux 9.5 Kernel: 5.15 Compiler: gcc gcc (GCC) 11.5.0 20240719 (Red Hat 11.5.0-2) Ubuntu 22.04 Kernel: 5.15 Compiler: gcc gcc (Ubuntu 11.4.0-1ubuntu1~22.04) 11.4.0 Ubuntu 24.04 Kernel: 5.15 Compiler: gcc gcc (Ubuntu 13.3.0-6ubuntu2~24.04) 13.3.0 Alpine Linux 3.22.0 Kernel: 5.15 Compiler: gcc gcc (Alpine 14.2.0) 14.2.0 FreeBSD 14.2 Kernel: 14.2-RELEASE Compiler: clang 18.1.6 Windows Server 2022 Kernel: 10.0.20348.2031 Compiler: clang 15.0.7, gcc 14.1.0 (MinGW), and MSVC VS 19.39.33521 To view detailed results, visit: https://lab.dpdk.org/results/dashboard/patchsets/34391/ UNH-IOL DPDK Community Lab To manage your email subscriptions, visit: https://lab.dpdk.org/results/dashboard/preferences/subscriptions/