From mboxrd@z Thu Jan 1 00:00:00 1970 Return-Path: Received: from mails.dpdk.org (mails.dpdk.org [217.70.189.124]) by inbox.dpdk.org (Postfix) with ESMTP id 59A8F489F1 for ; Tue, 28 Oct 2025 10:35:51 +0100 (CET) Received: from mails.dpdk.org (localhost [127.0.0.1]) by mails.dpdk.org (Postfix) with ESMTP id 506E1402F0; Tue, 28 Oct 2025 10:35:51 +0100 (CET) Received: from mail-io1-f98.google.com (mail-io1-f98.google.com [209.85.166.98]) by mails.dpdk.org (Postfix) with ESMTP id 992CE4021E for ; Tue, 28 Oct 2025 10:35:50 +0100 (CET) Received: by mail-io1-f98.google.com with SMTP id ca18e2360f4ac-943b8b69734so342937139f.3 for ; Tue, 28 Oct 2025 02:35:50 -0700 (PDT) DKIM-Signature: v=1; a=rsa-sha256; c=relaxed/relaxed; d=iol.unh.edu; s=unh-iol; t=1761644150; x=1762248950; darn=dpdk.org; h=references:in-reply-to:cc:to:from:subject:message-id:date:from:to :cc:subject:date:message-id:reply-to; bh=/W8+NCiTgp6+D4/I+rSn8zPdkh9bRULYghniBG1vRjo=; b=TfFjiBsbWx+W2rW6BTY0i9ko17PXmyZ7xiAxbGz8uuTEncfjoBKY5thCqAYI7o5Avs AXBWETFwPZ2y7576LZRUg75qdDyHqRPrb8jl4fgW+uGJBh0ZWK9CRDSSulvSDqmYO+r9 MODsiud6Z+Ar8uBBAKr4hObYzWdmK+25Oeq1A= X-Google-DKIM-Signature: v=1; a=rsa-sha256; c=relaxed/relaxed; d=1e100.net; s=20230601; t=1761644150; x=1762248950; h=references:in-reply-to:cc:to:from:subject:message-id:date :x-gm-message-state:from:to:cc:subject:date:message-id:reply-to; bh=/W8+NCiTgp6+D4/I+rSn8zPdkh9bRULYghniBG1vRjo=; b=V9mOXm8pO0pxvaVNq/mXxhY0Li6jMBh6Z1UOYIDV59HiwVRXynI0i9cFUsVk+yo2eK JJovU+TrrwtzcA06hWiYIhYX6dUL787JCVoM+q+VxwM800+5yqtqrCe/KHmiUD8+4/qa POXTC8DZkvGJHZOe4XSGn54tcYQ5UVva+Le/UOHvMH3XLWFUEse44RFyJzkk+K3R83sM 4lLF5icMoiwUm2czLl+BpVSAQGRuukviiMvfNhUjFTpkqNTK6MnYpNIi4/P6OIRXIb5J j22ZJzYbbFrJyT4mjkxZi1Si62N/kr1iZVwj+Jk1+D9QlIjcCVA2t4iEzG37U1lT33mU 0MNA== X-Gm-Message-State: AOJu0YxM2imf7UJLidWUWOs0L/F0BZ+8+iFFh6TfbF+g14xtNQr1UISa kqC9L3V+0YoUCZiO5KDfDC0D8P465Ybh1z/XL02PaenC/4XsHKOMgASUsaICdzmdwNzPPMVsPGE SOgSroHH+ewgSXYgD07OxJy48AguaUCkEIoeUU8Pgnkte1sa2H3eVByzOxc0Q X-Gm-Gg: ASbGnctLLkGHqrqoD8TkARHz7ilo89Qzp80GbEKN4Pv3/MiqtAP94Lnu5rHYBgapDSU XmIBddUfuSbCphqSI/aadbTbFpy/Ns3G4PhbPp1zL2Nygfjpf3aZ3n3VLzXQtMQqAgQgc9sKT06 StnKM01T4DBMB3CRvVhXaxIWO9GMQ+3+Sma++sqlHRZ8gzQEKqCpD1bgJPEAfr7efSfn5J69ZZG C1Yt6B4pbhUVeVFppIRImqNaESaJggndfu3Tnb55KXWf4Io8tZ9jQ5EG0cbr1pD0zw+mc3t/Q3r BTMo/NXL0u6oo0AvD2fBVwMUleTHtlLQbGmqgAxT1FaLVFzOH0yOw7+nTBTJ99fSQBk9nfJJ3w0 wUUUdk34e X-Google-Smtp-Source: AGHT+IHzmfLTZ7mBMLDRtwTgQj66E0gsN8Wq22iOn9kyzcTJU54QN2qejCOkq1PHp176vmHaF8qUvxFImDES X-Received: by 2002:a05:6e02:3708:b0:430:a183:7b with SMTP id e9e14a558f8ab-4320f7a87b5mr50613375ab.3.1761644149884; Tue, 28 Oct 2025 02:35:49 -0700 (PDT) Received: from postal.iol.unh.edu (postal.iol.unh.edu. [2606:4100:3880:1234::84]) by smtp-relay.gmail.com with ESMTPS id e9e14a558f8ab-431f67f7d91sm9158455ab.9.2025.10.28.02.35.49 (version=TLS1_2 cipher=ECDHE-ECDSA-AES128-GCM-SHA256 bits=128/128); Tue, 28 Oct 2025 02:35:49 -0700 (PDT) X-Relaying-Domain: iol.unh.edu Date: Tue, 28 Oct 2025 02:35:49 -0700 (PDT) Message-ID: <69008e75.050a0220.1acbcf.bebfSMTPIN_ADDED_MISSING@mx.google.com> Received: from [172.21.0.7] (unknown [172.18.0.240]) by postal.iol.unh.edu (Postfix) with ESMTP id 72FA86051830; Tue, 28 Oct 2025 05:35:49 -0400 (EDT) Subject: |WARNING| pw158170 [PATCH] app/procinfo: fix warning of deprecated c From: dpdklab@iol.unh.edu To: Test Report Cc: dpdk-test-reports@iol.unh.edu In-Reply-To: <20251028081733.38583-1-fengchengwen@huawei.com> References: <20251028081733.38583-1-fengchengwen@huawei.com> Content-Type: text/plain X-BeenThere: test-report@dpdk.org X-Mailman-Version: 2.1.29 Precedence: list List-Id: automatic DPDK test reports List-Unsubscribe: , List-Archive: List-Post: List-Help: List-Subscribe: , Errors-To: test-report-bounces@dpdk.org Test-Label: iol-compile-amd64-testing Test-Status: WARNING http://dpdk.org/patch/158170 _Testing issues_ Submitter: Chengwen Feng Date: Tuesday, October 28 2025 08:17:33 DPDK git baseline: Repo:dpdk Branch: master CommitID:39b54f2dcf44ad1f91eabc7080cd5dea763607fd 158170 --> testing issues Upstream job id: Generic-DPDK-Compile-Meson#438280 Test environment and result as below: +-------------------------------+--------------------+------------------+-------------------+-------------------------+-------------------+----------------------+ | Environment | dpdk_meson_compile | dpdk_compile_ovs | dpdk_compile_spdk | dpdk_llvm_clang_compile | dpdk_msvc_compile | dpdk_mingw64_compile | +===============================+====================+==================+===================+=========================+===================+======================+ | CentOS Stream 10 | PASS | SKIPPED | SKIPPED | SKIPPED | SKIPPED | SKIPPED | +-------------------------------+--------------------+------------------+-------------------+-------------------------+-------------------+----------------------+ | openSUSE Leap 15.6 | PASS | SKIPPED | SKIPPED | SKIPPED | SKIPPED | SKIPPED | +-------------------------------+--------------------+------------------+-------------------+-------------------------+-------------------+----------------------+ | Fedora Linux 42 | PASS | PASS | WARN | SKIPPED | SKIPPED | SKIPPED | +-------------------------------+--------------------+------------------+-------------------+-------------------------+-------------------+----------------------+ | Red Hat Enterprise Linux 8.10 | PASS | SKIPPED | SKIPPED | SKIPPED | SKIPPED | SKIPPED | +-------------------------------+--------------------+------------------+-------------------+-------------------------+-------------------+----------------------+ | CentOS Stream 9 | PASS | SKIPPED | WARN | SKIPPED | SKIPPED | SKIPPED | +-------------------------------+--------------------+------------------+-------------------+-------------------------+-------------------+----------------------+ | Debian GNU/Linux 12 | PASS | SKIPPED | WARN | SKIPPED | SKIPPED | SKIPPED | +-------------------------------+--------------------+------------------+-------------------+-------------------------+-------------------+----------------------+ | Ubuntu 20.04 | PASS | SKIPPED | SKIPPED | SKIPPED | SKIPPED | SKIPPED | +-------------------------------+--------------------+------------------+-------------------+-------------------------+-------------------+----------------------+ | Red Hat Enterprise Linux 9.5 | PASS | SKIPPED | SKIPPED | SKIPPED | SKIPPED | SKIPPED | +-------------------------------+--------------------+------------------+-------------------+-------------------------+-------------------+----------------------+ | Ubuntu 22.04 | PASS | SKIPPED | WARN | SKIPPED | SKIPPED | SKIPPED | +-------------------------------+--------------------+------------------+-------------------+-------------------------+-------------------+----------------------+ | Ubuntu 24.04 | PASS | PASS | WARN | SKIPPED | SKIPPED | SKIPPED | +-------------------------------+--------------------+------------------+-------------------+-------------------------+-------------------+----------------------+ | Alpine Linux 3.22.0 | PASS | SKIPPED | SKIPPED | SKIPPED | SKIPPED | SKIPPED | +-------------------------------+--------------------+------------------+-------------------+-------------------------+-------------------+----------------------+ | FreeBSD 14.2 | PASS | SKIPPED | SKIPPED | SKIPPED | SKIPPED | SKIPPED | +-------------------------------+--------------------+------------------+-------------------+-------------------------+-------------------+----------------------+ | Windows Server 2022 | SKIPPED | SKIPPED | SKIPPED | PASS | PASS | PASS | +-------------------------------+--------------------+------------------+-------------------+-------------------------+-------------------+----------------------+ ==== 20 line log output for Ubuntu 24.04 (dpdk_compile_spdk): ==== --- Failed to get log output --- ==== End log output ==== CentOS Stream 10 Kernel: 5.15 Compiler: gcc gcc (GCC) 14.2.1 20250110 (Red Hat 14.2.1-8) openSUSE Leap 15.6 Kernel: 5.15 Compiler: gcc gcc (SUSE Linux) 7.5.0 Fedora Linux 42 Kernel: 5.15 Compiler: gcc gcc (GCC) 15.2.1 20250808 (Red Hat 15.2.1-1) Red Hat Enterprise Linux 8.10 Kernel: 5.15 Compiler: gcc gcc (GCC) 8.5.0 20210514 (Red Hat 8.5.0-22) CentOS Stream 9 Kernel: 5.15 Compiler: gcc gcc (GCC) 11.5.0 20240719 (Red Hat 11.5.0-11) Debian GNU/Linux 12 Kernel: 5.15 Compiler: gcc gcc (Debian 12.2.0-14+deb12u1) 12.2.0 Ubuntu 20.04 Kernel: 4.19 Compiler: gcc gcc (Ubuntu 9.4.0-1ubuntu1~20.04.2) 9.4.0 Red Hat Enterprise Linux 9.5 Kernel: 5.15 Compiler: gcc gcc (GCC) 11.5.0 20240719 (Red Hat 11.5.0-2) Ubuntu 22.04 Kernel: 5.15 Compiler: gcc gcc (Ubuntu 11.4.0-1ubuntu1~22.04) 11.4.0 Ubuntu 24.04 Kernel: 5.15 Compiler: gcc gcc (Ubuntu 13.3.0-6ubuntu2~24.04) 13.3.0 Alpine Linux 3.22.0 Kernel: 5.15 Compiler: gcc gcc (Alpine 14.2.0) 14.2.0 FreeBSD 14.2 Kernel: 14.2-RELEASE Compiler: clang 18.1.6 Windows Server 2022 Kernel: 10.0.20348.2031 Compiler: clang 15.0.7, gcc 14.1.0 (MinGW), and MSVC VS 19.39.33521 To view detailed results, visit: https://lab.dpdk.org/results/dashboard/patchsets/34391/ UNH-IOL DPDK Community Lab To manage your email subscriptions, visit: https://lab.dpdk.org/results/dashboard/preferences/subscriptions/