From mboxrd@z Thu Jan 1 00:00:00 1970 Return-Path: Received: from mails.dpdk.org (mails.dpdk.org [217.70.189.124]) by inbox.dpdk.org (Postfix) with ESMTP id 676F3489F1 for ; Tue, 28 Oct 2025 10:36:01 +0100 (CET) Received: from mails.dpdk.org (localhost [127.0.0.1]) by mails.dpdk.org (Postfix) with ESMTP id 627EF4021E; Tue, 28 Oct 2025 10:36:01 +0100 (CET) Received: from mail-pl1-f227.google.com (mail-pl1-f227.google.com [209.85.214.227]) by mails.dpdk.org (Postfix) with ESMTP id C120D4021E for ; Tue, 28 Oct 2025 10:36:00 +0100 (CET) Received: by mail-pl1-f227.google.com with SMTP id d9443c01a7336-290d14e5c9aso80242445ad.3 for ; Tue, 28 Oct 2025 02:36:00 -0700 (PDT) DKIM-Signature: v=1; a=rsa-sha256; c=relaxed/relaxed; d=iol.unh.edu; s=unh-iol; t=1761644160; x=1762248960; darn=dpdk.org; h=references:in-reply-to:cc:to:from:subject:message-id:date:from:to :cc:subject:date:message-id:reply-to; bh=7nCXGm3xD4QNNu4cUfrhLTYCkka4wRvw5eiI10FDsaw=; b=NDpydgX840JwrY33KPFFoT4qkQWwCKVrQP538snCvRqkhlOHe15DWO10uWYw7hZDAH 4gYnSgvwPNCJCpnvJ007vuMGCkSPpe0trYJ8WuEOOxmPV9fIhCltdnacemsqxNUm0wd0 DWo4jN0UbUazFVDp90xVOm0Zu7HnqFkYAt3GU= X-Google-DKIM-Signature: v=1; a=rsa-sha256; c=relaxed/relaxed; d=1e100.net; s=20230601; t=1761644160; x=1762248960; h=references:in-reply-to:cc:to:from:subject:message-id:date :x-gm-message-state:from:to:cc:subject:date:message-id:reply-to; bh=7nCXGm3xD4QNNu4cUfrhLTYCkka4wRvw5eiI10FDsaw=; b=VEYDmlr7OjZM7YD0RAlcH7SGH9w7O9j0uDdBZ6NxAbQ8X7tz+gcZjy7iRYYu2GD1b1 8gaDaqqpHdJfumIrKEwP9sigyG6sA4LN0R60cVGPFDkDlUGc05T3gaPYozD0jTNDOU/n XvdCuHl9XAZ9GCxH31ZjxDV9U/1szbtma8q94jbmi3xxuAJbU8vI3r+/Ye3g9YV5dtk8 aHnRR1gjLlmnYs6iI9kvxZcbIj1PMRThU7jznlcgKoZ6TF6FWeGQFA8a9Ct4D6ew0kr3 TtTcmFCaXMc9Tusz2893MzbImvdtsRrG6fAvdjQkhsHwDXTEMr2gunLaL+ZxLs7FmIB+ Uqbw== X-Gm-Message-State: AOJu0YyP1JM6LMDYoWdkRuij785bgYDzgBMi/T1sfvEK/ch7MUCajkWO iYo0i1vOAaI4F2HbrB0Md3zopMNrqor+ljWy5vC2ap4ZgxV5FkJApavwzdW48fQiZtSOD1lgwm5 WDJqcO9bfxjG8OR8jftYY3D1A/7H/0uIKQZ7ypV1poprW X-Gm-Gg: ASbGncs/Iq/90xAHF+0ICOTd7bbBEFIkdjA6hxClTsMDqHLIFgJJf9QjcAAQQblmah6 mrlkE5x/YHKOStwXUVzrz9VaTGTuxB6KqEH2B2HIO4LnaOnmH7wnEBIVfuE9QNYyakzRqDL8o6v cWPqRzhI7WfO7V/g6kjdXipMPmIr4mTr8EB1uVtkBk60/DwXVcBcGRzpIBJah0iZnXmUy9KAS/+ 9MWaxzihoJsD7Wi31D26it25LVLc+yVI1VtJ+Ijr851zQz4D7/R5IlH9dl7biC/ruyok6pTht48 RSIzjMKKbKcE5rZ2Pp5SCa/wJDRxStltaOp5aHd2VfceJItTuqQ49xqeHgCi+sLbhpNwLmP/r1g eG2b8W3TZtynZKGyDAKTdhub1mBpp5Ys= X-Google-Smtp-Source: AGHT+IHn3xXkMZDtig7u9h0BDTiBGSgRCoGIjrsWt84LK+NaSGPTMUneIBl7JNW/VCeHS71sURu1VuvpjgpB X-Received: by 2002:a17:902:dac2:b0:27e:ed0d:f4ef with SMTP id d9443c01a7336-294cb51ac17mr38923425ad.41.1761644158370; Tue, 28 Oct 2025 02:35:58 -0700 (PDT) Received: from postal.iol.unh.edu (postal.iol.unh.edu. [132.177.123.84]) by smtp-relay.gmail.com with ESMTPS id d9443c01a7336-29498d42a14sm10168865ad.48.2025.10.28.02.35.58 (version=TLS1_2 cipher=ECDHE-ECDSA-AES128-GCM-SHA256 bits=128/128); Tue, 28 Oct 2025 02:35:58 -0700 (PDT) X-Relaying-Domain: iol.unh.edu Date: Tue, 28 Oct 2025 02:35:58 -0700 (PDT) Message-ID: <69008e7e.170a0220.35e0fa.f221SMTPIN_ADDED_MISSING@mx.google.com> Received: from [172.21.0.9] (unknown [172.18.0.240]) by postal.iol.unh.edu (Postfix) with ESMTP id A0F756051830; Tue, 28 Oct 2025 05:35:57 -0400 (EDT) Subject: |WARNING| pw158170 [PATCH] app/procinfo: fix warning of deprecated c From: dpdklab@iol.unh.edu To: Test Report Cc: dpdk-test-reports@iol.unh.edu In-Reply-To: <20251028081733.38583-1-fengchengwen@huawei.com> References: <20251028081733.38583-1-fengchengwen@huawei.com> Content-Type: text/plain X-BeenThere: test-report@dpdk.org X-Mailman-Version: 2.1.29 Precedence: list List-Id: automatic DPDK test reports List-Unsubscribe: , List-Archive: List-Post: List-Help: List-Subscribe: , Errors-To: test-report-bounces@dpdk.org Test-Label: iol-compile-amd64-testing Test-Status: WARNING http://dpdk.org/patch/158170 _Testing issues_ Submitter: Chengwen Feng Date: Tuesday, October 28 2025 08:17:33 DPDK git baseline: Repo:dpdk Branch: master CommitID:39b54f2dcf44ad1f91eabc7080cd5dea763607fd 158170 --> testing issues Upstream job id: Generic-DPDK-Compile-Meson#438279 Test environment and result as below: +-------------------------------+--------------------+------------------+-------------------+-------------------------+-------------------+----------------------+ | Environment | dpdk_meson_compile | dpdk_compile_ovs | dpdk_compile_spdk | dpdk_llvm_clang_compile | dpdk_msvc_compile | dpdk_mingw64_compile | +===============================+====================+==================+===================+=========================+===================+======================+ | CentOS Stream 10 | PASS | SKIPPED | SKIPPED | SKIPPED | SKIPPED | SKIPPED | +-------------------------------+--------------------+------------------+-------------------+-------------------------+-------------------+----------------------+ | openSUSE Leap 15.6 | PASS | SKIPPED | SKIPPED | SKIPPED | SKIPPED | SKIPPED | +-------------------------------+--------------------+------------------+-------------------+-------------------------+-------------------+----------------------+ | Fedora Linux 42 | PASS | PASS | WARN | SKIPPED | SKIPPED | SKIPPED | +-------------------------------+--------------------+------------------+-------------------+-------------------------+-------------------+----------------------+ | Red Hat Enterprise Linux 8.10 | PASS | SKIPPED | SKIPPED | SKIPPED | SKIPPED | SKIPPED | +-------------------------------+--------------------+------------------+-------------------+-------------------------+-------------------+----------------------+ | CentOS Stream 9 | PASS | SKIPPED | WARN | SKIPPED | SKIPPED | SKIPPED | +-------------------------------+--------------------+------------------+-------------------+-------------------------+-------------------+----------------------+ | Debian GNU/Linux 12 | PASS | SKIPPED | WARN | SKIPPED | SKIPPED | SKIPPED | +-------------------------------+--------------------+------------------+-------------------+-------------------------+-------------------+----------------------+ | Ubuntu 20.04 | PASS | SKIPPED | SKIPPED | SKIPPED | SKIPPED | SKIPPED | +-------------------------------+--------------------+------------------+-------------------+-------------------------+-------------------+----------------------+ | Red Hat Enterprise Linux 9.5 | PASS | SKIPPED | SKIPPED | SKIPPED | SKIPPED | SKIPPED | +-------------------------------+--------------------+------------------+-------------------+-------------------------+-------------------+----------------------+ | Ubuntu 22.04 | PASS | SKIPPED | WARN | SKIPPED | SKIPPED | SKIPPED | +-------------------------------+--------------------+------------------+-------------------+-------------------------+-------------------+----------------------+ | Ubuntu 24.04 | PASS | PASS | WARN | SKIPPED | SKIPPED | SKIPPED | +-------------------------------+--------------------+------------------+-------------------+-------------------------+-------------------+----------------------+ | Alpine Linux 3.22.0 | PASS | SKIPPED | SKIPPED | SKIPPED | SKIPPED | SKIPPED | +-------------------------------+--------------------+------------------+-------------------+-------------------------+-------------------+----------------------+ | FreeBSD 14.2 | PASS | SKIPPED | SKIPPED | SKIPPED | SKIPPED | SKIPPED | +-------------------------------+--------------------+------------------+-------------------+-------------------------+-------------------+----------------------+ | Windows Server 2022 | SKIPPED | SKIPPED | SKIPPED | PASS | PASS | PASS | +-------------------------------+--------------------+------------------+-------------------+-------------------------+-------------------+----------------------+ ==== 20 line log output for Ubuntu 24.04 (dpdk_compile_spdk): ==== --- Failed to get log output --- ==== End log output ==== CentOS Stream 10 Kernel: 5.15 Compiler: gcc gcc (GCC) 14.2.1 20250110 (Red Hat 14.2.1-8) openSUSE Leap 15.6 Kernel: 5.15 Compiler: gcc gcc (SUSE Linux) 7.5.0 Fedora Linux 42 Kernel: 5.15 Compiler: gcc gcc (GCC) 15.2.1 20250808 (Red Hat 15.2.1-1) Red Hat Enterprise Linux 8.10 Kernel: 5.15 Compiler: gcc gcc (GCC) 8.5.0 20210514 (Red Hat 8.5.0-22) CentOS Stream 9 Kernel: 5.15 Compiler: gcc gcc (GCC) 11.5.0 20240719 (Red Hat 11.5.0-11) Debian GNU/Linux 12 Kernel: 5.15 Compiler: gcc gcc (Debian 12.2.0-14+deb12u1) 12.2.0 Ubuntu 20.04 Kernel: 4.19 Compiler: gcc gcc (Ubuntu 9.4.0-1ubuntu1~20.04.2) 9.4.0 Red Hat Enterprise Linux 9.5 Kernel: 5.15 Compiler: gcc gcc (GCC) 11.5.0 20240719 (Red Hat 11.5.0-2) Ubuntu 22.04 Kernel: 5.15 Compiler: gcc gcc (Ubuntu 11.4.0-1ubuntu1~22.04) 11.4.0 Ubuntu 24.04 Kernel: 5.15 Compiler: gcc gcc (Ubuntu 13.3.0-6ubuntu2~24.04) 13.3.0 Alpine Linux 3.22.0 Kernel: 5.15 Compiler: gcc gcc (Alpine 14.2.0) 14.2.0 FreeBSD 14.2 Kernel: 14.2-RELEASE Compiler: clang 18.1.6 Windows Server 2022 Kernel: 10.0.20348.2031 Compiler: clang 15.0.7, gcc 14.1.0 (MinGW), and MSVC VS 19.39.33521 To view detailed results, visit: https://lab.dpdk.org/results/dashboard/patchsets/34391/ UNH-IOL DPDK Community Lab To manage your email subscriptions, visit: https://lab.dpdk.org/results/dashboard/preferences/subscriptions/