From mboxrd@z Thu Jan 1 00:00:00 1970 Return-Path: Received: from mails.dpdk.org (mails.dpdk.org [217.70.189.124]) by inbox.dpdk.org (Postfix) with ESMTP id 7552E489F1 for ; Tue, 28 Oct 2025 10:57:18 +0100 (CET) Received: from mails.dpdk.org (localhost [127.0.0.1]) by mails.dpdk.org (Postfix) with ESMTP id 698134021E; Tue, 28 Oct 2025 10:57:18 +0100 (CET) Received: from mail-pj1-f97.google.com (mail-pj1-f97.google.com [209.85.216.97]) by mails.dpdk.org (Postfix) with ESMTP id A25824021E for ; Tue, 28 Oct 2025 10:57:16 +0100 (CET) Received: by mail-pj1-f97.google.com with SMTP id 98e67ed59e1d1-339d7c4039aso4843501a91.0 for ; Tue, 28 Oct 2025 02:57:16 -0700 (PDT) DKIM-Signature: v=1; a=rsa-sha256; c=relaxed/relaxed; d=iol.unh.edu; s=unh-iol; t=1761645436; x=1762250236; darn=dpdk.org; h=references:in-reply-to:cc:to:from:subject:message-id:date:from:to :cc:subject:date:message-id:reply-to; bh=nnV2alxhutfIWifEmiPWrLj/h9ujfPwPXc+PYTyNJ3U=; b=WvXWhMXgV3zciEx4PH3aoo4q6fhQkl6WYiiF3jaq5zhWtXQNO4VtYAdw8kq1RQo103 AfN6Rbj/UZOJgAgJ/Pfk+Mw3YmQnGZeS4feVTshY1aPTtpG9S9zTnif24OOeZ56vE9nr 2IFDvEmdlROvsm+uAVkP3oMQj6zZuBUCK3HFo= X-Google-DKIM-Signature: v=1; a=rsa-sha256; c=relaxed/relaxed; d=1e100.net; s=20230601; t=1761645436; x=1762250236; h=references:in-reply-to:cc:to:from:subject:message-id:date :x-gm-message-state:from:to:cc:subject:date:message-id:reply-to; bh=nnV2alxhutfIWifEmiPWrLj/h9ujfPwPXc+PYTyNJ3U=; b=BjEZ9nh1VbcyYkfAeIsHtl9bZpKp/Aaqt66z2tIATjRbCKRBVITqNvJS3syMk2ba7q hUQsmYbvkr5p5+iEmv/uDTDu+nlPMdwENIKtC4xTxBGtJzAruUaQONu9oQ+9aid/3jUC k36bdwuSi/uucjlBzbUGV+wEjv3vHBgVrMhMxGElst99YcyMu7bC6qs4CPMtqRUEUE7+ Z4bctz0J1ofN68eV94eeh4oVq/W3WhlBUC+CoWWbxKS8AzOR9lUkCSXJFx2K2fQ67F2Y ZTeJwiIJQwccenIOeR8HE8FOwpQ16wxF1gZo1Zql6XVkfjgYB8hKONwkkgyebQFxt8s5 NL0g== X-Gm-Message-State: AOJu0YwGVsuga9dHyrLf6+WQpKLZPMLeIjq82CsKeBGzj23jKL91fZ6a 1A5sWPUTMZnd5W+0ZeBTe+2a/vC08bAHjFZiWMkZEgsUEwiqLO8QjqDdrLB1Sy8q+kydx1ZJ2EM WihECB9wpbBxS4o5+En2cm8/2e4QR3h3gENKYhnkTPqKpDqYgdlMoGqgwSELD X-Gm-Gg: ASbGncv+sNh1zUMDkicU76RZS8h8oCEWUO+mKWm5q74doPxmd3/5IcPF4NNCRakIPB7 UCOjvj8Kay+nSafZWswKTVKERYR8+ZkZO+XemyJCo5FnQgkeUIpFU8OVd3shejAlzHK9WSdlmka 1yyECtTnLNlx71tUEMKlZtO7S8tenvMC+lZvvAarMVJpK73h1U73/z7ZPwIbwVecrO0U4CVOuVb kwSQiR9gcn4Lb1eGVCqt2p9X2b5DaXhc55KppzM3uWzKSZofiQ836SYIrbVd8nMeyzqlMntYYqL Lb+TpGovOH4vQNx6KQ44MuWlz4MZtsjmf01N8KxQOaGNIp0jOV5EOj+pQk+caw5P7YUjGvB+kbp /0ry63jvT X-Google-Smtp-Source: AGHT+IFcqogQI+w85RjTyz81an5nD04CddRClkBz2BZTev4HG20Xa+nDyvl9lRP4AxNjDNKwRlJSPM/5wAGQ X-Received: by 2002:a17:90b:3fcf:b0:32b:a2b9:b200 with SMTP id 98e67ed59e1d1-34027a065b0mr3788599a91.13.1761645435690; Tue, 28 Oct 2025 02:57:15 -0700 (PDT) Received: from postal.iol.unh.edu (postal.iol.unh.edu. [2606:4100:3880:1234::84]) by smtp-relay.gmail.com with ESMTPS id 98e67ed59e1d1-34029cbb276sm178802a91.2.2025.10.28.02.57.15 (version=TLS1_2 cipher=ECDHE-ECDSA-AES128-GCM-SHA256 bits=128/128); Tue, 28 Oct 2025 02:57:15 -0700 (PDT) X-Relaying-Domain: iol.unh.edu Date: Tue, 28 Oct 2025 02:57:15 -0700 (PDT) Message-ID: <6900937b.170a0220.2a191b.8901SMTPIN_ADDED_MISSING@mx.google.com> Received: from [172.21.0.2] (unknown [172.18.0.240]) by postal.iol.unh.edu (Postfix) with ESMTP id F346F6051830; Tue, 28 Oct 2025 05:57:14 -0400 (EDT) Subject: |SUCCESS| pw158170 [PATCH] app/procinfo: fix warning of deprecated c From: dpdklab@iol.unh.edu To: Test Report Cc: dpdk-test-reports@iol.unh.edu In-Reply-To: <20251028081733.38583-1-fengchengwen@huawei.com> References: <20251028081733.38583-1-fengchengwen@huawei.com> Content-Type: text/plain X-BeenThere: test-report@dpdk.org X-Mailman-Version: 2.1.29 Precedence: list List-Id: automatic DPDK test reports List-Unsubscribe: , List-Archive: List-Post: List-Help: List-Subscribe: , Errors-To: test-report-bounces@dpdk.org Test-Label: iol-unit-amd64-testing Test-Status: SUCCESS http://dpdk.org/patch/158170 _Testing PASS_ Submitter: Chengwen Feng Date: Tuesday, October 28 2025 08:17:33 DPDK git baseline: Repo:dpdk Branch: master CommitID:39b54f2dcf44ad1f91eabc7080cd5dea763607fd 158170 --> testing pass Upstream job id: Generic-VM-Unit-Test-DPDK#32104 Test environment and result as below: +-------------------------------+----------------+ | Environment | dpdk_unit_test | +===============================+================+ | Red Hat Enterprise Linux 9.5 | PASS | +-------------------------------+----------------+ | Fedora Linux 41 | PASS | +-------------------------------+----------------+ | Ubuntu 24.04 | PASS | +-------------------------------+----------------+ | Debian GNU/Linux 12 | PASS | +-------------------------------+----------------+ | Fedora Linux 40 | PASS | +-------------------------------+----------------+ | CentOS Stream 10 | PASS | +-------------------------------+----------------+ | Fedora Linux 42 | PASS | +-------------------------------+----------------+ | CentOS Stream 9 | PASS | +-------------------------------+----------------+ | Red Hat Enterprise Linux 8.10 | PASS | +-------------------------------+----------------+ | Ubuntu 22.04 | PASS | +-------------------------------+----------------+ | Ubuntu 20.04 | PASS | +-------------------------------+----------------+ | Windows Server 2022 | PASS | +-------------------------------+----------------+ Red Hat Enterprise Linux 9.5 Kernel: 5.15 Compiler: gcc gcc (GCC) 11.5.0 20240719 (Red Hat 11.5.0-2) Fedora Linux 41 Kernel: 5.15 Compiler: clang gcc (GCC) 14.3.1 20250523 (Red Hat 14.3.1-1) Ubuntu 24.04 Kernel: 5.15 Compiler: gcc gcc (Ubuntu 13.3.0-6ubuntu2~24.04) 13.3.0 Debian GNU/Linux 12 Kernel: 5.15 Compiler: gcc gcc (Debian 12.2.0-14+deb12u1) 12.2.0 Fedora Linux 40 Kernel: 5.15 Compiler: gcc gcc (GCC) 14.2.1 20240912 (Red Hat 14.2.1-3) CentOS Stream 10 Kernel: 5.15 Compiler: gcc gcc (GCC) 14.2.1 20250110 (Red Hat 14.2.1-8) Fedora Linux 42 Kernel: 5.15 Compiler: gcc gcc (GCC) 15.2.1 20250808 (Red Hat 15.2.1-1) CentOS Stream 9 Kernel: 5.15 Compiler: gcc gcc (GCC) 11.5.0 20240719 (Red Hat 11.5.0-11) Red Hat Enterprise Linux 8.10 Kernel: 5.15 Compiler: gcc gcc (GCC) 8.5.0 20210514 (Red Hat 8.5.0-22) Ubuntu 22.04 Kernel: 5.15 Compiler: gcc gcc (Ubuntu 11.4.0-1ubuntu1~22.04) 11.4.0 Ubuntu 20.04 Kernel: 5.15 Compiler: gcc gcc (Ubuntu 9.4.0-1ubuntu1~20.04.2) 9.4.0 Windows Server 2022 Kernel: 10.0.20348.2031 Compiler: clang 15.0.7, gcc 14.1.0 (MinGW), and MSVC VS 19.39.33521 To view detailed results, visit: https://lab.dpdk.org/results/dashboard/patchsets/34391/ UNH-IOL DPDK Community Lab To manage your email subscriptions, visit: https://lab.dpdk.org/results/dashboard/preferences/subscriptions/