automatic DPDK test reports
 help / color / mirror / Atom feed
From: dpdklab@iol.unh.edu
To: Test Report <test-report@dpdk.org>
Cc: dpdk-test-reports@iol.unh.edu
Subject: |PENDING| pw158183 [PATCH] graph: fix xstats description allocation
Date: Tue, 28 Oct 2025 03:40:16 -0700 (PDT)	[thread overview]
Message-ID: <69009d90.050a0220.10f65d.fa21SMTPIN_ADDED_MISSING@mx.google.com> (raw)
In-Reply-To: <20251028101333.14776-1-cfontain@redhat.com>

Test-Label: iol-compile-amd64-testing
Test-Status: PENDING
http://dpdk.org/patch/158183

_Testing pending_

Submitter: Christophe Fontaine <cfontain@redhat.com>
Date: Tuesday, October 28 2025 10:13:33 
DPDK git baseline: Repo:dpdk
  Branch: master
  CommitID:39b54f2dcf44ad1f91eabc7080cd5dea763607fd

158183 --> testing pending

Upstream job id: Generic-VM-DPDK-Compile-Meson#39306

Test environment and result as below:

+--------------+--------------------+
| Environment  | dpdk_meson_compile |
+==============+====================+
| Ubuntu 20.04 | PASS               |
+--------------+--------------------+
| FreeBSD 14.2 | PEND               |
+--------------+--------------------+


Ubuntu 20.04
	Kernel: 4.19
	Compiler: gcc gcc (Ubuntu 9.4.0-1ubuntu1~20.04.2) 9.4.0

FreeBSD 14.2
	Kernel: 14.2-RELEASE
	Compiler: clang 18.1.6

To view detailed results, visit:
https://lab.dpdk.org/results/dashboard/patchsets/34397/

UNH-IOL DPDK Community Lab

To manage your email subscriptions, visit: 
https://lab.dpdk.org/results/dashboard/preferences/subscriptions/

  parent reply	other threads:[~2025-10-28 10:40 UTC|newest]

Thread overview: 26+ messages / expand[flat|nested]  mbox.gz  Atom feed  top
     [not found] <20251028101333.14776-1-cfontain@redhat.com>
2025-10-28  9:55 ` |SUCCESS| " qemudev
2025-10-28 10:00 ` qemudev
2025-10-28 10:13 ` |WARNING| " checkpatch
2025-10-28 10:40 ` dpdklab [this message]
2025-10-28 10:42 ` |SUCCESS| " dpdklab
2025-10-28 10:47 ` dpdklab
2025-10-28 10:48 ` dpdklab
2025-10-28 10:51 ` dpdklab
2025-10-28 11:22 ` |PENDING| " dpdklab
2025-10-28 11:23 ` |SUCCESS| " dpdklab
2025-10-28 11:41 ` dpdklab
2025-10-28 12:56 ` |WARNING| " dpdklab
2025-10-28 13:16 ` |SUCCESS| " dpdklab
2025-10-28 13:16 ` dpdklab
2025-10-28 13:28 ` |WARNING| " dpdklab
2025-10-28 14:02 ` |SUCCESS| " dpdklab
2025-10-28 14:02 ` |WARNING| " dpdklab
2025-10-28 15:10 ` dpdklab
2025-10-28 15:21 ` |SUCCESS| " dpdklab
2025-10-28 15:30 ` dpdklab
2025-10-28 15:51 ` dpdklab
2025-10-28 16:22 ` dpdklab
2025-10-28 16:44 ` dpdklab
2025-10-28 17:43 ` dpdklab
2025-10-28 19:28 ` |WARNING| " dpdklab
2025-10-28 19:53 ` dpdklab

Reply instructions:

You may reply publicly to this message via plain-text email
using any one of the following methods:

* Save the following mbox file, import it into your mail client,
  and reply-to-all from there: mbox

  Avoid top-posting and favor interleaved quoting:
  https://en.wikipedia.org/wiki/Posting_style#Interleaved_style

* Reply using the --to, --cc, and --in-reply-to
  switches of git-send-email(1):

  git send-email \
    --in-reply-to=69009d90.050a0220.10f65d.fa21SMTPIN_ADDED_MISSING@mx.google.com \
    --to=dpdklab@iol.unh.edu \
    --cc=dpdk-test-reports@iol.unh.edu \
    --cc=test-report@dpdk.org \
    /path/to/YOUR_REPLY

  https://kernel.org/pub/software/scm/git/docs/git-send-email.html

* If your mail client supports setting the In-Reply-To header
  via mailto: links, try the mailto: link
Be sure your reply has a Subject: header at the top and a blank line before the message body.
This is a public inbox, see mirroring instructions
for how to clone and mirror all data and code used for this inbox;
as well as URLs for NNTP newsgroup(s).