From: dpdklab@iol.unh.edu
To: Test Report <test-report@dpdk.org>
Cc: dpdk-test-reports@iol.unh.edu
Subject: |SUCCESS| pw158182 [PATCH] net/mlx5: store rxq MTU at allocation tim
Date: Tue, 28 Oct 2025 04:07:05 -0700 (PDT) [thread overview]
Message-ID: <6900a3d9.530a0220.3c6f75.59d2SMTPIN_ADDED_MISSING@mx.google.com> (raw)
In-Reply-To: <20251028100144.36284-1-a.schollmeyer@syseleven.de>
Test-Label: iol-sample-apps-testing
Test-Status: SUCCESS
http://dpdk.org/patch/158182
_Testing PASS_
Submitter: Adrian Schollmeyer <a.schollmeyer@syseleven.de>
Date: Tuesday, October 28 2025 10:01:44
DPDK git baseline: Repo:dpdk-next-net-mlx
Branch: master
CommitID:39b54f2dcf44ad1f91eabc7080cd5dea763607fd
158182 --> testing pass
Upstream job id: Template-DTS-Pipeline#251661
Test environment and result as below:
+--------------+----------------------+
| Environment | compressdev_zlib_pmd |
+==============+======================+
| Ubuntu 22.04 | PASS |
+--------------+----------------------+
Ubuntu 22.04
Kernel: 5.15
Compiler: gcc gcc (Ubuntu 11.4.0-1ubuntu1~22.04.2) 11.4.0
To view detailed results, visit:
https://lab.dpdk.org/results/dashboard/patchsets/34398/
UNH-IOL DPDK Community Lab
To manage your email subscriptions, visit:
https://lab.dpdk.org/results/dashboard/preferences/subscriptions/
next prev parent reply other threads:[~2025-10-28 11:07 UTC|newest]
Thread overview: 29+ messages / expand[flat|nested] mbox.gz Atom feed top
[not found] <20251028100144.36284-1-a.schollmeyer@syseleven.de>
2025-10-28 9:28 ` |SUCCESS| pw158182 [PATCH] net/mlx5: store rxq MTU at allocation time qemudev
2025-10-28 9:32 ` qemudev
2025-10-28 10:01 ` checkpatch
2025-10-28 10:57 ` |SUCCESS| pw158182 [PATCH] net/mlx5: store rxq MTU at allocation tim dpdklab
2025-10-28 11:02 ` dpdklab
2025-10-28 11:05 ` dpdklab
2025-10-28 11:07 ` dpdklab [this message]
2025-10-28 11:22 ` dpdklab
2025-10-28 11:22 ` |SUCCESS| pw158182 [PATCH] net/mlx5: store rxq MTU at allocation time 0-day Robot
2025-10-28 11:22 ` 0-day Robot
2025-10-28 11:46 ` |SUCCESS| pw158182 [PATCH] net/mlx5: store rxq MTU at allocation tim dpdklab
2025-10-28 12:06 ` dpdklab
2025-10-28 12:28 ` |PENDING| " dpdklab
2025-10-28 13:16 ` |SUCCESS| " dpdklab
2025-10-28 13:16 ` dpdklab
2025-10-28 13:39 ` |WARNING| " dpdklab
2025-10-28 13:42 ` dpdklab
2025-10-28 13:54 ` |PENDING| " dpdklab
2025-10-28 14:43 ` |SUCCESS| " dpdklab
2025-10-28 14:49 ` |WARNING| " dpdklab
2025-10-28 15:54 ` |SUCCESS| " dpdklab
2025-10-28 16:11 ` |WARNING| " dpdklab
2025-10-28 16:25 ` |SUCCESS| " dpdklab
2025-10-28 16:51 ` dpdklab
2025-10-28 16:55 ` dpdklab
2025-10-28 17:37 ` dpdklab
2025-10-28 19:05 ` dpdklab
2025-10-28 20:16 ` |WARNING| " dpdklab
2025-10-28 20:41 ` dpdklab
Reply instructions:
You may reply publicly to this message via plain-text email
using any one of the following methods:
* Save the following mbox file, import it into your mail client,
and reply-to-all from there: mbox
Avoid top-posting and favor interleaved quoting:
https://en.wikipedia.org/wiki/Posting_style#Interleaved_style
* Reply using the --to, --cc, and --in-reply-to
switches of git-send-email(1):
git send-email \
--in-reply-to=6900a3d9.530a0220.3c6f75.59d2SMTPIN_ADDED_MISSING@mx.google.com \
--to=dpdklab@iol.unh.edu \
--cc=dpdk-test-reports@iol.unh.edu \
--cc=test-report@dpdk.org \
/path/to/YOUR_REPLY
https://kernel.org/pub/software/scm/git/docs/git-send-email.html
* If your mail client supports setting the In-Reply-To header
via mailto: links, try the mailto: link
Be sure your reply has a Subject: header at the top and a blank line
before the message body.
This is a public inbox, see mirroring instructions
for how to clone and mirror all data and code used for this inbox;
as well as URLs for NNTP newsgroup(s).