From mboxrd@z Thu Jan 1 00:00:00 1970 Return-Path: Received: from mails.dpdk.org (mails.dpdk.org [217.70.189.124]) by inbox.dpdk.org (Postfix) with ESMTP id 1DF55489F7 for ; Tue, 28 Oct 2025 12:07:13 +0100 (CET) Received: from mails.dpdk.org (localhost [127.0.0.1]) by mails.dpdk.org (Postfix) with ESMTP id 1A6924021E; Tue, 28 Oct 2025 12:07:13 +0100 (CET) Received: from mail-pg1-f226.google.com (mail-pg1-f226.google.com [209.85.215.226]) by mails.dpdk.org (Postfix) with ESMTP id E681B4021E for ; Tue, 28 Oct 2025 12:07:09 +0100 (CET) Received: by mail-pg1-f226.google.com with SMTP id 41be03b00d2f7-b6cea3f34ebso4147824a12.0 for ; Tue, 28 Oct 2025 04:07:09 -0700 (PDT) DKIM-Signature: v=1; a=rsa-sha256; c=relaxed/relaxed; d=iol.unh.edu; s=unh-iol; t=1761649629; x=1762254429; darn=dpdk.org; h=cc:to:from:subject:message-id:date:from:to:cc:subject:date :message-id:reply-to; bh=N6CIbDniWSidfMDmgClWseyNS3W0Z+BAPtH2kjp9S0A=; b=IA4iU3/5M8ROD2o6aoRVm1MZMAMlopXFlT4D8q3zfc/sMRl+F1TuFBhUqMJtlBgNAX btEsn1V+ITZBabby273ryU3NfwqxNLFUP0M58h1Xzj8f87ks/L42sLAXZaO4eTljVlwv nhI7avP59eYeC40okHyS6NWsrV5haQux9r7Ps= X-Google-DKIM-Signature: v=1; a=rsa-sha256; c=relaxed/relaxed; d=1e100.net; s=20230601; t=1761649629; x=1762254429; h=cc:to:from:subject:message-id:date:x-gm-message-state:from:to:cc :subject:date:message-id:reply-to; bh=N6CIbDniWSidfMDmgClWseyNS3W0Z+BAPtH2kjp9S0A=; b=R5yPT3DEA3x2N9jV+tDYYCj3Zq/SdqraRA0al2FUn3eEbLrpfgzjeVLYgOLvCbFa2E bycraZTuTdwX3XlL3l9Z/3aNeOxf+OIvNbLztcmlP3sU+nUa/Jhs0ehK/Suy1EIgWuSM ddYSBZfijVqN/oNEBldMC7VJfLsGrVbN+HDFn4ySx/3tZwSjbdtPfT2kZ3gWiA2IfRIK XtGPsBf6kXjU6MH0//8ZoiS9td6VvbZRNaG9bBVWEd8juAYVTzB/TNk90h9uN7br5UAi XsFeX8i4ing7KqtJpJfB2NeEWqoq7yLkC4Ej4p3PpQwKmgP7Ycor/BTNPDFvS2iVLw9F 7hqg== X-Gm-Message-State: AOJu0YwLK9VWBRlrWIdCZ4oDAVrms82rXXKwyCBKuV5hBNSW6GL2zcOc xFG2kCuK0S8RYPyF6Mt4BXCgNBw0J8BkeALkRRPa4+w+7AcFrsZWrqYqxGkiAimqRON6xSKxTAt FnLjF3NfwhmUga+5YSk86U9MRtPAwZrFqR3RYBtPN2q52447DfyxN X-Gm-Gg: ASbGncv+JqwnDa6iDkZDPCulmETaw7X5haPYoBcvGhfTUBnh1qNA9QlXfUMviGy/NJQ nuNsggM/GaqHVyGGuSRS/uPyikz6q/cLVE6TZvgt4+hM0HUM1trMFFJF1BWFL0t1Wn4D2pDQ5sO G3iL1pMR8OF8ehxsnOKEM4GXfqtIWPp+5fkWWhO2BucsJXE5I3WwsJydxhcRakfVst3AHj+KraT kfOf6HlXMI9Qdxd9dDfuZeC7C1jZRgTc+1092t2yNdCYF1hAhZH2j0BfjtBTWHaiKBZyLnuRl2+ Uqq4uX7JeYskGYbVatwV1UqtSxzeLZns0Y5xsHsdYK3+8w/o+QjxtNGIzn3ytaO67IT7ATaz5BP aYmvI77n6 X-Google-Smtp-Source: AGHT+IF46yAc7qKPwW+1g4KhT3hoGXLHVxOM2oqazR1mErqtMvsnrouveQWOEDxPgVhlr9USILiD/ghhG59f X-Received: by 2002:a17:902:f602:b0:24c:ed95:2725 with SMTP id d9443c01a7336-294cb37b7a6mr29080365ad.4.1761649628880; Tue, 28 Oct 2025 04:07:08 -0700 (PDT) Received: from postal.iol.unh.edu (postal.iol.unh.edu. [2606:4100:3880:1234::84]) by smtp-relay.gmail.com with ESMTPS id d9443c01a7336-29498d098dfsm10289935ad.15.2025.10.28.04.07.08 (version=TLS1_2 cipher=ECDHE-ECDSA-AES128-GCM-SHA256 bits=128/128); Tue, 28 Oct 2025 04:07:08 -0700 (PDT) X-Relaying-Domain: iol.unh.edu Date: Tue, 28 Oct 2025 04:07:08 -0700 (PDT) Message-ID: <6900a3dc.170a0220.319051.0a4eSMTPIN_ADDED_MISSING@mx.google.com> Received: from [172.21.0.6] (unknown [172.18.0.240]) by postal.iol.unh.edu (Postfix) with ESMTP id 61E286051830; Tue, 28 Oct 2025 07:07:08 -0400 (EDT) Subject: |SUCCESS| [GIT MASTER] b287e404643aeab5bb5db084c142789df187844e From: dpdklab@iol.unh.edu To: Test Report Cc: dpdk-test-reports@iol.unh.edu, Xueming Li , Christian Ehrhardt , Kevin Traynor , Luca Boccassi Content-Type: text/plain X-BeenThere: test-report@dpdk.org X-Mailman-Version: 2.1.29 Precedence: list List-Id: automatic DPDK test reports List-Unsubscribe: , List-Archive: List-Post: List-Help: List-Subscribe: , Errors-To: test-report-bounces@dpdk.org _Testing PASS_ Branch: tags/v24.11 b287e404643aeab5bb5db084c142789df187844e --> testing pass Upstream job id: Generic-DPDK-Compile-Meson#438234 Test environment and result as below: +------------------------------+--------------------+ | Environment | dpdk_meson_compile | +==============================+====================+ | Red Hat Enterprise Linux 9.5 | PASS | +------------------------------+--------------------+ | Debian GNU/Linux 12 | PASS | +------------------------------+--------------------+ | Ubuntu 20.04 | PASS | +------------------------------+--------------------+ | Fedora Linux 42 | PASS | +------------------------------+--------------------+ | Ubuntu 24.04 | PASS | +------------------------------+--------------------+ | CentOS Stream 10 | PASS | +------------------------------+--------------------+ | CentOS Stream 9 | PASS | +------------------------------+--------------------+ | Ubuntu 22.04 | PASS | +------------------------------+--------------------+ Red Hat Enterprise Linux 9.5 Kernel: 5.4 Compiler: gcc gcc (GCC) 11.5.0 20240719 (Red Hat 11.5.0-2) Debian GNU/Linux 12 Kernel: 5.4 Compiler: gcc gcc (Debian 12.2.0-14+deb12u1) 12.2.0 Ubuntu 20.04 Kernel: 5.15 Compiler: aarch64-linux-gnu-gcc gcc (Ubuntu 9.4.0-1ubuntu1~20.04.2) 9.4.0 Fedora Linux 42 Kernel: 5.4 Compiler: gcc gcc (GCC) 15.2.1 20250808 (Red Hat 15.2.1-1) Ubuntu 24.04 Kernel: 5.4 Compiler: gcc gcc (Ubuntu 13.3.0-6ubuntu2~24.04) 13.3.0 CentOS Stream 10 Kernel: 5.4 Compiler: gcc gcc (GCC) 14.2.1 20250110 (Red Hat 14.2.1-8) CentOS Stream 9 Kernel: 5.4 Compiler: gcc gcc (GCC) 11.5.0 20240719 (Red Hat 11.5.0-11) Ubuntu 22.04 Kernel: 5.4 Compiler: gcc gcc (Ubuntu 11.4.0-1ubuntu1~22.04) 11.4.0 To view detailed results, visit: https://lab.dpdk.org/results/dashboard/tarballs/35359/ UNH-IOL DPDK Community Lab To manage your email subscriptions, visit: https://lab.dpdk.org/results/dashboard/preferences/subscriptions/