From mboxrd@z Thu Jan 1 00:00:00 1970 Return-Path: Received: from mails.dpdk.org (mails.dpdk.org [217.70.189.124]) by inbox.dpdk.org (Postfix) with ESMTP id 34851489F7 for ; Tue, 28 Oct 2025 12:13:47 +0100 (CET) Received: from mails.dpdk.org (localhost [127.0.0.1]) by mails.dpdk.org (Postfix) with ESMTP id 10FA74021E; Tue, 28 Oct 2025 12:13:47 +0100 (CET) Received: from mail-yw1-f228.google.com (mail-yw1-f228.google.com [209.85.128.228]) by mails.dpdk.org (Postfix) with ESMTP id CECD74021E for ; Tue, 28 Oct 2025 12:13:45 +0100 (CET) Received: by mail-yw1-f228.google.com with SMTP id 00721157ae682-781421f5bf5so63861137b3.3 for ; Tue, 28 Oct 2025 04:13:45 -0700 (PDT) DKIM-Signature: v=1; a=rsa-sha256; c=relaxed/relaxed; d=iol.unh.edu; s=unh-iol; t=1761650025; x=1762254825; darn=dpdk.org; h=references:in-reply-to:cc:to:from:subject:message-id:date:from:to :cc:subject:date:message-id:reply-to; bh=ZamVCnp9AKui4bigH9E1TP5h9rU3dWF7M3YKZKh/ptQ=; b=MKrrB59UYZLF7t1v5RbN3xiOfFOMBZbp/ngUB6lnXm95AMod6fp3RNNdJp4MqYNIvF X9M1JuY7tWI8YYdN1zUjzPnMT1eZtzJlRUAWDm4Y8FszmuyLYGt/A52ZsPbGOzmh6+uv PFPT7RoxHpwPmjh4hGUhImm1zUirz6SpRYkQw= X-Google-DKIM-Signature: v=1; a=rsa-sha256; c=relaxed/relaxed; d=1e100.net; s=20230601; t=1761650025; x=1762254825; h=references:in-reply-to:cc:to:from:subject:message-id:date :x-gm-message-state:from:to:cc:subject:date:message-id:reply-to; bh=ZamVCnp9AKui4bigH9E1TP5h9rU3dWF7M3YKZKh/ptQ=; b=eUhxvEil9B/oc2HqEaFKcd5j+2WooGcdB7UgmfWMYIOIVsilqXO1bV6OKam9gvzqj9 m8qBtxeIg1tLgX0wGy7z8SeFAjowt6yqlvDNBcsSri22Mh5/kECO982WclRE1fGutSoK jIJD6AZd5BjHrE1RXh01yc84jRMygzrgbTjaLvoQfMpFJOq5fMntgTVL7BoUn4l9SiqP J6tSl0ks6gpGpMEKCctHdfou3N957awJaddCYO1M3YbHqOZPvJ3xxwwbpVz/SNp3uHkG 0Ta7eJAUI9RTrqA7nwuCX/rCwf4QYEKp1wLKP/G4LcwRFMjsvw3cHfk3AM1ECwY7cfHJ +aqg== X-Gm-Message-State: AOJu0YyUNeDAJ+Bm+DL0SQ9lm+HC/7zUds5CUZEzrndQbEZ2kwty5QCi CWCKklDfXUGq5u6bAGf1RSqRYcq3iK8WrKwh/ZmKmIqrxunhwGruV3oCi16jw55T0HBr007OtMv ImSyetS3CenBjEyNRhdHUdXR1Td871gZZOcb3UhwBkv83LHFAnSJblby6DAIk X-Gm-Gg: ASbGncthZnusjv59Aly94WNfPYOb/24liFrsMJ9bGpwaKvo+jpbfFslUfAgPPlRIU3Y eTJ6urf59dYUXpEAHIX2JhHLop8/vUY6DLffMLP2HEInbls/hpr185GZRXxTi6eUoHLcdXgPbzW yI9bhJKFOE0cSgDHMtvO41zxqxAxZqAijhfQ3P2vJGrwC4/kmc7ZZppVtZxuqg5bZEvo8Y6W/oR p3aEbmQJkLglIcFmHRXxhqFMgFiX2y8vmR8777ILUSR6RtO4QGIVQNjUL+IgjqKm4iqYiSCtyma 2dWDGJLvE98/MwgK+457/XP5BDhu52EHnYBy6LBR2C3cYweaI36A1oYN7vQvguD+YF1ZlB3U+Dk aKqTo1oco X-Google-Smtp-Source: AGHT+IEy4cIWP+0EpG2ViTJb6qqqGLAgkNlIH2Lp5yJ/5dNEfPmFr1srzzzYn7N34pNu2LZICbmP1Fy0nnb2 X-Received: by 2002:a05:690c:a010:b0:781:32c:b359 with SMTP id 00721157ae682-78617f7626dmr43288297b3.36.1761650025143; Tue, 28 Oct 2025 04:13:45 -0700 (PDT) Received: from postal.iol.unh.edu (postal.iol.unh.edu. [2606:4100:3880:1234::84]) by smtp-relay.gmail.com with ESMTPS id 956f58d0204a3-63f4c3e36a2sm893552d50.8.2025.10.28.04.13.45 (version=TLS1_2 cipher=ECDHE-ECDSA-AES128-GCM-SHA256 bits=128/128); Tue, 28 Oct 2025 04:13:45 -0700 (PDT) X-Relaying-Domain: iol.unh.edu Date: Tue, 28 Oct 2025 04:13:45 -0700 (PDT) Message-ID: <6900a569.050a0220.363b81.a1f0SMTPIN_ADDED_MISSING@mx.google.com> Received: from [172.21.0.2] (unknown [172.18.0.240]) by postal.iol.unh.edu (Postfix) with ESMTP id A280A6051830; Tue, 28 Oct 2025 07:13:44 -0400 (EDT) Subject: |SUCCESS| pw158171-158173 [PATCH] [v11,3/3] net/macb: add necessary From: dpdklab@iol.unh.edu To: Test Report Cc: dpdk-test-reports@iol.unh.edu In-Reply-To: <1761640401-80633-1-git-send-email-liwencheng@phytium.com.cn> References: <1761640401-80633-1-git-send-email-liwencheng@phytium.com.cn> Content-Type: text/plain X-BeenThere: test-report@dpdk.org X-Mailman-Version: 2.1.29 Precedence: list List-Id: automatic DPDK test reports List-Unsubscribe: , List-Archive: List-Post: List-Help: List-Subscribe: , Errors-To: test-report-bounces@dpdk.org Test-Label: iol-unit-amd64-testing Test-Status: SUCCESS http://dpdk.org/patch/158173 _Testing PASS_ Submitter: Wencheng Li Date: Tuesday, October 28 2025 08:33:21 DPDK git baseline: Repo:dpdk Branch: master CommitID:39b54f2dcf44ad1f91eabc7080cd5dea763607fd 158171-158173 --> testing pass Upstream job id: Generic-VM-Unit-Test-DPDK#32106 Test environment and result as below: +-------------------------------+----------------+ | Environment | dpdk_unit_test | +===============================+================+ | Debian GNU/Linux 12 | PASS | +-------------------------------+----------------+ | CentOS Stream 10 | PASS | +-------------------------------+----------------+ | CentOS Stream 9 | PASS | +-------------------------------+----------------+ | Fedora Linux 40 | PASS | +-------------------------------+----------------+ | Fedora Linux 42 | PASS | +-------------------------------+----------------+ | Ubuntu 20.04 | PASS | +-------------------------------+----------------+ | Fedora Linux 41 | PASS | +-------------------------------+----------------+ | Ubuntu 22.04 | PASS | +-------------------------------+----------------+ | Red Hat Enterprise Linux 9.5 | PASS | +-------------------------------+----------------+ | Red Hat Enterprise Linux 8.10 | PASS | +-------------------------------+----------------+ | Ubuntu 24.04 | PASS | +-------------------------------+----------------+ | Windows Server 2022 | PASS | +-------------------------------+----------------+ Debian GNU/Linux 12 Kernel: 5.15 Compiler: gcc gcc (Debian 12.2.0-14+deb12u1) 12.2.0 CentOS Stream 10 Kernel: 5.15 Compiler: gcc gcc (GCC) 14.2.1 20250110 (Red Hat 14.2.1-8) CentOS Stream 9 Kernel: 5.15 Compiler: gcc gcc (GCC) 11.5.0 20240719 (Red Hat 11.5.0-11) Fedora Linux 40 Kernel: 5.15 Compiler: clang gcc (GCC) 14.2.1 20240912 (Red Hat 14.2.1-3) Fedora Linux 42 Kernel: 5.15 Compiler: gcc gcc (GCC) 15.2.1 20250808 (Red Hat 15.2.1-1) Ubuntu 20.04 Kernel: 5.15 Compiler: gcc gcc (Ubuntu 9.4.0-1ubuntu1~20.04.2) 9.4.0 Fedora Linux 41 Kernel: 5.15 Compiler: gcc gcc (GCC) 14.3.1 20250523 (Red Hat 14.3.1-1) Ubuntu 22.04 Kernel: 5.15 Compiler: gcc gcc (Ubuntu 11.4.0-1ubuntu1~22.04) 11.4.0 Red Hat Enterprise Linux 9.5 Kernel: 5.15 Compiler: gcc gcc (GCC) 11.5.0 20240719 (Red Hat 11.5.0-2) Red Hat Enterprise Linux 8.10 Kernel: 5.15 Compiler: gcc gcc (GCC) 8.5.0 20210514 (Red Hat 8.5.0-22) Ubuntu 24.04 Kernel: 5.15 Compiler: gcc gcc (Ubuntu 13.3.0-6ubuntu2~24.04) 13.3.0 Windows Server 2022 Kernel: 10.0.20348.2031 Compiler: clang 15.0.7, gcc 14.1.0 (MinGW), and MSVC VS 19.39.33521 To view detailed results, visit: https://lab.dpdk.org/results/dashboard/patchsets/34392/ UNH-IOL DPDK Community Lab To manage your email subscriptions, visit: https://lab.dpdk.org/results/dashboard/preferences/subscriptions/