From mboxrd@z Thu Jan 1 00:00:00 1970 Return-Path: Received: from mails.dpdk.org (mails.dpdk.org [217.70.189.124]) by inbox.dpdk.org (Postfix) with ESMTP id CED75489F7 for ; Tue, 28 Oct 2025 12:35:28 +0100 (CET) Received: from mails.dpdk.org (localhost [127.0.0.1]) by mails.dpdk.org (Postfix) with ESMTP id AA6084021E; Tue, 28 Oct 2025 12:35:28 +0100 (CET) Received: from mail-ot1-f97.google.com (mail-ot1-f97.google.com [209.85.210.97]) by mails.dpdk.org (Postfix) with ESMTP id 61D114021E for ; Tue, 28 Oct 2025 12:35:27 +0100 (CET) Received: by mail-ot1-f97.google.com with SMTP id 46e09a7af769-7c53400935fso2043602a34.1 for ; Tue, 28 Oct 2025 04:35:27 -0700 (PDT) DKIM-Signature: v=1; a=rsa-sha256; c=relaxed/relaxed; d=iol.unh.edu; s=unh-iol; t=1761651326; x=1762256126; darn=dpdk.org; h=references:in-reply-to:cc:to:from:subject:message-id:date:from:to :cc:subject:date:message-id:reply-to; bh=f8kwVl5r0mQaK2LC7oXIzY54uCqqJ70YHmSFkMzOkLA=; b=eWzejX2SeXwjn/uUmkUDVSc9mGCqDiyOktfJwyoCYJf/fM5TSyEQXh5A7mimERIgVb YWBP6qVOa93FPvNHcbJBsNKIkyp2wr6RTHBMUB3C3KYbTI12oqOLUyuzUN9Pmg8FkN5b dbfM1AAe1NvB6UDGjOeeUypyAMgua3iBJhBSY= X-Google-DKIM-Signature: v=1; a=rsa-sha256; c=relaxed/relaxed; d=1e100.net; s=20230601; t=1761651326; x=1762256126; h=references:in-reply-to:cc:to:from:subject:message-id:date :x-gm-message-state:from:to:cc:subject:date:message-id:reply-to; bh=f8kwVl5r0mQaK2LC7oXIzY54uCqqJ70YHmSFkMzOkLA=; b=FkEt22p4ZvHQOfEc4AoLxp2KrZJG8VIREV1T2CNt8Okh8N7ivmy4NfdIiIcr3NebGn ShNBoKdqzT+nrPy92rrDdC8jkI87s43BWc6hhGWKC/gOcSeesweMhiOj6/7JjtrVH5xq d/tMsOld8MbP8KouyaZbotW5MGDpG0h9DtVWbomrCVWCCNJSW6zoJVxfupZNGugM2rml +4y692UeE3fzKgFMI1ywrDJjZrLc3jZAadvVm2pBy/dfJzYXC466uDILfFTDkQY5nxw3 CnvQzwdmVcOh/MwE5wteWDaAOxWJ/ArLiw0Ne5yg2srcdhUYwtytbLglFfbXVq2Zf7/s VBXA== X-Gm-Message-State: AOJu0YxF/FubEypa1giluZVuRM1nDOOQLfgp3tF7846IuqWNb3MTbSAq 6GwiMPRoHBy6bneQx6MaiwD0leiqkZJLMOnn8cZVQ1sTk5wNp7Em7VDjPd7EV4jh9xXhywEi0S9 lV+7WNS02OXymq9xBRHt5ZruJwLa+qSsCDfc9hsFfVIjX7wjb/vzM/g5oF4Et X-Gm-Gg: ASbGnctAeS1nITZ9ngX08hXIp8XtttuRYjq2g27bXDOtElbjd+H9jAN4YPhU4quNUs8 4W+f+JgaKbdihSl2L1hKVW66r0NBiaKeMXOuOXq8mwu0JcG9m3Ty8ihFfYFtXtbpZHhM/kQIG2B LZfZlCqjt86tyF2eJ3THtEJHqdmMq4CjiPA5O4DbUlnNc0mH7EsIXUhcxOkZ7/Dp0WA51J5GuiZ tgz+7J4spr0/7NnqLta1ewky9q3suYcfvGgPq2CscxjJtNnO3KxYeBFqVFogppSuePkNMszv+I9 phtD2VP3zAkkuvQefd/JHm2w20iMdKgKaSE0P4OYUrK0JMJA95RzVXs8HMeTc0FqjMaCfzvQEeK J9o2bg3m3 X-Google-Smtp-Source: AGHT+IHUD1TbKfJH5wamoOjCzpH1gWa+D6gYMVTu0YO+XOwrTMwHkbSy30je/Ne5ZC/TWG1uhzQ9gClQMQ1Y X-Received: by 2002:a05:6808:2443:b0:44d:b997:d82c with SMTP id 5614622812f47-44f6c79f8f7mr1044189b6e.18.1761651326359; Tue, 28 Oct 2025 04:35:26 -0700 (PDT) Received: from postal.iol.unh.edu (postal.iol.unh.edu. [2606:4100:3880:1234::84]) by smtp-relay.gmail.com with ESMTPS id 46e09a7af769-7c5301b40d8sm922276a34.4.2025.10.28.04.35.26 (version=TLS1_2 cipher=ECDHE-ECDSA-AES128-GCM-SHA256 bits=128/128); Tue, 28 Oct 2025 04:35:26 -0700 (PDT) X-Relaying-Domain: iol.unh.edu Date: Tue, 28 Oct 2025 04:35:26 -0700 (PDT) Message-ID: <6900aa7e.050a0220.30d3e2.a983SMTPIN_ADDED_MISSING@mx.google.com> Received: from [172.21.0.4] (unknown [172.18.0.240]) by postal.iol.unh.edu (Postfix) with ESMTP id 9CD886051830; Tue, 28 Oct 2025 07:35:25 -0400 (EDT) Subject: |WARNING| pw158171-158173 [PATCH] [v11,3/3] net/macb: add necessary From: dpdklab@iol.unh.edu To: Test Report Cc: dpdk-test-reports@iol.unh.edu In-Reply-To: <1761640401-80633-1-git-send-email-liwencheng@phytium.com.cn> References: <1761640401-80633-1-git-send-email-liwencheng@phytium.com.cn> Content-Type: text/plain X-BeenThere: test-report@dpdk.org X-Mailman-Version: 2.1.29 Precedence: list List-Id: automatic DPDK test reports List-Unsubscribe: , List-Archive: List-Post: List-Help: List-Subscribe: , Errors-To: test-report-bounces@dpdk.org Test-Label: iol-compile-amd64-testing Test-Status: WARNING http://dpdk.org/patch/158173 _Testing issues_ Submitter: Wencheng Li Date: Tuesday, October 28 2025 08:33:21 DPDK git baseline: Repo:dpdk Branch: master CommitID:39b54f2dcf44ad1f91eabc7080cd5dea763607fd 158171-158173 --> testing issues Upstream job id: Windows-Compile-DPDK-Native#31932 Test environment and result as below: +-------------------------------+--------------------+------------------+-------------------+-------------------+-------------------------+----------------------+ | Environment | dpdk_meson_compile | dpdk_compile_ovs | dpdk_compile_spdk | dpdk_msvc_compile | dpdk_llvm_clang_compile | dpdk_mingw64_compile | +===============================+====================+==================+===================+===================+=========================+======================+ | FreeBSD 14.2 | PASS | SKIPPED | SKIPPED | SKIPPED | SKIPPED | SKIPPED | +-------------------------------+--------------------+------------------+-------------------+-------------------+-------------------------+----------------------+ | Fedora Linux 42 | PASS | PASS | WARN | SKIPPED | SKIPPED | SKIPPED | +-------------------------------+--------------------+------------------+-------------------+-------------------+-------------------------+----------------------+ | CentOS Stream 9 | PASS | SKIPPED | WARN | SKIPPED | SKIPPED | SKIPPED | +-------------------------------+--------------------+------------------+-------------------+-------------------+-------------------------+----------------------+ | CentOS Stream 10 | PASS | SKIPPED | SKIPPED | SKIPPED | SKIPPED | SKIPPED | +-------------------------------+--------------------+------------------+-------------------+-------------------+-------------------------+----------------------+ | Red Hat Enterprise Linux 8.10 | PASS | SKIPPED | SKIPPED | SKIPPED | SKIPPED | SKIPPED | +-------------------------------+--------------------+------------------+-------------------+-------------------+-------------------------+----------------------+ | Debian GNU/Linux 12 | PASS | SKIPPED | WARN | SKIPPED | SKIPPED | SKIPPED | +-------------------------------+--------------------+------------------+-------------------+-------------------+-------------------------+----------------------+ | Ubuntu 20.04 | PASS | SKIPPED | SKIPPED | SKIPPED | SKIPPED | SKIPPED | +-------------------------------+--------------------+------------------+-------------------+-------------------+-------------------------+----------------------+ | Red Hat Enterprise Linux 9.5 | PASS | SKIPPED | SKIPPED | SKIPPED | SKIPPED | SKIPPED | +-------------------------------+--------------------+------------------+-------------------+-------------------+-------------------------+----------------------+ | openSUSE Leap 15.6 | PASS | SKIPPED | SKIPPED | SKIPPED | SKIPPED | SKIPPED | +-------------------------------+--------------------+------------------+-------------------+-------------------+-------------------------+----------------------+ | Ubuntu 24.04 | PASS | PASS | WARN | SKIPPED | SKIPPED | SKIPPED | +-------------------------------+--------------------+------------------+-------------------+-------------------+-------------------------+----------------------+ | Alpine Linux 3.22.0 | PASS | SKIPPED | SKIPPED | SKIPPED | SKIPPED | SKIPPED | +-------------------------------+--------------------+------------------+-------------------+-------------------+-------------------------+----------------------+ | Ubuntu 22.04 | PASS | SKIPPED | WARN | SKIPPED | SKIPPED | SKIPPED | +-------------------------------+--------------------+------------------+-------------------+-------------------+-------------------------+----------------------+ | Windows Server 2022 | SKIPPED | SKIPPED | SKIPPED | PASS | PASS | PASS | +-------------------------------+--------------------+------------------+-------------------+-------------------+-------------------------+----------------------+ ==== 20 line log output for Ubuntu 22.04 (dpdk_compile_spdk): ==== --- Failed to get log output --- ==== End log output ==== FreeBSD 14.2 Kernel: 14.2-RELEASE Compiler: clang 18.1.6 Fedora Linux 42 Kernel: 5.15 Compiler: clang gcc (GCC) 15.2.1 20250808 (Red Hat 15.2.1-1) CentOS Stream 9 Kernel: 5.15 Compiler: gcc gcc (GCC) 11.5.0 20240719 (Red Hat 11.5.0-11) CentOS Stream 10 Kernel: 5.15 Compiler: gcc gcc (GCC) 14.2.1 20250110 (Red Hat 14.2.1-8) Red Hat Enterprise Linux 8.10 Kernel: 5.15 Compiler: gcc gcc (GCC) 8.5.0 20210514 (Red Hat 8.5.0-22) Debian GNU/Linux 12 Kernel: 5.15 Compiler: gcc gcc (Debian 12.2.0-14+deb12u1) 12.2.0 Ubuntu 20.04 Kernel: 4.19 Compiler: gcc gcc (Ubuntu 9.4.0-1ubuntu1~20.04.2) 9.4.0 Red Hat Enterprise Linux 9.5 Kernel: 5.15 Compiler: gcc gcc (GCC) 11.5.0 20240719 (Red Hat 11.5.0-2) openSUSE Leap 15.6 Kernel: 5.15 Compiler: gcc gcc (SUSE Linux) 7.5.0 Ubuntu 24.04 Kernel: 5.15 Compiler: gcc gcc (Ubuntu 13.3.0-6ubuntu2~24.04) 13.3.0 Alpine Linux 3.22.0 Kernel: 5.15 Compiler: gcc gcc (Alpine 14.2.0) 14.2.0 Ubuntu 22.04 Kernel: 5.15 Compiler: gcc gcc (Ubuntu 11.4.0-1ubuntu1~22.04) 11.4.0 Windows Server 2022 Kernel: 10.0.20348.2031 Compiler: clang 15.0.7, gcc 14.1.0 (MinGW), and MSVC VS 19.39.33521 To view detailed results, visit: https://lab.dpdk.org/results/dashboard/patchsets/34392/ UNH-IOL DPDK Community Lab To manage your email subscriptions, visit: https://lab.dpdk.org/results/dashboard/preferences/subscriptions/