From mboxrd@z Thu Jan 1 00:00:00 1970 Return-Path: Received: from mails.dpdk.org (mails.dpdk.org [217.70.189.124]) by inbox.dpdk.org (Postfix) with ESMTP id 82FFF489F7 for ; Tue, 28 Oct 2025 12:43:30 +0100 (CET) Received: from mails.dpdk.org (localhost [127.0.0.1]) by mails.dpdk.org (Postfix) with ESMTP id 7E8844021E; Tue, 28 Oct 2025 12:43:30 +0100 (CET) Received: from mail-yw1-f227.google.com (mail-yw1-f227.google.com [209.85.128.227]) by mails.dpdk.org (Postfix) with ESMTP id DBA1C4021E for ; Tue, 28 Oct 2025 12:43:28 +0100 (CET) Received: by mail-yw1-f227.google.com with SMTP id 00721157ae682-78487b0960bso62562637b3.2 for ; Tue, 28 Oct 2025 04:43:28 -0700 (PDT) DKIM-Signature: v=1; a=rsa-sha256; c=relaxed/relaxed; d=iol.unh.edu; s=unh-iol; t=1761651808; x=1762256608; darn=dpdk.org; h=references:in-reply-to:cc:to:from:subject:message-id:date:from:to :cc:subject:date:message-id:reply-to; bh=uPaIjlMvoE3Q4innLuXk+UMrXKs3BAwk9WF+zVKaeBU=; b=fyJSEI37iOJuCwuQRKeoFZ9BsOZv9P0HJPJorYFUr2PCie8/PhR+4259/qIPsmiE0J ppGfoPM1rLAmocc4dUfzcSJvpKHA7nl4cF1AHqIIh1pZXmiTCmWQf5D96R8xZ4Bhm+xa 7owW/JT2MFgc7g+JGBolhBq5u1PI99zWIwIpc= X-Google-DKIM-Signature: v=1; a=rsa-sha256; c=relaxed/relaxed; d=1e100.net; s=20230601; t=1761651808; x=1762256608; h=references:in-reply-to:cc:to:from:subject:message-id:date :x-gm-message-state:from:to:cc:subject:date:message-id:reply-to; bh=uPaIjlMvoE3Q4innLuXk+UMrXKs3BAwk9WF+zVKaeBU=; b=jw/EDxKm8ND9v0CcWNre7m7JBCHK6Y3X8FnA+V92JAnV/J73S87lQvCFf9I8UCzgEi MlmC5UtQTVL0tgIaoJX8R0MkPjEGYSvjcHgydPk7v8UEMiM5LMlEXSZVHZsf19lxrv5r TEDphciE6oVuNFSseBIObnTTe0IkPq0m4lcN1Y/U3oXnTxuamodPHUrOCjIEtvh2VS+w ApqM/vjiyysMWWHu1/IT0wSYRlhGUKOiL6i3m5h9DD6uVkvM3aeUP6Q2EVe6R/q2G0u+ pgD+U/CgrIeiZHAAuExUf6E8Qaibsjdmjx6yTU2XZg+fGEiHcglIwXb2pAl1KJzVgyJX AHMQ== X-Gm-Message-State: AOJu0YwdDkd2Q6bgulbbDPVp/IMIStlyU5n/lhCKnVusTC/XNXiBJ5/Z Jy9UnGghPXspaefQ/8r8oSk55HvM66OD3BXKVFnwiGKnxy7TY42h4ax4qtNeM6/XjWrJvrr4JiQ 4yQGe6P9p6w8a67X4E6QF74XhQjycekPKeP5weUUzNZHLjagUfoG8LXb4T8fX X-Gm-Gg: ASbGncucoquuz106NpuAtGKQgc2AGqB1vQ4NVoFm8nzFS2m2sdhQUVs7X2ZH7T5njq3 huyC2fkXMW3LFK60F5DGGlZx1RwsfstMjhD0Ni5mOjEiGdbyuG6UAmT5y1Q3jlxE/hAhoSMWYDt 8mAZwM0mHi47+OxGNhVbsyr/mHSCkgd8B2687HpqByziAfBGJNe2XVaxJlHzZE5zkPVhkMm1vZG nJqpOGTIVNTpX/kiw1eroiKSXL4tEO1dauBuPgPI8UCKRympn3MaaMRy6Is0aanYpU+iCFxUwtB onFz4WUA8BSTk5OImuFRch6o/0qL1ejjw3MBC7RGUIS44KtazY21hQpyff0llCJ/x+aCQfbTFjc wszWLvQCt X-Google-Smtp-Source: AGHT+IFLVBunj1TxhX/ebxmVj4DnMkntWXxBhFA96wcBnFXqMhfBgD6mDY0MUp33QJttBOE6ElZiHxVja9A9 X-Received: by 2002:a05:690c:f81:b0:783:796c:c196 with SMTP id 00721157ae682-78617f77a7dmr35529747b3.32.1761651808324; Tue, 28 Oct 2025 04:43:28 -0700 (PDT) Received: from postal.iol.unh.edu (postal.iol.unh.edu. [2606:4100:3880:1234::84]) by smtp-relay.gmail.com with ESMTPS id 00721157ae682-785ed1f5433sm7280117b3.31.2025.10.28.04.43.28 (version=TLS1_2 cipher=ECDHE-ECDSA-AES128-GCM-SHA256 bits=128/128); Tue, 28 Oct 2025 04:43:28 -0700 (PDT) X-Relaying-Domain: iol.unh.edu Date: Tue, 28 Oct 2025 04:43:28 -0700 (PDT) Message-ID: <6900ac60.050a0220.3056d4.1934SMTPIN_ADDED_MISSING@mx.google.com> Received: from [172.21.0.2] (unknown [172.18.0.240]) by postal.iol.unh.edu (Postfix) with ESMTP id D59946051830; Tue, 28 Oct 2025 07:43:27 -0400 (EDT) Subject: |SUCCESS| pw158175-158177 [PATCH] [v1,3/3] net/r8169: fix issues rep From: dpdklab@iol.unh.edu To: Test Report Cc: dpdk-test-reports@iol.unh.edu, Stephen Hemminger In-Reply-To: <20251028084716.369128-4-howard_wang@realsil.com.cn> References: <20251028084716.369128-4-howard_wang@realsil.com.cn> Content-Type: text/plain X-BeenThere: test-report@dpdk.org X-Mailman-Version: 2.1.29 Precedence: list List-Id: automatic DPDK test reports List-Unsubscribe: , List-Archive: List-Post: List-Help: List-Subscribe: , Errors-To: test-report-bounces@dpdk.org Test-Label: iol-unit-amd64-testing Test-Status: SUCCESS http://dpdk.org/patch/158177 _Testing PASS_ Submitter: Howard Wang Date: Tuesday, October 28 2025 08:47:16 DPDK git baseline: Repo:dpdk-next-net Branch: master CommitID:11a6a4b1f19140ac3a57ace844be3cba00c39eaa 158175-158177 --> testing pass Upstream job id: Generic-VM-Unit-Test-DPDK#32107 Test environment and result as below: +-------------------------------+----------------+ | Environment | dpdk_unit_test | +===============================+================+ | CentOS Stream 10 | PASS | +-------------------------------+----------------+ | CentOS Stream 9 | PASS | +-------------------------------+----------------+ | Fedora Linux 41 | PASS | +-------------------------------+----------------+ | Red Hat Enterprise Linux 8.10 | PASS | +-------------------------------+----------------+ | Fedora Linux 40 | PASS | +-------------------------------+----------------+ | Fedora Linux 42 | PASS | +-------------------------------+----------------+ | Red Hat Enterprise Linux 9.5 | PASS | +-------------------------------+----------------+ | Debian GNU/Linux 12 | PASS | +-------------------------------+----------------+ | Ubuntu 20.04 | PASS | +-------------------------------+----------------+ | Ubuntu 24.04 | PASS | +-------------------------------+----------------+ | Ubuntu 22.04 | PASS | +-------------------------------+----------------+ | Windows Server 2022 | PASS | +-------------------------------+----------------+ CentOS Stream 10 Kernel: 5.15 Compiler: gcc gcc (GCC) 14.2.1 20250110 (Red Hat 14.2.1-8) CentOS Stream 9 Kernel: 5.15 Compiler: gcc gcc (GCC) 11.5.0 20240719 (Red Hat 11.5.0-11) Fedora Linux 41 Kernel: 5.15 Compiler: clang gcc (GCC) 14.3.1 20250523 (Red Hat 14.3.1-1) Red Hat Enterprise Linux 8.10 Kernel: 5.15 Compiler: gcc gcc (GCC) 8.5.0 20210514 (Red Hat 8.5.0-22) Fedora Linux 40 Kernel: 5.15 Compiler: clang gcc (GCC) 14.2.1 20240912 (Red Hat 14.2.1-3) Fedora Linux 42 Kernel: 5.15 Compiler: clang gcc (GCC) 15.2.1 20250808 (Red Hat 15.2.1-1) Red Hat Enterprise Linux 9.5 Kernel: 5.15 Compiler: gcc gcc (GCC) 11.5.0 20240719 (Red Hat 11.5.0-2) Debian GNU/Linux 12 Kernel: 5.15 Compiler: gcc gcc (Debian 12.2.0-14+deb12u1) 12.2.0 Ubuntu 20.04 Kernel: 5.15 Compiler: gcc gcc (Ubuntu 9.4.0-1ubuntu1~20.04.2) 9.4.0 Ubuntu 24.04 Kernel: 5.15 Compiler: gcc gcc (Ubuntu 13.3.0-6ubuntu2~24.04) 13.3.0 Ubuntu 22.04 Kernel: 5.15 Compiler: gcc gcc (Ubuntu 11.4.0-1ubuntu1~22.04) 11.4.0 Windows Server 2022 Kernel: 10.0.20348.2031 Compiler: clang 15.0.7, gcc 14.1.0 (MinGW), and MSVC VS 19.39.33521 To view detailed results, visit: https://lab.dpdk.org/results/dashboard/patchsets/34393/ UNH-IOL DPDK Community Lab To manage your email subscriptions, visit: https://lab.dpdk.org/results/dashboard/preferences/subscriptions/