From mboxrd@z Thu Jan 1 00:00:00 1970 Return-Path: Received: from mails.dpdk.org (mails.dpdk.org [217.70.189.124]) by inbox.dpdk.org (Postfix) with ESMTP id BFECE489F7 for ; Tue, 28 Oct 2025 13:05:01 +0100 (CET) Received: from mails.dpdk.org (localhost [127.0.0.1]) by mails.dpdk.org (Postfix) with ESMTP id 9F1654021E; Tue, 28 Oct 2025 13:05:01 +0100 (CET) Received: from mail-pg1-f228.google.com (mail-pg1-f228.google.com [209.85.215.228]) by mails.dpdk.org (Postfix) with ESMTP id 5FC0A4021E for ; Tue, 28 Oct 2025 13:05:00 +0100 (CET) Received: by mail-pg1-f228.google.com with SMTP id 41be03b00d2f7-b6ceb3b68eeso4454990a12.2 for ; Tue, 28 Oct 2025 05:05:00 -0700 (PDT) DKIM-Signature: v=1; a=rsa-sha256; c=relaxed/relaxed; d=iol.unh.edu; s=unh-iol; t=1761653099; x=1762257899; darn=dpdk.org; h=references:in-reply-to:cc:to:from:subject:message-id:date:from:to :cc:subject:date:message-id:reply-to; bh=HCde5l2+JO6WuKC1UNAoAm4DkMgqA4dyZMzSE34pSA8=; b=Y5jGl7xCdEYV8TkBKf0rzGz7BgB+V+ByneC+kmUZ8El8HgF6gP759jZXFV70aVBiDz gyzjS91YQFIkhDv5pVZL+TczAT5PMkyHWoDr6UdsMRS2+4oAEAcPGy7giawkAZMACP8c NO18VRqJ62YCcmlAQCKja7bHco4cUhDGyaxJw= X-Google-DKIM-Signature: v=1; a=rsa-sha256; c=relaxed/relaxed; d=1e100.net; s=20230601; t=1761653099; x=1762257899; h=references:in-reply-to:cc:to:from:subject:message-id:date :x-gm-message-state:from:to:cc:subject:date:message-id:reply-to; bh=HCde5l2+JO6WuKC1UNAoAm4DkMgqA4dyZMzSE34pSA8=; b=EK3hsp8UFXknMRiEoXv+RSWB1fkFTwb7kcz6s6o3zVHNZ8xJuEcax2vApj0MDZg38z ccy2DkghlhzsxWpIbft+9502FIg4Bx66nCWLLKHhclFDks8QGsZfvFsbEOjPomQ/F5Ff +M/dJEzFPh0/LDsC/P5OPv9QYAgf2TKq+KjcJDrwCTcZNyIZEvjhcAuELBVqT91eCWgm GtX6XeX0yNCnsO/e7pJh5cI0L4vlFjoCnI6fCvakIQAGcCDxEQmJQhh99BO9i8CoA06Q RQv8EP25gcym3kV1/Gwb+Ka0HqPVOWUVZtWiYu/ztg5EYHddMHkT3tvq8NjKlUUfvVpp aZJw== X-Gm-Message-State: AOJu0YxN/6adV1Oaa8MaoOWymN27+ONaB/KZ/huII650wh+JduLkBlym 7k8Avr7X+P713aBGPzNcR7aIF9JaydN9hBA6d1TCdmWRB6Tj0TKsWs/vG/Ec35g7cF4jcJ/iv+3 s8t0Cq0YhAhizXao/GPuHci3Tqhh5KSO7Sz/1YTEb0uyb X-Gm-Gg: ASbGnctzmmBW0fJ61RHpN6GhHXf2C4+fq1SCjjgT/whfDPac1W12myXn0PfNgohCR0q fww1h1VUa2PBRFsvvQAM0cKLb3f82igjgdof6ThuIci4K3yqLzfy92MVUjTSXpBtAQhqx6K3o+X NEC2ioTTWs4KbZWO/HHRlMiN6TMWei28EepOssh/RqK20S14yrqW6U5AtVs1rB5/NqNv361Ysct 7RlzAEqN0pXicRW7ueCJQk/e2rt5InuTI8C7nr5fjpL5R0JNmm2FNOzo/2Rey/GBei4D1CljQ4P w0Ruhr1umIZvDEgKfxkRPxPiI9nG0c8z4pClP+4r006nD06e/TVcWT66eWyfZgpHt7I8ZzPdMak JiB0Uafq7Zgy/37FTiNWjjV0QlDhtO3Q= X-Google-Smtp-Source: AGHT+IEXKJIpyPaxIPAf22jHns8JPjBVNqx6nCLKTnsUdxVTvqgIqcgQAGE8wT9i6k6jfngtPMtQe6MRCAPt X-Received: by 2002:a17:902:db11:b0:261:6d61:f28d with SMTP id d9443c01a7336-294cb674fd8mr39847935ad.50.1761653099275; Tue, 28 Oct 2025 05:04:59 -0700 (PDT) Received: from postal.iol.unh.edu (postal.iol.unh.edu. [132.177.123.84]) by smtp-relay.gmail.com with ESMTPS id d9443c01a7336-29498cf4b9fsm9962715ad.1.2025.10.28.05.04.59 (version=TLS1_2 cipher=ECDHE-ECDSA-AES128-GCM-SHA256 bits=128/128); Tue, 28 Oct 2025 05:04:59 -0700 (PDT) X-Relaying-Domain: iol.unh.edu Date: Tue, 28 Oct 2025 05:04:59 -0700 (PDT) Message-ID: <6900b16b.170a0220.18e345.c8cbSMTPIN_ADDED_MISSING@mx.google.com> Received: from [172.21.0.2] (unknown [172.18.0.240]) by postal.iol.unh.edu (Postfix) with ESMTP id AA4026051830; Tue, 28 Oct 2025 08:04:58 -0400 (EDT) Subject: |SUCCESS| pw158175-158177 [PATCH] [v1,3/3] net/r8169: fix issues rep From: dpdklab@iol.unh.edu To: Test Report Cc: dpdk-test-reports@iol.unh.edu, Stephen Hemminger In-Reply-To: <20251028084716.369128-4-howard_wang@realsil.com.cn> References: <20251028084716.369128-4-howard_wang@realsil.com.cn> Content-Type: text/plain X-BeenThere: test-report@dpdk.org X-Mailman-Version: 2.1.29 Precedence: list List-Id: automatic DPDK test reports List-Unsubscribe: , List-Archive: List-Post: List-Help: List-Subscribe: , Errors-To: test-report-bounces@dpdk.org Test-Label: iol-unit-amd64-testing Test-Status: SUCCESS http://dpdk.org/patch/158177 _Testing PASS_ Submitter: Howard Wang Date: Tuesday, October 28 2025 08:47:16 DPDK git baseline: Repo:dpdk-next-net Branch: master CommitID:11a6a4b1f19140ac3a57ace844be3cba00c39eaa 158175-158177 --> testing pass Upstream job id: Generic-VM-Unit-Test-DPDK#32108 Test environment and result as below: +-------------------------------+----------------+ | Environment | dpdk_unit_test | +===============================+================+ | CentOS Stream 10 | PASS | +-------------------------------+----------------+ | CentOS Stream 9 | PASS | +-------------------------------+----------------+ | Fedora Linux 41 | PASS | +-------------------------------+----------------+ | Red Hat Enterprise Linux 8.10 | PASS | +-------------------------------+----------------+ | Fedora Linux 40 | PASS | +-------------------------------+----------------+ | Fedora Linux 42 | PASS | +-------------------------------+----------------+ | Red Hat Enterprise Linux 9.5 | PASS | +-------------------------------+----------------+ | Debian GNU/Linux 12 | PASS | +-------------------------------+----------------+ | Ubuntu 20.04 | PASS | +-------------------------------+----------------+ | Ubuntu 24.04 | PASS | +-------------------------------+----------------+ | Ubuntu 22.04 | PASS | +-------------------------------+----------------+ | Windows Server 2022 | PASS | +-------------------------------+----------------+ CentOS Stream 10 Kernel: 5.15 Compiler: gcc gcc (GCC) 14.2.1 20250110 (Red Hat 14.2.1-8) CentOS Stream 9 Kernel: 5.15 Compiler: gcc gcc (GCC) 11.5.0 20240719 (Red Hat 11.5.0-11) Fedora Linux 41 Kernel: 5.15 Compiler: clang gcc (GCC) 14.3.1 20250523 (Red Hat 14.3.1-1) Red Hat Enterprise Linux 8.10 Kernel: 5.15 Compiler: gcc gcc (GCC) 8.5.0 20210514 (Red Hat 8.5.0-22) Fedora Linux 40 Kernel: 5.15 Compiler: clang gcc (GCC) 14.2.1 20240912 (Red Hat 14.2.1-3) Fedora Linux 42 Kernel: 5.15 Compiler: clang gcc (GCC) 15.2.1 20250808 (Red Hat 15.2.1-1) Red Hat Enterprise Linux 9.5 Kernel: 5.15 Compiler: gcc gcc (GCC) 11.5.0 20240719 (Red Hat 11.5.0-2) Debian GNU/Linux 12 Kernel: 5.15 Compiler: gcc gcc (Debian 12.2.0-14+deb12u1) 12.2.0 Ubuntu 20.04 Kernel: 5.15 Compiler: gcc gcc (Ubuntu 9.4.0-1ubuntu1~20.04.2) 9.4.0 Ubuntu 24.04 Kernel: 5.15 Compiler: gcc gcc (Ubuntu 13.3.0-6ubuntu2~24.04) 13.3.0 Ubuntu 22.04 Kernel: 5.15 Compiler: gcc gcc (Ubuntu 11.4.0-1ubuntu1~22.04) 11.4.0 Windows Server 2022 Kernel: 10.0.20348.2031 Compiler: clang 15.0.7, gcc 14.1.0 (MinGW), and MSVC VS 19.39.33521 To view detailed results, visit: https://lab.dpdk.org/results/dashboard/patchsets/34393/ UNH-IOL DPDK Community Lab To manage your email subscriptions, visit: https://lab.dpdk.org/results/dashboard/preferences/subscriptions/