From mboxrd@z Thu Jan 1 00:00:00 1970 Return-Path: Received: from mails.dpdk.org (mails.dpdk.org [217.70.189.124]) by inbox.dpdk.org (Postfix) with ESMTP id 53D69489F7 for ; Tue, 28 Oct 2025 13:11:18 +0100 (CET) Received: from mails.dpdk.org (localhost [127.0.0.1]) by mails.dpdk.org (Postfix) with ESMTP id 4CED04021E; Tue, 28 Oct 2025 13:11:18 +0100 (CET) Received: from mail-pj1-f100.google.com (mail-pj1-f100.google.com [209.85.216.100]) by mails.dpdk.org (Postfix) with ESMTP id EEBC94021E for ; Tue, 28 Oct 2025 13:11:16 +0100 (CET) Received: by mail-pj1-f100.google.com with SMTP id 98e67ed59e1d1-3401314d845so2432074a91.1 for ; Tue, 28 Oct 2025 05:11:16 -0700 (PDT) DKIM-Signature: v=1; a=rsa-sha256; c=relaxed/relaxed; d=iol.unh.edu; s=unh-iol; t=1761653476; x=1762258276; darn=dpdk.org; h=references:in-reply-to:cc:to:from:subject:message-id:date:from:to :cc:subject:date:message-id:reply-to; bh=/6FiMvXNKA5U1LvXgT22c0DfiAbOokhkg3EBw1qVYNg=; b=ASwa5ucH8PCeM2YTyGehPhDEGCG1Vo+ad13UaLdW6CkirVX3CYl6uiZSJISRew1zky B8uZUySZ+q7viWCypNxMk23zFnt0HQkhGOmDUp6UsqcB6hIdQLDgSXxU6gfJ/p+39D2C qRv5K3C/Eb8K7asaqcFEf3lxWHfT560+2H4Gg= X-Google-DKIM-Signature: v=1; a=rsa-sha256; c=relaxed/relaxed; d=1e100.net; s=20230601; t=1761653476; x=1762258276; h=references:in-reply-to:cc:to:from:subject:message-id:date :x-gm-message-state:from:to:cc:subject:date:message-id:reply-to; bh=/6FiMvXNKA5U1LvXgT22c0DfiAbOokhkg3EBw1qVYNg=; b=OLLeKWXtFXcEABpU96w8Q8+D7icCdkJFogVu6oUaXOYbYeQGCqZAJCG3W0R2hMEVjg rAj4efqzcmGrZZakIGm59Xt7tf+CXPGudFrauWBg5A/XkK5rTWVTxVAXbDDClYH/DPuU y1anR3gOWKfpx9h4aFKBtWI9/z0ymQ3nCRLpAcDqyHqd4GPNGoZb/UOgaNb3IkUT0VLR LMb60Sdr27pis6I1u6mzHVMSlwas3NT+eEUYpNuxvDcRgerIMgtSQ6FCl4ql/tAJYPvw 1pjVabqrVJyfajpP1lm/zfqrABWmKx3lJ/U4xUEGXTyk2o5SQhmyZE4zfj8X+8Y+tPPz a7bw== X-Gm-Message-State: AOJu0YzGkz+cxyCC3LPp0cqIaXmKc15nTBeq3ibd961tu1WTJqzVVvGO 12+RhesVhgwskVmS3Q7s4mjpB8taupZVL6AsXlP3DNfP1PZxikTlhFRu1eowzBYjSHbyFDRhMNd xEUIKKAs1j0tf1QW9Snf8ZS/qnr8AsnKqMEFxM+iwSFiYLatIKfvMN81mgRvl X-Gm-Gg: ASbGncvd6+wghGJjpEEfx4wxuowTB6GENgxUX5oGxEfZFa7sVlK7G9vFUGEmGH8wfPG qsVHNM77taYQLMNDotsNyX82/FqTESxCpX06Q+WI7khkvEOFIIt6jdfpsLS9BO7CuA6QCRY8SMR vgwePZ0sL35Xl/mqG3zgmFZzeCMs2ZTkWSufwwhXlcOVAneUhzhalSx+jbFBU2nFoiqW0JD8TaI t/bU0Hez6DkqF7lAY8IyDL8F+cROUf/AVmcuI0PC372jA4UIGtHGEk2l+deNfz1SVltu+otKUFm z7dPCIToVH0LLYunEkK3VfB+tVG94vVJ+C0mkSVHvkZ0lqtCteRu9P5fQ32nPW/NTkF9cI7FOjq FdEWtLoM5 X-Google-Smtp-Source: AGHT+IFAy+plT8E+I0N0dWJTBvUEGfnRsG4p+p/JVc8Sp6raDpIlkT2RjxkQhamFuQRHvA3xDgBfi/VR+AB4 X-Received: by 2002:a17:90b:3bcf:b0:332:50e7:9d00 with SMTP id 98e67ed59e1d1-34027a01796mr3806732a91.11.1761653476048; Tue, 28 Oct 2025 05:11:16 -0700 (PDT) Received: from postal.iol.unh.edu (postal.iol.unh.edu. [2606:4100:3880:1234::84]) by smtp-relay.gmail.com with ESMTPS id 41be03b00d2f7-b712fa6b464sm692988a12.13.2025.10.28.05.11.15 (version=TLS1_2 cipher=ECDHE-ECDSA-AES128-GCM-SHA256 bits=128/128); Tue, 28 Oct 2025 05:11:16 -0700 (PDT) X-Relaying-Domain: iol.unh.edu Date: Tue, 28 Oct 2025 05:11:16 -0700 (PDT) Message-ID: <6900b2e4.050a0220.210393.fdcfSMTPIN_ADDED_MISSING@mx.google.com> Received: from [172.21.0.2] (unknown [172.18.0.240]) by postal.iol.unh.edu (Postfix) with ESMTP id 2F7CC604D420; Tue, 28 Oct 2025 08:11:15 -0400 (EDT) Subject: |SUCCESS| pw158170 [PATCH] app/procinfo: fix warning of deprecated c From: dpdklab@iol.unh.edu To: Test Report Cc: dpdk-test-reports@iol.unh.edu In-Reply-To: <20251028081733.38583-1-fengchengwen@huawei.com> References: <20251028081733.38583-1-fengchengwen@huawei.com> Content-Type: text/plain X-BeenThere: test-report@dpdk.org X-Mailman-Version: 2.1.29 Precedence: list List-Id: automatic DPDK test reports List-Unsubscribe: , List-Archive: List-Post: List-Help: List-Subscribe: , Errors-To: test-report-bounces@dpdk.org Test-Label: iol-unit-arm64-testing Test-Status: SUCCESS http://dpdk.org/patch/158170 _Testing PASS_ Submitter: Chengwen Feng Date: Tuesday, October 28 2025 08:17:33 DPDK git baseline: Repo:dpdk Branch: master CommitID:39b54f2dcf44ad1f91eabc7080cd5dea763607fd 158170 --> testing pass Upstream job id: Generic-Unit-Test-DPDK#385857 Test environment and result as below: +------------------------------+----------------+------------------------------+---------------------------+--------------+ | Environment | dpdk_unit_test | cryptodev_sw_snow3g_autotest | cryptodev_sw_zuc_autotest | lpm_autotest | +==============================+================+==============================+===========================+==============+ | CentOS Stream 9 | PASS | SKIPPED | SKIPPED | SKIPPED | +------------------------------+----------------+------------------------------+---------------------------+--------------+ | Fedora Linux 42 | PASS | SKIPPED | SKIPPED | SKIPPED | +------------------------------+----------------+------------------------------+---------------------------+--------------+ | Red Hat Enterprise Linux 9.5 | PASS | SKIPPED | SKIPPED | SKIPPED | +------------------------------+----------------+------------------------------+---------------------------+--------------+ | CentOS Stream 10 | PASS | SKIPPED | SKIPPED | SKIPPED | +------------------------------+----------------+------------------------------+---------------------------+--------------+ | Fedora Linux 40 | PASS | SKIPPED | SKIPPED | SKIPPED | +------------------------------+----------------+------------------------------+---------------------------+--------------+ | Ubuntu 24.04 | PASS | SKIPPED | SKIPPED | SKIPPED | +------------------------------+----------------+------------------------------+---------------------------+--------------+ | Fedora Linux 41 | PASS | SKIPPED | SKIPPED | SKIPPED | +------------------------------+----------------+------------------------------+---------------------------+--------------+ | Ubuntu 22.04 | PASS | SKIPPED | SKIPPED | SKIPPED | +------------------------------+----------------+------------------------------+---------------------------+--------------+ | Ubuntu 20.04 | PASS | SKIPPED | SKIPPED | PASS | +------------------------------+----------------+------------------------------+---------------------------+--------------+ | Debian GNU/Linux 12 | PASS | SKIPPED | SKIPPED | SKIPPED | +------------------------------+----------------+------------------------------+---------------------------+--------------+ | Debian 12 (arm) | SKIPPED | PASS | PASS | SKIPPED | +------------------------------+----------------+------------------------------+---------------------------+--------------+ CentOS Stream 9 Kernel: 5.4 Compiler: gcc gcc (GCC) 11.5.0 20240719 (Red Hat 11.5.0-11) Fedora Linux 42 Kernel: 5.4 Compiler: clang gcc (GCC) 15.2.1 20250808 (Red Hat 15.2.1-1) Red Hat Enterprise Linux 9.5 Kernel: 5.4 Compiler: gcc gcc (GCC) 11.5.0 20240719 (Red Hat 11.5.0-2) CentOS Stream 10 Kernel: 5.4 Compiler: gcc gcc (GCC) 14.2.1 20250110 (Red Hat 14.2.1-8) Fedora Linux 40 Kernel: 5.4 Compiler: clang gcc (GCC) 14.2.1 20240912 (Red Hat 14.2.1-3) Ubuntu 24.04 Kernel: 5.4 Compiler: gcc gcc (Ubuntu 13.3.0-6ubuntu2~24.04) 13.3.0 Fedora Linux 41 Kernel: 5.4 Compiler: clang gcc (GCC) 14.3.1 20250523 (Red Hat 14.3.1-1) Ubuntu 22.04 Kernel: 5.4 Compiler: gcc gcc (Ubuntu 11.4.0-1ubuntu1~22.04) 11.4.0 Ubuntu 20.04 Kernel: 5.4 Compiler: gcc gcc (Ubuntu 9.4.0-1ubuntu1~20.04.2) 9.4.0 Debian GNU/Linux 12 Kernel: 5.4 Compiler: gcc gcc (Debian 12.2.0-14+deb12u1) 12.2.0 Debian 12 (arm) Kernel: Depends on container host Compiler: gcc (Debian 12.2.0-14) 12.2.0 To view detailed results, visit: https://lab.dpdk.org/results/dashboard/patchsets/34391/ UNH-IOL DPDK Community Lab To manage your email subscriptions, visit: https://lab.dpdk.org/results/dashboard/preferences/subscriptions/