From: dpdklab@iol.unh.edu
To: Test Report <test-report@dpdk.org>
Cc: dpdk-test-reports@iol.unh.edu
Subject: |SUCCESS| pw158178 [PATCH] [v1] net/mlx5: remove counter alignment
Date: Tue, 28 Oct 2025 05:28:47 -0700 (PDT) [thread overview]
Message-ID: <6900b6ff.170a0220.2acd40.f74fSMTPIN_ADDED_MISSING@mx.google.com> (raw)
In-Reply-To: <20251028092611.1755141-1-rongweil@nvidia.com>
Test-Label: iol-sample-apps-testing
Test-Status: SUCCESS
http://dpdk.org/patch/158178
_Testing PASS_
Submitter: Rongwei Liu <rongweil@nvidia.com>
Date: Tuesday, October 28 2025 09:26:11
DPDK git baseline: Repo:dpdk-next-net-mlx
Branch: master
CommitID:39b54f2dcf44ad1f91eabc7080cd5dea763607fd
158178 --> testing pass
Upstream job id: Template-DTS-Pipeline#251620
Test environment and result as below:
+--------------+----------------------+
| Environment | compressdev_zlib_pmd |
+==============+======================+
| Ubuntu 22.04 | PASS |
+--------------+----------------------+
Ubuntu 22.04
Kernel: 5.15
Compiler: gcc gcc (Ubuntu 11.4.0-1ubuntu1~22.04.2) 11.4.0
To view detailed results, visit:
https://lab.dpdk.org/results/dashboard/patchsets/34395/
UNH-IOL DPDK Community Lab
To manage your email subscriptions, visit:
https://lab.dpdk.org/results/dashboard/preferences/subscriptions/
next prev parent reply other threads:[~2025-10-28 12:28 UTC|newest]
Thread overview: 28+ messages / expand[flat|nested] mbox.gz Atom feed top
[not found] <20251028092611.1755141-1-rongweil@nvidia.com>
2025-10-28 8:53 ` |SUCCESS| pw158178 [PATCH v1] " qemudev
2025-10-28 8:58 ` qemudev
2025-10-28 9:28 ` checkpatch
2025-10-28 10:02 ` |PENDING| pw158178 [PATCH] [v1] " dpdklab
2025-10-28 10:03 ` |SUCCESS| " dpdklab
2025-10-28 10:09 ` dpdklab
2025-10-28 10:10 ` dpdklab
2025-10-28 10:13 ` dpdklab
2025-10-28 10:38 ` dpdklab
2025-10-28 10:38 ` |PENDING| " dpdklab
2025-10-28 10:49 ` |SUCCESS| " dpdklab
2025-10-28 11:22 ` |SUCCESS| pw158178 [PATCH v1] " 0-day Robot
2025-10-28 11:22 ` 0-day Robot
2025-10-28 11:52 ` |SUCCESS| pw158178 [PATCH] [v1] " dpdklab
2025-10-28 12:05 ` |PENDING| " dpdklab
2025-10-28 12:20 ` |SUCCESS| " dpdklab
2025-10-28 12:28 ` dpdklab [this message]
2025-10-28 12:55 ` |WARNING| " dpdklab
2025-10-28 12:58 ` |SUCCESS| " dpdklab
2025-10-28 13:22 ` |WARNING| " dpdklab
2025-10-28 13:33 ` |SUCCESS| " dpdklab
2025-10-28 13:44 ` dpdklab
2025-10-28 14:25 ` dpdklab
2025-10-28 14:32 ` dpdklab
2025-10-28 14:42 ` dpdklab
2025-10-28 15:25 ` dpdklab
2025-10-28 16:17 ` |WARNING| " dpdklab
2025-10-28 17:20 ` dpdklab
Reply instructions:
You may reply publicly to this message via plain-text email
using any one of the following methods:
* Save the following mbox file, import it into your mail client,
and reply-to-all from there: mbox
Avoid top-posting and favor interleaved quoting:
https://en.wikipedia.org/wiki/Posting_style#Interleaved_style
* Reply using the --to, --cc, and --in-reply-to
switches of git-send-email(1):
git send-email \
--in-reply-to=6900b6ff.170a0220.2acd40.f74fSMTPIN_ADDED_MISSING@mx.google.com \
--to=dpdklab@iol.unh.edu \
--cc=dpdk-test-reports@iol.unh.edu \
--cc=test-report@dpdk.org \
/path/to/YOUR_REPLY
https://kernel.org/pub/software/scm/git/docs/git-send-email.html
* If your mail client supports setting the In-Reply-To header
via mailto: links, try the mailto: link
Be sure your reply has a Subject: header at the top and a blank line
before the message body.
This is a public inbox, see mirroring instructions
for how to clone and mirror all data and code used for this inbox;
as well as URLs for NNTP newsgroup(s).