From mboxrd@z Thu Jan 1 00:00:00 1970 Return-Path: Received: from mails.dpdk.org (mails.dpdk.org [217.70.189.124]) by inbox.dpdk.org (Postfix) with ESMTP id D5AB8489F7 for ; Tue, 28 Oct 2025 13:38:03 +0100 (CET) Received: from mails.dpdk.org (localhost [127.0.0.1]) by mails.dpdk.org (Postfix) with ESMTP id C83624028D; Tue, 28 Oct 2025 13:38:03 +0100 (CET) Received: from mail-io1-f98.google.com (mail-io1-f98.google.com [209.85.166.98]) by mails.dpdk.org (Postfix) with ESMTP id 616C24028D for ; Tue, 28 Oct 2025 13:38:03 +0100 (CET) Received: by mail-io1-f98.google.com with SMTP id ca18e2360f4ac-9379a062ca8so242558839f.2 for ; Tue, 28 Oct 2025 05:38:03 -0700 (PDT) DKIM-Signature: v=1; a=rsa-sha256; c=relaxed/relaxed; d=iol.unh.edu; s=unh-iol; t=1761655082; x=1762259882; darn=dpdk.org; h=references:in-reply-to:cc:to:from:subject:message-id:date:from:to :cc:subject:date:message-id:reply-to; bh=2z+Xu/HTayTb1rAvfLphHlQdRFAbbxHN95GxkSIDtIQ=; b=ZnHjQinERsAwvvVuKBQsH6sdZcn/CBURB7iR0hennNAl67GfqIbADooVEh9p2qbH/A yduhNeX15M9plIPCBWddJllYzhW9nRt1SiAa789JnsE1uKJnAqXsatIbrKUThPwMxdlw UgqEve8rJJ48jGogKRQpNXZwGFeAM/ujBctgE= X-Google-DKIM-Signature: v=1; a=rsa-sha256; c=relaxed/relaxed; d=1e100.net; s=20230601; t=1761655082; x=1762259882; h=references:in-reply-to:cc:to:from:subject:message-id:date :x-gm-message-state:from:to:cc:subject:date:message-id:reply-to; bh=2z+Xu/HTayTb1rAvfLphHlQdRFAbbxHN95GxkSIDtIQ=; b=JzEBS5ITV2DjBfAZ/y3SR6OE1ospdS13ql47d1pvgXTFQcnohjuXI+rFv4BkzQgagT FreVXrfJGPmlQG624bZkztI3xxzcPJKSYVzRFDeTtP/7JpwUeNf3HtCfev37JFnxGtWP yXcuo3/p6NlkZr3/dMAdgP5uvWLlF7g6bfXGH8a9FuGWtw8k5RWuuOcKgNJXIrkJsnoO LZxlIKxpea/NYrzb52CeNBN0qM8anuEomY1n1rcbokk7j7M43yK1QGNCUtHzgpXiSl0S ljajYKZJOMAkcuw6ZN9NKu6Ou9J6IBppJ8eKQ17gkQ/FyJ+d2BgD10GVgBYGW2cd8eBM pnbg== X-Gm-Message-State: AOJu0YwUTFwj9Jer1dlnc9IjCfM+0I8kAWJtSfn03sZnZltdbt0xlUU/ Rfp5AvJ5P1JpSA/b3laOzJIiimHNqhDBrhj2g9X/OlYOO0nv2nzvCGB3X/8kSl8ffrMAtq4Mk8r b9/zXHq7LMGdxLAe/oBwQEvT4pSvFrKZC9bhJSNm+D62hYs185HenN6MzWrFL X-Gm-Gg: ASbGncszhNNdVByJqQ6OxxU3W5Vap751v713gUVrVL30/Sk9wpG6y0x2qDbYklp/K8I 8yvUJufcpTQLLMICKcNpQPrqr5un3spPFdJ4rE1KWNqb23h1sBDF2jl1+KlizwiF/c//Kny7BMU X7Ajr/ve4bYcgJrxBivEM1aHsJaNXtuw+CI+0aqZxDbAd610yB4ROm9eOZrjMRMe3/uim1dj76r 27zSuYv/BPOjAJBstVKq3Tbypgv8acbPNDdseDj71iDlvx6MWPygWoDCyjmO8XgNwD61WMkuRws Aun1/0KmWAwreBSgulfAXR9h/n87/GhnWG+tES4j6zQe+b+z2jKTA9yoWhOO03F7tKWBwQvH1Zx Jt11NUd8B X-Google-Smtp-Source: AGHT+IEwP0T7W0kQyGu/FMhFaeraHkguDwE6tIR4iwQYkdeAr1Ycg1Ma8OtLp5IlJwkimrPBWCxFXvTRVgZf X-Received: by 2002:a05:6e02:3399:b0:430:c542:3270 with SMTP id e9e14a558f8ab-4320f7be27emr47026755ab.32.1761655082679; Tue, 28 Oct 2025 05:38:02 -0700 (PDT) Received: from postal.iol.unh.edu (postal.iol.unh.edu. [2606:4100:3880:1234::84]) by smtp-relay.gmail.com with ESMTPS id e9e14a558f8ab-431f688d961sm10247545ab.17.2025.10.28.05.38.02 (version=TLS1_2 cipher=ECDHE-ECDSA-AES128-GCM-SHA256 bits=128/128); Tue, 28 Oct 2025 05:38:02 -0700 (PDT) X-Relaying-Domain: iol.unh.edu Date: Tue, 28 Oct 2025 05:38:02 -0700 (PDT) Message-ID: <6900b92a.050a0220.ed1ac.ef44SMTPIN_ADDED_MISSING@mx.google.com> Received: from [172.21.0.5] (unknown [172.18.0.240]) by postal.iol.unh.edu (Postfix) with ESMTP id 33F52604D420; Tue, 28 Oct 2025 08:38:02 -0400 (EDT) Subject: |SUCCESS| pw158174 [PATCH] config/arm: add HiSilicon HIP12 From: dpdklab@iol.unh.edu To: Test Report Cc: dpdk-test-reports@iol.unh.edu In-Reply-To: <20251028084259.4925-1-fengchengwen@huawei.com> References: <20251028084259.4925-1-fengchengwen@huawei.com> Content-Type: text/plain X-BeenThere: test-report@dpdk.org X-Mailman-Version: 2.1.29 Precedence: list List-Id: automatic DPDK test reports List-Unsubscribe: , List-Archive: List-Post: List-Help: List-Subscribe: , Errors-To: test-report-bounces@dpdk.org Test-Label: iol-unit-amd64-testing Test-Status: SUCCESS http://dpdk.org/patch/158174 _Testing PASS_ Submitter: Chengwen Feng Date: Tuesday, October 28 2025 08:42:59 DPDK git baseline: Repo:dpdk Branch: master CommitID:39b54f2dcf44ad1f91eabc7080cd5dea763607fd 158174 --> testing pass Upstream job id: Generic-VM-Unit-Test-DPDK#32109 Test environment and result as below: +-------------------------------+----------------+ | Environment | dpdk_unit_test | +===============================+================+ | Fedora Linux 40 | PASS | +-------------------------------+----------------+ | CentOS Stream 9 | PASS | +-------------------------------+----------------+ | CentOS Stream 10 | PASS | +-------------------------------+----------------+ | Debian GNU/Linux 12 | PASS | +-------------------------------+----------------+ | Ubuntu 22.04 | PASS | +-------------------------------+----------------+ | Ubuntu 24.04 | PASS | +-------------------------------+----------------+ | Fedora Linux 42 | PASS | +-------------------------------+----------------+ | Fedora Linux 41 | PASS | +-------------------------------+----------------+ | Red Hat Enterprise Linux 9.5 | PASS | +-------------------------------+----------------+ | Red Hat Enterprise Linux 8.10 | PASS | +-------------------------------+----------------+ | Ubuntu 20.04 | PASS | +-------------------------------+----------------+ | Windows Server 2022 | PASS | +-------------------------------+----------------+ Fedora Linux 40 Kernel: 5.15 Compiler: gcc gcc (GCC) 14.2.1 20240912 (Red Hat 14.2.1-3) CentOS Stream 9 Kernel: 5.15 Compiler: gcc gcc (GCC) 11.5.0 20240719 (Red Hat 11.5.0-11) CentOS Stream 10 Kernel: 5.15 Compiler: gcc gcc (GCC) 14.2.1 20250110 (Red Hat 14.2.1-8) Debian GNU/Linux 12 Kernel: 5.15 Compiler: gcc gcc (Debian 12.2.0-14+deb12u1) 12.2.0 Ubuntu 22.04 Kernel: 5.15 Compiler: gcc gcc (Ubuntu 11.4.0-1ubuntu1~22.04) 11.4.0 Ubuntu 24.04 Kernel: 5.15 Compiler: gcc gcc (Ubuntu 13.3.0-6ubuntu2~24.04) 13.3.0 Fedora Linux 42 Kernel: 5.15 Compiler: gcc gcc (GCC) 15.2.1 20250808 (Red Hat 15.2.1-1) Fedora Linux 41 Kernel: 5.15 Compiler: clang gcc (GCC) 14.3.1 20250523 (Red Hat 14.3.1-1) Red Hat Enterprise Linux 9.5 Kernel: 5.15 Compiler: gcc gcc (GCC) 11.5.0 20240719 (Red Hat 11.5.0-2) Red Hat Enterprise Linux 8.10 Kernel: 5.15 Compiler: gcc gcc (GCC) 8.5.0 20210514 (Red Hat 8.5.0-22) Ubuntu 20.04 Kernel: 5.15 Compiler: gcc gcc (Ubuntu 9.4.0-1ubuntu1~20.04.2) 9.4.0 Windows Server 2022 Kernel: 10.0.20348.2031 Compiler: clang 15.0.7, gcc 14.1.0 (MinGW), and MSVC VS 19.39.33521 To view detailed results, visit: https://lab.dpdk.org/results/dashboard/patchsets/34394/ UNH-IOL DPDK Community Lab To manage your email subscriptions, visit: https://lab.dpdk.org/results/dashboard/preferences/subscriptions/