From mboxrd@z Thu Jan 1 00:00:00 1970 Return-Path: Received: from mails.dpdk.org (mails.dpdk.org [217.70.189.124]) by inbox.dpdk.org (Postfix) with ESMTP id 0C376489F7 for ; Tue, 28 Oct 2025 13:39:20 +0100 (CET) Received: from mails.dpdk.org (localhost [127.0.0.1]) by mails.dpdk.org (Postfix) with ESMTP id 041FE4028D; Tue, 28 Oct 2025 13:39:20 +0100 (CET) Received: from mail-il1-f227.google.com (mail-il1-f227.google.com [209.85.166.227]) by mails.dpdk.org (Postfix) with ESMTP id C5FDF4028D for ; Tue, 28 Oct 2025 13:39:18 +0100 (CET) Received: by mail-il1-f227.google.com with SMTP id e9e14a558f8ab-430b45ba0e4so29145605ab.1 for ; Tue, 28 Oct 2025 05:39:18 -0700 (PDT) DKIM-Signature: v=1; a=rsa-sha256; c=relaxed/relaxed; d=iol.unh.edu; s=unh-iol; t=1761655158; x=1762259958; darn=dpdk.org; h=references:in-reply-to:cc:to:from:subject:message-id:date:from:to :cc:subject:date:message-id:reply-to; bh=xJZMXGhUnDJGbfeOeBGKb+mWFu+9TjS3/yLiNDCpYGM=; b=e1ABtit+mxHtsMbHi7vuik2/oKU1Vd36spKzQGt+vMa7GABaP/Pt4i0e9y4jcdIxJc dmr1jACIQuGcLo52aaMirAKJISvC2/RihNAQV5cenEVg/Mqk9lE3llwYkaxvBpG8Rxk/ vPDNbWi64d6Hvhk/KkoPyb1ROUhm2gZ9xTQC0= X-Google-DKIM-Signature: v=1; a=rsa-sha256; c=relaxed/relaxed; d=1e100.net; s=20230601; t=1761655158; x=1762259958; h=references:in-reply-to:cc:to:from:subject:message-id:date :x-gm-message-state:from:to:cc:subject:date:message-id:reply-to; bh=xJZMXGhUnDJGbfeOeBGKb+mWFu+9TjS3/yLiNDCpYGM=; b=EmSAW2Q0imsbp9/Vr98fBUPh7718tczKkd29RxepJfxjMYCYBBrXRQtl9H+PF8kIZ2 KYQeM3GdfCTOMnnedPGqUQ7yNZwabxsHjy8I90ryVDT54ywbDVySVu4gYvwsCpbQq6T3 CNOdn1j/b2zpxDyiL2Wamo7ZmWdaUUez6XrZb1lyPMBXy0QBuflMWRP16JROQmQzN1jw dh2iYxm1UZErl0/a3dARQTOPMOvMmuqNW9qCTWx4XRl5TqIQJ2myan1JgDH1DYVeqRhy 0q3jWQzI0Ih+5mag31BEFtQ0cZwjy5zaPsO5d8/MUnm/Muit4lwTE46v0tdSAR/9PQN0 BQgg== X-Gm-Message-State: AOJu0YwEb7GXC6ztymAcvlEuv/3/MYMKncCSpmoMZNHjS7RvA62D7E8i /pJKUwBDdmWTz8nAX6YmaoRhQM6f+clTduYOq7du5bIuEcAaKVHCzzvAq/d3PGl2rUx60TEchE3 hN3vQqCZg6exWmyEeczwZugj2PdZ3oFdZU5tJfqCC3Lxc X-Gm-Gg: ASbGnct3r9o62hJW6KMx+BKe6yQ8H8qgE0azXLNTLYsmd/zUYRulDlya45W+23GcmJ1 SydNcnzX3txfWyj785HTyUxN1sSsL6GiMgycNzvpxetjl6Ba27czKriHVIK+5yLj9uQrNbnBajb MDMaW4c3jkRUv6tR4yUkgOELVpcwlrLOIYNZHeK2FqVGaz+hiAeEvnafR9uaoosgsNEhcVyrCSq 2AHznCJPMU4nPXYeYkNVK9jd7EdJ896GW8RFSzVwpFqk0CyBF6Rydunk48t0EdHNk8aeiIBZpeW QhtiAbzrKgq7tcVZ05GgXRibhh1HkjZMIVQ4UJXYSCmygMOHr7XsAPKccVRe/ArnW6nssncmQTj aPJ77vtOXPPihcmzEcpCIhKhTTgLkhCs= X-Google-Smtp-Source: AGHT+IFD6vjpEIQZZaVVAxhzOlNpFd+7PrgOBG4Ud+PfrIhtGZwxSuJpAlTGc74OiQ1QmQreWWLwRI1o3SQa X-Received: by 2002:a05:6e02:349a:b0:430:e5a4:6f41 with SMTP id e9e14a558f8ab-4320f86b64amr44593515ab.32.1761655158122; Tue, 28 Oct 2025 05:39:18 -0700 (PDT) Received: from postal.iol.unh.edu (postal.iol.unh.edu. [132.177.123.84]) by smtp-relay.gmail.com with ESMTPS id 8926c6da1cb9f-5aea9e32c85sm765371173.29.2025.10.28.05.39.18 (version=TLS1_2 cipher=ECDHE-ECDSA-AES128-GCM-SHA256 bits=128/128); Tue, 28 Oct 2025 05:39:18 -0700 (PDT) X-Relaying-Domain: iol.unh.edu Date: Tue, 28 Oct 2025 05:39:18 -0700 (PDT) Message-ID: <6900b976.050a0220.13e9aa.2c29SMTPIN_ADDED_MISSING@mx.google.com> Received: from [172.21.0.9] (unknown [172.18.0.240]) by postal.iol.unh.edu (Postfix) with ESMTP id C5851604D420; Tue, 28 Oct 2025 08:39:17 -0400 (EDT) Subject: |WARNING| pw158179 [PATCH] net/mlx5: store rxq MTU at allocation tim From: dpdklab@iol.unh.edu To: Test Report Cc: dpdk-test-reports@iol.unh.edu In-Reply-To: <20251028095240.35281-1-a.schollmeyer@syseleven.de> References: <20251028095240.35281-1-a.schollmeyer@syseleven.de> Content-Type: text/plain X-BeenThere: test-report@dpdk.org X-Mailman-Version: 2.1.29 Precedence: list List-Id: automatic DPDK test reports List-Unsubscribe: , List-Archive: List-Post: List-Help: List-Subscribe: , Errors-To: test-report-bounces@dpdk.org Test-Label: iol-compile-amd64-testing Test-Status: WARNING http://dpdk.org/patch/158179 _Testing issues_ Submitter: Adrian Schollmeyer Date: Tuesday, October 28 2025 09:52:40 DPDK git baseline: Repo:dpdk-next-net-mlx Branch: master CommitID:39b54f2dcf44ad1f91eabc7080cd5dea763607fd 158179 --> testing issues Upstream job id: Generic-DPDK-Compile-Meson#438437 Test environment and result as below: +-------------------------------+--------------------+-------------------+------------------+ | Environment | dpdk_meson_compile | dpdk_compile_spdk | dpdk_compile_ovs | +===============================+====================+===================+==================+ | Ubuntu 20.04 | PASS | SKIPPED | SKIPPED | +-------------------------------+--------------------+-------------------+------------------+ | FreeBSD 14.2 | PASS | SKIPPED | SKIPPED | +-------------------------------+--------------------+-------------------+------------------+ | CentOS Stream 9 | PASS | WARN | SKIPPED | +-------------------------------+--------------------+-------------------+------------------+ | CentOS Stream 10 | PASS | SKIPPED | SKIPPED | +-------------------------------+--------------------+-------------------+------------------+ | Debian GNU/Linux 12 | PASS | WARN | SKIPPED | +-------------------------------+--------------------+-------------------+------------------+ | Fedora Linux 42 | PASS | WARN | PASS | +-------------------------------+--------------------+-------------------+------------------+ | openSUSE Leap 15.6 | PASS | SKIPPED | SKIPPED | +-------------------------------+--------------------+-------------------+------------------+ | Red Hat Enterprise Linux 8.10 | PASS | SKIPPED | SKIPPED | +-------------------------------+--------------------+-------------------+------------------+ | Red Hat Enterprise Linux 9.5 | PASS | SKIPPED | SKIPPED | +-------------------------------+--------------------+-------------------+------------------+ | Ubuntu 22.04 | PASS | WARN | SKIPPED | +-------------------------------+--------------------+-------------------+------------------+ | Ubuntu 24.04 | PASS | WARN | PASS | +-------------------------------+--------------------+-------------------+------------------+ | Alpine Linux 3.22.0 | PASS | SKIPPED | SKIPPED | +-------------------------------+--------------------+-------------------+------------------+ ==== 20 line log output for Ubuntu 24.04 (dpdk_compile_spdk): ==== --- Failed to get log output --- ==== End log output ==== Ubuntu 20.04 Kernel: 4.19 Compiler: gcc gcc (Ubuntu 9.4.0-1ubuntu1~20.04.2) 9.4.0 FreeBSD 14.2 Kernel: 14.2-RELEASE Compiler: clang 18.1.6 CentOS Stream 9 Kernel: 5.15 Compiler: gcc gcc (GCC) 11.5.0 20240719 (Red Hat 11.5.0-11) CentOS Stream 10 Kernel: 5.15 Compiler: gcc gcc (GCC) 14.2.1 20250110 (Red Hat 14.2.1-8) Debian GNU/Linux 12 Kernel: 5.15 Compiler: gcc gcc (Debian 12.2.0-14+deb12u1) 12.2.0 Fedora Linux 42 Kernel: 5.15 Compiler: clang gcc (GCC) 15.2.1 20250808 (Red Hat 15.2.1-1) openSUSE Leap 15.6 Kernel: 5.15 Compiler: gcc gcc (SUSE Linux) 7.5.0 Red Hat Enterprise Linux 8.10 Kernel: 5.15 Compiler: gcc gcc (GCC) 8.5.0 20210514 (Red Hat 8.5.0-22) Red Hat Enterprise Linux 9.5 Kernel: 5.15 Compiler: gcc gcc (GCC) 11.5.0 20240719 (Red Hat 11.5.0-2) Ubuntu 22.04 Kernel: 5.15 Compiler: gcc gcc (Ubuntu 11.4.0-1ubuntu1~22.04) 11.4.0 Ubuntu 24.04 Kernel: 5.15 Compiler: gcc gcc (Ubuntu 13.3.0-6ubuntu2~24.04) 13.3.0 Alpine Linux 3.22.0 Kernel: 5.15 Compiler: gcc gcc (Alpine 14.2.0) 14.2.0 To view detailed results, visit: https://lab.dpdk.org/results/dashboard/patchsets/34396/ UNH-IOL DPDK Community Lab To manage your email subscriptions, visit: https://lab.dpdk.org/results/dashboard/preferences/subscriptions/