From mboxrd@z Thu Jan 1 00:00:00 1970 Return-Path: Received: from mails.dpdk.org (mails.dpdk.org [217.70.189.124]) by inbox.dpdk.org (Postfix) with ESMTP id 22741489F7 for ; Tue, 28 Oct 2025 13:39:51 +0100 (CET) Received: from mails.dpdk.org (localhost [127.0.0.1]) by mails.dpdk.org (Postfix) with ESMTP id 187B14028D; Tue, 28 Oct 2025 13:39:51 +0100 (CET) Received: from mail-pf1-f228.google.com (mail-pf1-f228.google.com [209.85.210.228]) by mails.dpdk.org (Postfix) with ESMTP id B4F194028D for ; Tue, 28 Oct 2025 13:39:49 +0100 (CET) Received: by mail-pf1-f228.google.com with SMTP id d2e1a72fcca58-780fc3b181aso3693394b3a.2 for ; Tue, 28 Oct 2025 05:39:49 -0700 (PDT) DKIM-Signature: v=1; a=rsa-sha256; c=relaxed/relaxed; d=iol.unh.edu; s=unh-iol; t=1761655189; x=1762259989; darn=dpdk.org; h=references:in-reply-to:cc:to:from:subject:message-id:date:from:to :cc:subject:date:message-id:reply-to; bh=OayJe40XPKs5uZXb+VXQZEqPiyl7ptBaoF/n1FpJ4Y4=; b=L2ZRulrRWjhr9JPD9XhqpshHND3CDXGbnN/XPDmhPbSZ3CWhJGPbjynPtohBLugPwJ ntuKs7DSYk988aSifH0HC6+vBjjM6orFDzwIRPrM0jjztEz3g8CS0ry52PPXDvpsVBgi rfXaoE7dh3VKQ950rWDUeioBWI+93tNwzdJEo= X-Google-DKIM-Signature: v=1; a=rsa-sha256; c=relaxed/relaxed; d=1e100.net; s=20230601; t=1761655189; x=1762259989; h=references:in-reply-to:cc:to:from:subject:message-id:date :x-gm-message-state:from:to:cc:subject:date:message-id:reply-to; bh=OayJe40XPKs5uZXb+VXQZEqPiyl7ptBaoF/n1FpJ4Y4=; b=mER+ZtRK611RhadbsEEGSbaHw+CMY6z1oKc8pzrcSgL4qo8+XlN+VmLF7QgOmFf1hk /sl98WYl3+W3OH81AivAWM2+5l6HTEZaOFsKHBHAKXf/dbm1TKDohxjNvwImc9d1ZYff z6DyDyWa5E2DzSxNDArbxG2/PhmF8vOMooiyNklgI0ckw+YMQuwwr5TM16kyYyMtgG+k lf4zDuUgzt9OAEsxKtSh/zRwyXvZEEWA6gBZm34oPCTkv6s4tb/ktRrLoO+US1IX38zX PSMFVTGZRVLWZatCg5gBKAIx0zwJaZwE05rdbP7K7swFpQ7so7uzp8xS51FZMMONjPJg qLmg== X-Gm-Message-State: AOJu0YxNuEhKXHqKkWYso0CiEmDHl+TnQnlHKwu47PwUYTQf1CJlYCv5 tN5efVYlyyOPiiEB/BqpFaVWdXVhyn3SWfCBmdN7yaIx5JvmoUf3n5EVK1bWP42UNY9x4T6mMxe Szb/4+1+2MfP5a2QrSla3wDw+H1vwScLWy2Q0uGqUziKS X-Gm-Gg: ASbGnctKCIy825UW9yxs97cm9PyoyMU8XOguADz7svIFhMb/D6mJQV4KCSNnTN+h8L/ v2l7HowztXhwfZ0pnukLLMvypy6BuXRkoR+3FG9JUbXG0MQiehXS4Kv81XgTV22LlcUMK5talrG +QjyBDSjlJYOdoqdSQMdVxqFr1gjsbm46398F6KlCELUZZAbIGLsqbpidUzwtplNrk3n+uLbe/m BI6o41Q2JagBWyPS2ehEclzB9Fr/ddbPwxDAl2TIi3LNYOFP4AxBoXWPlvKuJB1RCK49gnm75p2 cHEHdhXN2vAVKy/ZGNHn0NlqEkVW9qqgMmSOh3ZsRk3w+6HXMsMPETPBze2HsGpZ+HHimLhRUAq TTK27naPwtwS+uEp34VittIg1RvE8wBE= X-Google-Smtp-Source: AGHT+IGlYdnIU6p/MDiaqgJlKPdiN1P4Yua78RXy45utP5Qu14F//IoU73SNtdbAhIleROzsDVmLcjiepUv0 X-Received: by 2002:a05:6a00:2d0b:b0:7a2:71a2:357d with SMTP id d2e1a72fcca58-7a441bb1159mr4346054b3a.14.1761655188828; Tue, 28 Oct 2025 05:39:48 -0700 (PDT) Received: from postal.iol.unh.edu (postal.iol.unh.edu. [132.177.123.84]) by smtp-relay.gmail.com with ESMTPS id d2e1a72fcca58-7a41409e120sm675965b3a.6.2025.10.28.05.39.48 (version=TLS1_2 cipher=ECDHE-ECDSA-AES128-GCM-SHA256 bits=128/128); Tue, 28 Oct 2025 05:39:48 -0700 (PDT) X-Relaying-Domain: iol.unh.edu Date: Tue, 28 Oct 2025 05:39:48 -0700 (PDT) Message-ID: <6900b994.050a0220.2d8a19.f2baSMTPIN_ADDED_MISSING@mx.google.com> Received: from [172.21.0.4] (unknown [172.18.0.240]) by postal.iol.unh.edu (Postfix) with ESMTP id 17E4B604D420; Tue, 28 Oct 2025 08:39:48 -0400 (EDT) Subject: |WARNING| pw158179 [PATCH] net/mlx5: store rxq MTU at allocation tim From: dpdklab@iol.unh.edu To: Test Report Cc: dpdk-test-reports@iol.unh.edu In-Reply-To: <20251028095240.35281-1-a.schollmeyer@syseleven.de> References: <20251028095240.35281-1-a.schollmeyer@syseleven.de> Content-Type: text/plain X-BeenThere: test-report@dpdk.org X-Mailman-Version: 2.1.29 Precedence: list List-Id: automatic DPDK test reports List-Unsubscribe: , List-Archive: List-Post: List-Help: List-Subscribe: , Errors-To: test-report-bounces@dpdk.org Test-Label: iol-compile-amd64-testing Test-Status: WARNING http://dpdk.org/patch/158179 _Testing issues_ Submitter: Adrian Schollmeyer Date: Tuesday, October 28 2025 09:52:40 DPDK git baseline: Repo:dpdk-next-net-mlx Branch: master CommitID:39b54f2dcf44ad1f91eabc7080cd5dea763607fd 158179 --> testing issues Upstream job id: Generic-DPDK-Compile-Meson#438428 Test environment and result as below: +-------------------------------+--------------------+-------------------+------------------+ | Environment | dpdk_meson_compile | dpdk_compile_spdk | dpdk_compile_ovs | +===============================+====================+===================+==================+ | Ubuntu 20.04 | PASS | SKIPPED | SKIPPED | +-------------------------------+--------------------+-------------------+------------------+ | FreeBSD 14.2 | PASS | SKIPPED | SKIPPED | +-------------------------------+--------------------+-------------------+------------------+ | CentOS Stream 9 | PASS | WARN | SKIPPED | +-------------------------------+--------------------+-------------------+------------------+ | CentOS Stream 10 | PASS | SKIPPED | SKIPPED | +-------------------------------+--------------------+-------------------+------------------+ | Debian GNU/Linux 12 | PASS | WARN | SKIPPED | +-------------------------------+--------------------+-------------------+------------------+ | Fedora Linux 42 | PASS | WARN | PASS | +-------------------------------+--------------------+-------------------+------------------+ | openSUSE Leap 15.6 | PASS | SKIPPED | SKIPPED | +-------------------------------+--------------------+-------------------+------------------+ | Red Hat Enterprise Linux 8.10 | PASS | SKIPPED | SKIPPED | +-------------------------------+--------------------+-------------------+------------------+ | Red Hat Enterprise Linux 9.5 | PASS | SKIPPED | SKIPPED | +-------------------------------+--------------------+-------------------+------------------+ | Ubuntu 22.04 | PASS | WARN | SKIPPED | +-------------------------------+--------------------+-------------------+------------------+ | Ubuntu 24.04 | PASS | WARN | PASS | +-------------------------------+--------------------+-------------------+------------------+ | Alpine Linux 3.22.0 | PASS | SKIPPED | SKIPPED | +-------------------------------+--------------------+-------------------+------------------+ ==== 20 line log output for Ubuntu 24.04 (dpdk_compile_spdk): ==== --- Failed to get log output --- ==== End log output ==== Ubuntu 20.04 Kernel: 4.19 Compiler: gcc gcc (Ubuntu 9.4.0-1ubuntu1~20.04.2) 9.4.0 FreeBSD 14.2 Kernel: 14.2-RELEASE Compiler: clang 18.1.6 CentOS Stream 9 Kernel: 5.15 Compiler: gcc gcc (GCC) 11.5.0 20240719 (Red Hat 11.5.0-11) CentOS Stream 10 Kernel: 5.15 Compiler: gcc gcc (GCC) 14.2.1 20250110 (Red Hat 14.2.1-8) Debian GNU/Linux 12 Kernel: 5.15 Compiler: gcc gcc (Debian 12.2.0-14+deb12u1) 12.2.0 Fedora Linux 42 Kernel: 5.15 Compiler: clang gcc (GCC) 15.2.1 20250808 (Red Hat 15.2.1-1) openSUSE Leap 15.6 Kernel: 5.15 Compiler: gcc gcc (SUSE Linux) 7.5.0 Red Hat Enterprise Linux 8.10 Kernel: 5.15 Compiler: gcc gcc (GCC) 8.5.0 20210514 (Red Hat 8.5.0-22) Red Hat Enterprise Linux 9.5 Kernel: 5.15 Compiler: gcc gcc (GCC) 11.5.0 20240719 (Red Hat 11.5.0-2) Ubuntu 22.04 Kernel: 5.15 Compiler: gcc gcc (Ubuntu 11.4.0-1ubuntu1~22.04) 11.4.0 Ubuntu 24.04 Kernel: 5.15 Compiler: gcc gcc (Ubuntu 13.3.0-6ubuntu2~24.04) 13.3.0 Alpine Linux 3.22.0 Kernel: 5.15 Compiler: gcc gcc (Alpine 14.2.0) 14.2.0 To view detailed results, visit: https://lab.dpdk.org/results/dashboard/patchsets/34396/ UNH-IOL DPDK Community Lab To manage your email subscriptions, visit: https://lab.dpdk.org/results/dashboard/preferences/subscriptions/