From: dpdklab@iol.unh.edu
To: Test Report <test-report@dpdk.org>
Cc: dpdk-test-reports@iol.unh.edu
Subject: |WARNING| pw158178 [PATCH] [v1] net/mlx5: remove counter alignment
Date: Tue, 28 Oct 2025 05:55:44 -0700 (PDT) [thread overview]
Message-ID: <6900bd50.050a0220.1f443b.677aSMTPIN_ADDED_MISSING@mx.google.com> (raw)
In-Reply-To: <20251028092611.1755141-1-rongweil@nvidia.com>
Test-Label: iol-sample-apps-testing
Test-Status: WARNING
http://dpdk.org/patch/158178
_Testing issues_
Submitter: Rongwei Liu <rongweil@nvidia.com>
Date: Tuesday, October 28 2025 09:26:11
DPDK git baseline: Repo:dpdk-next-net-mlx
Branch: master
CommitID:39b54f2dcf44ad1f91eabc7080cd5dea763607fd
158178 --> testing issues
Upstream job id: ACVP-FIPS-testing#11583
Test environment and result as below:
+--------------+----------------------+----------------------+
| Environment | compressdev_zlib_pmd | dpdk_fips_validation |
+==============+======================+======================+
| Ubuntu 22.04 | PASS | SKIPPED |
+--------------+----------------------+----------------------+
| Ubuntu 20.04 | SKIPPED | WARN |
+--------------+----------------------+----------------------+
==== 20 line log output for Ubuntu 20.04 (dpdk_fips_validation): ====
Traceback (most recent call last):
File "/dpdk-ci/tools/acvp/acvp_tool.py", line 368, in <module>
main(
File "/dpdk-ci/tools/acvp/acvp_tool.py", line 314, in main
with open(response_path, 'r') as upload_file:
FileNotFoundError: [Errno 2] No such file or directory: '/root/workspace/ACVP-FIPS-testing/out/hmac-sha-1-answers.rsp'
INFO:root:Using response file...
Traceback (most recent call last):
File "/dpdk-ci/tools/acvp/acvp_tool.py", line 368, in <module>
main(
File "/dpdk-ci/tools/acvp/acvp_tool.py", line 314, in main
with open(response_path, 'r') as upload_file:
FileNotFoundError: [Errno 2] No such file or directory: '/root/workspace/ACVP-FIPS-testing/out/acvp-tdes-cbc-answers.rsp'
INFO:root:Using response file...
Traceback (most recent call last):
File "/dpdk-ci/tools/acvp/acvp_tool.py", line 368, in <module>
main(
File "/dpdk-ci/tools/acvp/acvp_tool.py", line 314, in main
with open(response_path, 'r') as upload_file:
FileNotFoundError: [Errno 2] No such file or directory: '/root/workspace/ACVP-FIPS-testing/out/acvp-aes-ctr-answers.rsp'
==== End log output ====
Ubuntu 22.04
Kernel: 5.15
Compiler: gcc gcc (Ubuntu 11.4.0-1ubuntu1~22.04.2) 11.4.0
Ubuntu 20.04
Kernel: 5.15
Compiler: gcc gcc (Ubuntu 9.4.0-1ubuntu1~20.04.2) 9.4.0
To view detailed results, visit:
https://lab.dpdk.org/results/dashboard/patchsets/34395/
UNH-IOL DPDK Community Lab
To manage your email subscriptions, visit:
https://lab.dpdk.org/results/dashboard/preferences/subscriptions/
next prev parent reply other threads:[~2025-10-28 12:55 UTC|newest]
Thread overview: 28+ messages / expand[flat|nested] mbox.gz Atom feed top
[not found] <20251028092611.1755141-1-rongweil@nvidia.com>
2025-10-28 8:53 ` |SUCCESS| pw158178 [PATCH v1] " qemudev
2025-10-28 8:58 ` qemudev
2025-10-28 9:28 ` checkpatch
2025-10-28 10:02 ` |PENDING| pw158178 [PATCH] [v1] " dpdklab
2025-10-28 10:03 ` |SUCCESS| " dpdklab
2025-10-28 10:09 ` dpdklab
2025-10-28 10:10 ` dpdklab
2025-10-28 10:13 ` dpdklab
2025-10-28 10:38 ` dpdklab
2025-10-28 10:38 ` |PENDING| " dpdklab
2025-10-28 10:49 ` |SUCCESS| " dpdklab
2025-10-28 11:22 ` |SUCCESS| pw158178 [PATCH v1] " 0-day Robot
2025-10-28 11:22 ` 0-day Robot
2025-10-28 11:52 ` |SUCCESS| pw158178 [PATCH] [v1] " dpdklab
2025-10-28 12:05 ` |PENDING| " dpdklab
2025-10-28 12:20 ` |SUCCESS| " dpdklab
2025-10-28 12:28 ` dpdklab
2025-10-28 12:55 ` dpdklab [this message]
2025-10-28 12:58 ` dpdklab
2025-10-28 13:22 ` |WARNING| " dpdklab
2025-10-28 13:33 ` |SUCCESS| " dpdklab
2025-10-28 13:44 ` dpdklab
2025-10-28 14:25 ` dpdklab
2025-10-28 14:32 ` dpdklab
2025-10-28 14:42 ` dpdklab
2025-10-28 15:25 ` dpdklab
2025-10-28 16:17 ` |WARNING| " dpdklab
2025-10-28 17:20 ` dpdklab
Reply instructions:
You may reply publicly to this message via plain-text email
using any one of the following methods:
* Save the following mbox file, import it into your mail client,
and reply-to-all from there: mbox
Avoid top-posting and favor interleaved quoting:
https://en.wikipedia.org/wiki/Posting_style#Interleaved_style
* Reply using the --to, --cc, and --in-reply-to
switches of git-send-email(1):
git send-email \
--in-reply-to=6900bd50.050a0220.1f443b.677aSMTPIN_ADDED_MISSING@mx.google.com \
--to=dpdklab@iol.unh.edu \
--cc=dpdk-test-reports@iol.unh.edu \
--cc=test-report@dpdk.org \
/path/to/YOUR_REPLY
https://kernel.org/pub/software/scm/git/docs/git-send-email.html
* If your mail client supports setting the In-Reply-To header
via mailto: links, try the mailto: link
Be sure your reply has a Subject: header at the top and a blank line
before the message body.
This is a public inbox, see mirroring instructions
for how to clone and mirror all data and code used for this inbox;
as well as URLs for NNTP newsgroup(s).