From mboxrd@z Thu Jan 1 00:00:00 1970 Return-Path: Received: from mails.dpdk.org (mails.dpdk.org [217.70.189.124]) by inbox.dpdk.org (Postfix) with ESMTP id 0F759489F7 for ; Tue, 28 Oct 2025 13:56:27 +0100 (CET) Received: from mails.dpdk.org (localhost [127.0.0.1]) by mails.dpdk.org (Postfix) with ESMTP id 071DB4021E; Tue, 28 Oct 2025 13:56:27 +0100 (CET) Received: from mail-pl1-f228.google.com (mail-pl1-f228.google.com [209.85.214.228]) by mails.dpdk.org (Postfix) with ESMTP id 054DD4021E for ; Tue, 28 Oct 2025 13:56:26 +0100 (CET) Received: by mail-pl1-f228.google.com with SMTP id d9443c01a7336-27ee41e0798so84795455ad.1 for ; Tue, 28 Oct 2025 05:56:25 -0700 (PDT) DKIM-Signature: v=1; a=rsa-sha256; c=relaxed/relaxed; d=iol.unh.edu; s=unh-iol; t=1761656185; x=1762260985; darn=dpdk.org; h=references:in-reply-to:cc:to:from:subject:message-id:date:from:to :cc:subject:date:message-id:reply-to; bh=/7TaSwTebdIetozWOCT8ISekJ2+D89NeM2t7qk0Q5+8=; b=JcLhP57rqkON0YXDWhQBmKQOcC7Hg+dAnkK4Sp/opfeH3F1S9mBQEMfxqa4u7iq90s Z3AsKLnEVEyb4JaDUqSgCDQvrYNIeYOBErmbolaCbl0K1f6tqjTeVP6Ytos0bwvE/Lhj GjAf7/A/iefL7HA6hh8FzyOMQj8SuYM8hRGSY= X-Google-DKIM-Signature: v=1; a=rsa-sha256; c=relaxed/relaxed; d=1e100.net; s=20230601; t=1761656185; x=1762260985; h=references:in-reply-to:cc:to:from:subject:message-id:date :x-gm-message-state:from:to:cc:subject:date:message-id:reply-to; bh=/7TaSwTebdIetozWOCT8ISekJ2+D89NeM2t7qk0Q5+8=; b=kT7RzzNND70vkFmMobXq76SnUn0WOi6k9x/kxwmwVBzbbDnd4FMCEXGFd9QhYL5w+T dFh4DqLkAruK7LhG8fIwmPsMfOA2MAwMwVTbADzPeTcSzDhGv4FJcievOWj9JiPs8YF4 DP5nq3AJbgjyoUxmEwFTzIiMedx8fjRjbnd9PDpUmyNx2t8zJX9QIYpkBcsdbhnpb9zB LvFa8b3Ca87I4N/Njqu8XZmuRAyftcYH+cxA2TVVJOkSJyG+6Exg0qtOQGw3OQqyL3rT WFhBAcwQc87xh8EWUQtcqH0KtjyxiOtqwlhbtUEMdzNML6qlnaebznD+26g3txlhvBhB lGAg== X-Gm-Message-State: AOJu0YzUq6WP9PTUW7fcvkyt5rn73CrfPqy7EhkiMo7rUqyyHVphH2DD kky7RNgWZOiu7ei6o/29GyMGrewhD+gF1iKkvMiN3/vLmP58j/Rkevi1LOrpdv46EG5F1JX5uIx x2zMIuHD1dTfqJGcFgAk0+PIj+VHeSiD47WuvzioVn4Qc X-Gm-Gg: ASbGncuH+Vw8TYMolSGtmU44vp2T5uCDAi9oHXSepbsAnVVBTzTGMnyna5mPz/v2XZl Gv+qmBtHJpfPxC4YPVqzppQ6SQiCWBB7yl4bb2fLSbJ0FAXv+P+7Pp3a4Wln5OHaO0YEFVP4apd /Y7Eu1pyJiqqPFgdtfvbRQiA6UzVjFBmUKIzM+Aee1eNHQr/PLYSNzGP+f1Fh+VyAQPyIPdAER3 3n/Ji51Kp3BDGYZcwGVxzNEgnXhpJsEIVTLzcHpsiz1TeshYhd32ZvdCPgSL4kpKIleCQlWSJL/ ueWeIb3gqgjPKSsF4AOWcRR0LP9OP9UujnoB/OlPZWBg4MRnjv1DnDT59cOw/oJA4fn4BO6FjC1 oUczFGqsrakbWknciZTJRB+uPbAR03Gw= X-Google-Smtp-Source: AGHT+IEfmKjzav+KuKODTRVExax9pMVWd7qMAFB6EdrzllLqny3x6y7XuU94GXpMUpiP5HyBzQYUIxsr26E8 X-Received: by 2002:a17:902:db09:b0:27e:f201:ec94 with SMTP id d9443c01a7336-294cb3b3797mr36945855ad.18.1761656185131; Tue, 28 Oct 2025 05:56:25 -0700 (PDT) Received: from postal.iol.unh.edu (postal.iol.unh.edu. [132.177.123.84]) by smtp-relay.gmail.com with ESMTPS id d9443c01a7336-29498cf3369sm10505025ad.5.2025.10.28.05.56.25 (version=TLS1_2 cipher=ECDHE-ECDSA-AES128-GCM-SHA256 bits=128/128); Tue, 28 Oct 2025 05:56:25 -0700 (PDT) X-Relaying-Domain: iol.unh.edu Date: Tue, 28 Oct 2025 05:56:25 -0700 (PDT) Message-ID: <6900bd79.170a0220.60073.0b04SMTPIN_ADDED_MISSING@mx.google.com> Received: from [172.21.0.4] (unknown [172.18.0.240]) by postal.iol.unh.edu (Postfix) with ESMTP id 9A914604D421; Tue, 28 Oct 2025 08:56:24 -0400 (EDT) Subject: |WARNING| pw158183 [PATCH] graph: fix xstats description allocation From: dpdklab@iol.unh.edu To: Test Report Cc: dpdk-test-reports@iol.unh.edu In-Reply-To: <20251028101333.14776-1-cfontain@redhat.com> References: <20251028101333.14776-1-cfontain@redhat.com> Content-Type: text/plain X-BeenThere: test-report@dpdk.org X-Mailman-Version: 2.1.29 Precedence: list List-Id: automatic DPDK test reports List-Unsubscribe: , List-Archive: List-Post: List-Help: List-Subscribe: , Errors-To: test-report-bounces@dpdk.org Test-Label: iol-compile-amd64-testing Test-Status: WARNING http://dpdk.org/patch/158183 _Testing issues_ Submitter: Christophe Fontaine Date: Tuesday, October 28 2025 10:13:33 DPDK git baseline: Repo:dpdk Branch: master CommitID:39b54f2dcf44ad1f91eabc7080cd5dea763607fd 158183 --> testing issues Upstream job id: Generic-DPDK-Compile-Meson#438464 Test environment and result as below: +-------------------------------+--------------------+-------------------+------------------+ | Environment | dpdk_meson_compile | dpdk_compile_spdk | dpdk_compile_ovs | +===============================+====================+===================+==================+ | Ubuntu 20.04 | PASS | SKIPPED | SKIPPED | +-------------------------------+--------------------+-------------------+------------------+ | FreeBSD 14.2 | PASS | SKIPPED | SKIPPED | +-------------------------------+--------------------+-------------------+------------------+ | CentOS Stream 9 | PASS | WARN | SKIPPED | +-------------------------------+--------------------+-------------------+------------------+ | CentOS Stream 10 | PASS | SKIPPED | SKIPPED | +-------------------------------+--------------------+-------------------+------------------+ | Debian GNU/Linux 12 | PASS | WARN | SKIPPED | +-------------------------------+--------------------+-------------------+------------------+ | Fedora Linux 42 | PASS | WARN | PASS | +-------------------------------+--------------------+-------------------+------------------+ | Red Hat Enterprise Linux 8.10 | PASS | SKIPPED | SKIPPED | +-------------------------------+--------------------+-------------------+------------------+ | Red Hat Enterprise Linux 9.5 | PASS | SKIPPED | SKIPPED | +-------------------------------+--------------------+-------------------+------------------+ | Ubuntu 22.04 | PASS | WARN | SKIPPED | +-------------------------------+--------------------+-------------------+------------------+ | Ubuntu 24.04 | PASS | WARN | PASS | +-------------------------------+--------------------+-------------------+------------------+ | Alpine Linux 3.22.0 | PASS | SKIPPED | SKIPPED | +-------------------------------+--------------------+-------------------+------------------+ | openSUSE Leap 15.6 | PASS | SKIPPED | SKIPPED | +-------------------------------+--------------------+-------------------+------------------+ ==== 20 line log output for Ubuntu 24.04 (dpdk_compile_spdk): ==== --- Failed to get log output --- ==== End log output ==== Ubuntu 20.04 Kernel: 4.19 Compiler: gcc gcc (Ubuntu 9.4.0-1ubuntu1~20.04.2) 9.4.0 FreeBSD 14.2 Kernel: 14.2-RELEASE Compiler: clang 18.1.6 CentOS Stream 9 Kernel: 5.15 Compiler: gcc gcc (GCC) 11.5.0 20240719 (Red Hat 11.5.0-11) CentOS Stream 10 Kernel: 5.15 Compiler: gcc gcc (GCC) 14.2.1 20250110 (Red Hat 14.2.1-8) Debian GNU/Linux 12 Kernel: 5.15 Compiler: gcc gcc (Debian 12.2.0-14+deb12u1) 12.2.0 Fedora Linux 42 Kernel: 5.15 Compiler: clang gcc (GCC) 15.2.1 20250808 (Red Hat 15.2.1-1) Red Hat Enterprise Linux 8.10 Kernel: 5.15 Compiler: gcc gcc (GCC) 8.5.0 20210514 (Red Hat 8.5.0-22) Red Hat Enterprise Linux 9.5 Kernel: 5.15 Compiler: gcc gcc (GCC) 11.5.0 20240719 (Red Hat 11.5.0-2) Ubuntu 22.04 Kernel: 5.15 Compiler: gcc gcc (Ubuntu 11.4.0-1ubuntu1~22.04) 11.4.0 Ubuntu 24.04 Kernel: 5.15 Compiler: gcc gcc (Ubuntu 13.3.0-6ubuntu2~24.04) 13.3.0 Alpine Linux 3.22.0 Kernel: 5.15 Compiler: gcc gcc (Alpine 14.2.0) 14.2.0 openSUSE Leap 15.6 Kernel: 5.15 Compiler: gcc gcc (SUSE Linux) 7.5.0 To view detailed results, visit: https://lab.dpdk.org/results/dashboard/patchsets/34397/ UNH-IOL DPDK Community Lab To manage your email subscriptions, visit: https://lab.dpdk.org/results/dashboard/preferences/subscriptions/