From mboxrd@z Thu Jan 1 00:00:00 1970 Return-Path: Received: from mails.dpdk.org (mails.dpdk.org [217.70.189.124]) by inbox.dpdk.org (Postfix) with ESMTP id 7E2EE489F7 for ; Tue, 28 Oct 2025 13:58:50 +0100 (CET) Received: from mails.dpdk.org (localhost [127.0.0.1]) by mails.dpdk.org (Postfix) with ESMTP id 781E24021E; Tue, 28 Oct 2025 13:58:50 +0100 (CET) Received: from mail-io1-f100.google.com (mail-io1-f100.google.com [209.85.166.100]) by mails.dpdk.org (Postfix) with ESMTP id 9CF574021E for ; Tue, 28 Oct 2025 13:58:49 +0100 (CET) Received: by mail-io1-f100.google.com with SMTP id ca18e2360f4ac-93e2c9821fcso532238139f.3 for ; Tue, 28 Oct 2025 05:58:49 -0700 (PDT) DKIM-Signature: v=1; a=rsa-sha256; c=relaxed/relaxed; d=iol.unh.edu; s=unh-iol; t=1761656329; x=1762261129; darn=dpdk.org; h=references:in-reply-to:cc:to:from:subject:message-id:date:from:to :cc:subject:date:message-id:reply-to; bh=OxByO2Z3GZCXqNQHujcUJDDZpgZtXrNlaISvFur0mE4=; b=a4ZYS2OtVk4lB0gb9J5SLGyieajyVdWSB3hrUCrJoHYuCdgRii4rKGp7LWcW1LX4Ty M/+o5raNsGZ3T72ip3QT32GCXFx+jbOaRhNHW6sioAZgpeDAxil7K3tpP8yzdGKIBNAf I5fN/FdwWYS9/CqRv7QhNtYadgIsHblMvqdJ8= X-Google-DKIM-Signature: v=1; a=rsa-sha256; c=relaxed/relaxed; d=1e100.net; s=20230601; t=1761656329; x=1762261129; h=references:in-reply-to:cc:to:from:subject:message-id:date :x-gm-message-state:from:to:cc:subject:date:message-id:reply-to; bh=OxByO2Z3GZCXqNQHujcUJDDZpgZtXrNlaISvFur0mE4=; b=mYg9X9KPwqwxZg958DFvk+06yp8bjUXb2eYsChOJ4IWGMBtv/rPu2x5C+SXbgYk0mc Hu3M7+MmJxfDXYwLOXSKM8WyuG0+5UpHOn8eq8JDRYijOO/CujE9X29XuhCThHoEmI2j Mcjl41Jzs2qQZKMbYPH/U5RJZQTGDwpPz+qVFCfoGSDnSkeS9J5ExkvuLVFMeRnHLTaz /rLpHFWI5M6YL7J9kXkiSzpcOYZJ5rtM0qyvbZMvlei5juarb8gW0XaaFEE9laRP8zbj mgKYfS2TaNOhJeDiOFQVwOeGnYhtaZzXyMEeuv8cP4PNyg9w/akw2S0nlBuNbVdye54z lj0w== X-Gm-Message-State: AOJu0YwjTqLB0ev9nsHerKkm7E9LnOErubpxxUnQxtvKDrS2JHToxWFO 0mHhCxdqN7fj5UuFqpPpHfZIctF9iGLq7DUg87e85V9RLKeHDm7MmCKlIYOJpSbe5B7RJBmfgMS ZY6XG+NW5M007MKJ2sco6zkDAgaNLJbiDXivC1g2eFTSERTy5M1agPdKOHCDn X-Gm-Gg: ASbGncvAoSInOqb5ZsNoDzfQMxAniJeqh53ByHy9qaD3XIhNN1AN8fMIXkIPInMMahn q2Mbwo63tfGVXQWXhWNbyeKhVCWNNIBVwQayZ6kX75eaqUh3F2shhuJEbVRscjVvl1Lb8WiYLtf vwM1umcYVeoVncaiq+BUBZp3rNC604NIBLrLYkQjjvNqjXULuispjJTCKe+mS7QOgoht+QMsa0D qoYyvVNnzS9CHY6KqhtXsbqZ9pe6jewNPyQPISUwL2phPM9isUyqkSMUJYXLQWKK7MyE+FZ17x0 ZZ+jiBO+yU4PfR8g/hpG7jzjvGXZSs9Nk7A6CLnZ7Fejaf46x2yArxFhIcQXSfkRzUCEWtmNNmL Qq1Tf71z7 X-Google-Smtp-Source: AGHT+IGJcUE+cewsZS9baPG8WZwXksp15NRi7NrYclyL9Exdi988k4IdEW2gl7ZIkMMNjusHCm/UVqAHjJqm X-Received: by 2002:a05:6602:3421:b0:940:d7bd:a850 with SMTP id ca18e2360f4ac-945b82d3208mr536918539f.16.1761656328954; Tue, 28 Oct 2025 05:58:48 -0700 (PDT) Received: from postal.iol.unh.edu (postal.iol.unh.edu. [2606:4100:3880:1234::84]) by smtp-relay.gmail.com with ESMTPS id ca18e2360f4ac-94359f4aca2sm63573339f.14.2025.10.28.05.58.48 (version=TLS1_2 cipher=ECDHE-ECDSA-AES128-GCM-SHA256 bits=128/128); Tue, 28 Oct 2025 05:58:48 -0700 (PDT) X-Relaying-Domain: iol.unh.edu Date: Tue, 28 Oct 2025 05:58:48 -0700 (PDT) Message-ID: <6900be08.050a0220.84ffb.dd45SMTPIN_ADDED_MISSING@mx.google.com> Received: from [172.21.0.2] (unknown [172.18.0.240]) by postal.iol.unh.edu (Postfix) with ESMTP id 89BAF604D420; Tue, 28 Oct 2025 08:58:47 -0400 (EDT) Subject: |SUCCESS| pw158178 [PATCH] [v1] net/mlx5: remove counter alignment From: dpdklab@iol.unh.edu To: Test Report Cc: dpdk-test-reports@iol.unh.edu In-Reply-To: <20251028092611.1755141-1-rongweil@nvidia.com> References: <20251028092611.1755141-1-rongweil@nvidia.com> Content-Type: text/plain X-BeenThere: test-report@dpdk.org X-Mailman-Version: 2.1.29 Precedence: list List-Id: automatic DPDK test reports List-Unsubscribe: , List-Archive: List-Post: List-Help: List-Subscribe: , Errors-To: test-report-bounces@dpdk.org Test-Label: iol-unit-amd64-testing Test-Status: SUCCESS http://dpdk.org/patch/158178 _Testing PASS_ Submitter: Rongwei Liu Date: Tuesday, October 28 2025 09:26:11 DPDK git baseline: Repo:dpdk-next-net-mlx Branch: master CommitID:39b54f2dcf44ad1f91eabc7080cd5dea763607fd 158178 --> testing pass Upstream job id: Generic-Unit-Test-DPDK#385977 Test environment and result as below: +-------------------------------+----------------+ | Environment | dpdk_unit_test | +===============================+================+ | Fedora Linux 42 | PASS | +-------------------------------+----------------+ | Red Hat Enterprise Linux 9.5 | PASS | +-------------------------------+----------------+ | CentOS Stream 9 | PASS | +-------------------------------+----------------+ | CentOS Stream 10 | PASS | +-------------------------------+----------------+ | Ubuntu 22.04 | PASS | +-------------------------------+----------------+ | Red Hat Enterprise Linux 8.10 | PASS | +-------------------------------+----------------+ | Fedora Linux 41 | PASS | +-------------------------------+----------------+ | Ubuntu 24.04 | PASS | +-------------------------------+----------------+ | Ubuntu 20.04 | PASS | +-------------------------------+----------------+ | Debian GNU/Linux 12 | PASS | +-------------------------------+----------------+ | Fedora Linux 40 | PASS | +-------------------------------+----------------+ Fedora Linux 42 Kernel: 5.15 Compiler: gcc gcc (GCC) 15.2.1 20250808 (Red Hat 15.2.1-1) Red Hat Enterprise Linux 9.5 Kernel: 5.15 Compiler: gcc gcc (GCC) 11.5.0 20240719 (Red Hat 11.5.0-2) CentOS Stream 9 Kernel: 5.15 Compiler: gcc gcc (GCC) 11.5.0 20240719 (Red Hat 11.5.0-11) CentOS Stream 10 Kernel: 5.15 Compiler: gcc gcc (GCC) 14.2.1 20250110 (Red Hat 14.2.1-8) Ubuntu 22.04 Kernel: 5.15 Compiler: gcc gcc (Ubuntu 11.4.0-1ubuntu1~22.04) 11.4.0 Red Hat Enterprise Linux 8.10 Kernel: 5.15 Compiler: gcc gcc (GCC) 8.5.0 20210514 (Red Hat 8.5.0-22) Fedora Linux 41 Kernel: 5.15 Compiler: clang gcc (GCC) 14.3.1 20250523 (Red Hat 14.3.1-1) Ubuntu 24.04 Kernel: 5.15 Compiler: gcc gcc (Ubuntu 13.3.0-6ubuntu2~24.04) 13.3.0 Ubuntu 20.04 Kernel: 5.15 Compiler: gcc gcc (Ubuntu 9.4.0-1ubuntu1~20.04.2) 9.4.0 Debian GNU/Linux 12 Kernel: 5.15 Compiler: gcc gcc (Debian 12.2.0-14+deb12u1) 12.2.0 Fedora Linux 40 Kernel: 5.15 Compiler: gcc gcc (GCC) 14.2.1 20240912 (Red Hat 14.2.1-3) To view detailed results, visit: https://lab.dpdk.org/results/dashboard/patchsets/34395/ UNH-IOL DPDK Community Lab To manage your email subscriptions, visit: https://lab.dpdk.org/results/dashboard/preferences/subscriptions/