From mboxrd@z Thu Jan 1 00:00:00 1970 Return-Path: Received: from mails.dpdk.org (mails.dpdk.org [217.70.189.124]) by inbox.dpdk.org (Postfix) with ESMTP id CFEBC489F8 for ; Tue, 28 Oct 2025 14:01:27 +0100 (CET) Received: from mails.dpdk.org (localhost [127.0.0.1]) by mails.dpdk.org (Postfix) with ESMTP id C59504021E; Tue, 28 Oct 2025 14:01:27 +0100 (CET) Received: from mail-pf1-f228.google.com (mail-pf1-f228.google.com [209.85.210.228]) by mails.dpdk.org (Postfix) with ESMTP id 85E484021E for ; Tue, 28 Oct 2025 14:01:26 +0100 (CET) Received: by mail-pf1-f228.google.com with SMTP id d2e1a72fcca58-7a26ea3bf76so7833671b3a.2 for ; Tue, 28 Oct 2025 06:01:26 -0700 (PDT) DKIM-Signature: v=1; a=rsa-sha256; c=relaxed/relaxed; d=iol.unh.edu; s=unh-iol; t=1761656486; x=1762261286; darn=dpdk.org; h=references:in-reply-to:cc:to:from:subject:message-id:date:from:to :cc:subject:date:message-id:reply-to; bh=fMPqdL02q+GA1yABKykfOYkFR78+fg6mpH1IN9c37fI=; b=eWUwdJlWJmZDsd89D/w5VoEq0eeV7k9aJ4uv8sg9i85YIBuNaFYep2yLflBPHagvhz f3PR4FbM6DlnFGs45/Aal8R988rmkJW0RD0B4JmuG12ykxgyEZlCtXccCgiEqgFMrdRa HiIfqbC7c2KATRFsn13lpbSpfyvzP8TanfFSU= X-Google-DKIM-Signature: v=1; a=rsa-sha256; c=relaxed/relaxed; d=1e100.net; s=20230601; t=1761656486; x=1762261286; h=references:in-reply-to:cc:to:from:subject:message-id:date :x-gm-message-state:from:to:cc:subject:date:message-id:reply-to; bh=fMPqdL02q+GA1yABKykfOYkFR78+fg6mpH1IN9c37fI=; b=Fegou2Dw9FJbmnmit5YbJ+dZy/+bvp4GKLutSPQnKejrBkJPR+p2/rseTp9oCQTSU5 D6BzgNxXaVeCgbN2hgZGbPdijx3ysa+0RTO/PgrqwmYo9nYVt2I9NgNW2bYTp17wjTVW aXtLDktCL1NYFcap+u6dNw+0b74uBbUUjjndS053W66yQouwtnqlli9NXTr+yCtdQGci dTe69WOcgy58fJ09xa3/sCF7wRIWeYlSNPIbbyuY2yxzXhZEEiFg9pn1eal2mhPn7h9t GgKJaGqGUXPlkTM31SSpSHInflqkUrit06PlgBz5jQ33+ayp/OiaZIGU16GLQab13KNq fPoQ== X-Gm-Message-State: AOJu0Yxjx6G0K9cO7Hk+4ssqantoij2WEIcav8lbjTGhc9VUhER5IMwu GBiNknZOiY6ZHm3VljzhEXDR+DHalqJvPh34HfXMLBz35xT4UIGzT+9Xk/JBvViYL0eLBKhFxQE +EnsOTTJ2hTwrHgJLFDUAIza+vt/vI2PLgZDsKqsk0oo5ZwqspUzPJcRIQ9n8 X-Gm-Gg: ASbGncvV7pzmUgZ30cmOLTGtxe3V8Lpr/V6hImwOfSzVHy5+0s65a7R0s2CPnXZ+uSL t7JDLo89ydT0C4YR2JaMySfGoyib9SE53wjSTmZcbU5cSuz1N4pUU/f/7JLwAg1fcO2BHdD3fuB KHFj8W28/t4kC62uKEquMupYoqZAO/KyiaLtQKEjfdJKdge8fozyEGVknRQ9tTPb3ds4+87lxSO Oh+B1pSNzK97D6Y8mEQyjmYyn4ODy5X+UdkNGTfIZLeT0iJSMc6nQDCYEa+06dxVKY/8qfqtR7F 9ccnaeprRhFQd3P0qXW/vGK1NnE7ZdYXUCa7DEP/0gOsyZJWXA3SEEJxaKAYKsRw8gVHBp3vIiL Hq/RHxhTV X-Google-Smtp-Source: AGHT+IGA7WRXfJx6lvASucBCXr2bD2akzhrqibEVoOMmfLfOxRsGJBmHMU+oGHamFxYKBzA1H+rT1J9lP/+O X-Received: by 2002:a05:6a20:94ca:b0:343:55a9:3ebf with SMTP id adf61e73a8af0-344d228de1dmr4375147637.16.1761656484148; Tue, 28 Oct 2025 06:01:24 -0700 (PDT) Received: from postal.iol.unh.edu (postal.iol.unh.edu. [2606:4100:3880:1234::84]) by smtp-relay.gmail.com with ESMTPS id 41be03b00d2f7-b712c87b656sm669930a12.7.2025.10.28.06.01.24 (version=TLS1_2 cipher=ECDHE-ECDSA-AES128-GCM-SHA256 bits=128/128); Tue, 28 Oct 2025 06:01:24 -0700 (PDT) X-Relaying-Domain: iol.unh.edu Date: Tue, 28 Oct 2025 06:01:24 -0700 (PDT) Message-ID: <6900bea4.630a0220.fd0a7.e449SMTPIN_ADDED_MISSING@mx.google.com> Received: from [172.21.0.5] (unknown [172.18.0.240]) by postal.iol.unh.edu (Postfix) with ESMTP id 6CE17604D420; Tue, 28 Oct 2025 09:01:23 -0400 (EDT) Subject: |SUCCESS| pw158174 [PATCH] config/arm: add HiSilicon HIP12 From: dpdklab@iol.unh.edu To: Test Report Cc: dpdk-test-reports@iol.unh.edu In-Reply-To: <20251028084259.4925-1-fengchengwen@huawei.com> References: <20251028084259.4925-1-fengchengwen@huawei.com> Content-Type: text/plain X-BeenThere: test-report@dpdk.org X-Mailman-Version: 2.1.29 Precedence: list List-Id: automatic DPDK test reports List-Unsubscribe: , List-Archive: List-Post: List-Help: List-Subscribe: , Errors-To: test-report-bounces@dpdk.org Test-Label: iol-unit-amd64-testing Test-Status: SUCCESS http://dpdk.org/patch/158174 _Testing PASS_ Submitter: Chengwen Feng Date: Tuesday, October 28 2025 08:42:59 DPDK git baseline: Repo:dpdk Branch: master CommitID:39b54f2dcf44ad1f91eabc7080cd5dea763607fd 158174 --> testing pass Upstream job id: Generic-VM-Unit-Test-DPDK#32110 Test environment and result as below: +-------------------------------+----------------+ | Environment | dpdk_unit_test | +===============================+================+ | Fedora Linux 40 | PASS | +-------------------------------+----------------+ | CentOS Stream 9 | PASS | +-------------------------------+----------------+ | CentOS Stream 10 | PASS | +-------------------------------+----------------+ | Debian GNU/Linux 12 | PASS | +-------------------------------+----------------+ | Ubuntu 22.04 | PASS | +-------------------------------+----------------+ | Ubuntu 24.04 | PASS | +-------------------------------+----------------+ | Fedora Linux 42 | PASS | +-------------------------------+----------------+ | Fedora Linux 41 | PASS | +-------------------------------+----------------+ | Red Hat Enterprise Linux 9.5 | PASS | +-------------------------------+----------------+ | Red Hat Enterprise Linux 8.10 | PASS | +-------------------------------+----------------+ | Ubuntu 20.04 | PASS | +-------------------------------+----------------+ | Windows Server 2022 | PASS | +-------------------------------+----------------+ Fedora Linux 40 Kernel: 5.15 Compiler: gcc gcc (GCC) 14.2.1 20240912 (Red Hat 14.2.1-3) CentOS Stream 9 Kernel: 5.15 Compiler: gcc gcc (GCC) 11.5.0 20240719 (Red Hat 11.5.0-11) CentOS Stream 10 Kernel: 5.15 Compiler: gcc gcc (GCC) 14.2.1 20250110 (Red Hat 14.2.1-8) Debian GNU/Linux 12 Kernel: 5.15 Compiler: gcc gcc (Debian 12.2.0-14+deb12u1) 12.2.0 Ubuntu 22.04 Kernel: 5.15 Compiler: gcc gcc (Ubuntu 11.4.0-1ubuntu1~22.04) 11.4.0 Ubuntu 24.04 Kernel: 5.15 Compiler: gcc gcc (Ubuntu 13.3.0-6ubuntu2~24.04) 13.3.0 Fedora Linux 42 Kernel: 5.15 Compiler: gcc gcc (GCC) 15.2.1 20250808 (Red Hat 15.2.1-1) Fedora Linux 41 Kernel: 5.15 Compiler: clang gcc (GCC) 14.3.1 20250523 (Red Hat 14.3.1-1) Red Hat Enterprise Linux 9.5 Kernel: 5.15 Compiler: gcc gcc (GCC) 11.5.0 20240719 (Red Hat 11.5.0-2) Red Hat Enterprise Linux 8.10 Kernel: 5.15 Compiler: gcc gcc (GCC) 8.5.0 20210514 (Red Hat 8.5.0-22) Ubuntu 20.04 Kernel: 5.15 Compiler: gcc gcc (Ubuntu 9.4.0-1ubuntu1~20.04.2) 9.4.0 Windows Server 2022 Kernel: 10.0.20348.2031 Compiler: clang 15.0.7, gcc 14.1.0 (MinGW), and MSVC VS 19.39.33521 To view detailed results, visit: https://lab.dpdk.org/results/dashboard/patchsets/34394/ UNH-IOL DPDK Community Lab To manage your email subscriptions, visit: https://lab.dpdk.org/results/dashboard/preferences/subscriptions/