From mboxrd@z Thu Jan 1 00:00:00 1970 Return-Path: Received: from mails.dpdk.org (mails.dpdk.org [217.70.189.124]) by inbox.dpdk.org (Postfix) with ESMTP id 3B64D489F8 for ; Tue, 28 Oct 2025 14:05:37 +0100 (CET) Received: from mails.dpdk.org (localhost [127.0.0.1]) by mails.dpdk.org (Postfix) with ESMTP id 3536B4021E; Tue, 28 Oct 2025 14:05:37 +0100 (CET) Received: from mail-pl1-f227.google.com (mail-pl1-f227.google.com [209.85.214.227]) by mails.dpdk.org (Postfix) with ESMTP id 769A84021E for ; Tue, 28 Oct 2025 14:05:35 +0100 (CET) Received: by mail-pl1-f227.google.com with SMTP id d9443c01a7336-29490944023so41271215ad.3 for ; Tue, 28 Oct 2025 06:05:35 -0700 (PDT) DKIM-Signature: v=1; a=rsa-sha256; c=relaxed/relaxed; d=iol.unh.edu; s=unh-iol; t=1761656734; x=1762261534; darn=dpdk.org; h=references:in-reply-to:cc:to:from:subject:message-id:date:from:to :cc:subject:date:message-id:reply-to; bh=9wA09+P8GSE/BoQqcj1mUXJ7kxIdr529lO1GfQFm8Qc=; b=GuBX8FNPlxE3FZNA+4KmYC3KQyKikhTGVkrsq5zGn+PciAde/88Ak7ynyRffoxV+GH br0XV6C8mMEhLMETH5HJ95zjLgnt9XP4a/JyAXco0zORmSJ2ErHdK933oUrCQOD/EDA0 wOcZb+s1k/4fM3KpRlN0DcWG8CPSVKEVL6pYA= X-Google-DKIM-Signature: v=1; a=rsa-sha256; c=relaxed/relaxed; d=1e100.net; s=20230601; t=1761656734; x=1762261534; h=references:in-reply-to:cc:to:from:subject:message-id:date :x-gm-message-state:from:to:cc:subject:date:message-id:reply-to; bh=9wA09+P8GSE/BoQqcj1mUXJ7kxIdr529lO1GfQFm8Qc=; b=tGGNsKG0TdVkucyNj4nSgkRWYjUYsikpfVAPP+hcoBtHgn714pcHOti4KpDUJG8fld zmSVt2WpGI8tpz7Bhg6o863F1W0J5Tb7z89Wea78Ljha85XnHfzWmWrG6NNzj1fWazNx w97Og29MA/fV1ngjYrR77CvA+Hoext60wF4isfbI8jKrqU08S8RXuics7FeH4LVDFYyd TgVqOv7FBw5UY6/xOmcUsxzvwBFeIJcIMmzQyztBA1c6BBGiYDsNOEvxqFUtXyi1gqBh bZJKJT2VZhKRjQHE5X3YXnnWf7yAwtCmWDacGV/SUWc5BhV3VOXJ7tdcnA13fJjWNBcU eBeQ== X-Gm-Message-State: AOJu0Yz2xNDA1ttZPy9eWtUIy0rOlci1QdgkfYpxlm9+mgj0BCxX+oVA /u9kGH1d56Tds1va2rLG8zoUjoaaALUGjv+xlxS0iTDyKdJ9AApO4CQ5ZWeD0tN1sswB4Or1y2W C1C+WjLXo9ulXXBG35WK1+qXDrU7cL/Qn/PxMLVYls3tZ725dN1zaBmarG1Uo X-Gm-Gg: ASbGncs3cb76K9cxW1sPlQyZ1UXkOpvVjWIUOJVG/Uzg4iPQHZJdk8oHckWlXPxY4TD dTzcau9V+P/h8AQWUsnm14icvHbK8sljm90IuHMWl9Dksc1FHzJ+MZILsl+Ve0CWdgVouU4CAeS IQ0V+Pvh0R2LDF8z+9uTVMMe+1ZDrgBH6h48E6z49MoJzjL7KN9P+D6jogaAuzgbE1xAKdzO3uH /fYQlW0w2/k7x+hdYRxQ2hoYDDceUj/X3ONJgxyASjWQtoDQgdLjFyIgAfRz2bfT2FbwV5lIj6s pG+F5G+mUdryfBpCDdfgoKRHCB+KKS2vGKy+T49ycGkSlDbckpPDFu12zDUvpYjNA4rr4BWi/B3 tbpzIWczX X-Google-Smtp-Source: AGHT+IFne8DfaWclIgxnKtVCtw6kw2RDTR016FexDOOs5OAssB6JrExzLx5aNhQvDU+5xIxqqls0Rs66h7xC X-Received: by 2002:a17:902:cec2:b0:290:ac36:2ece with SMTP id d9443c01a7336-294cb3c8f9amr48361495ad.18.1761656733490; Tue, 28 Oct 2025 06:05:33 -0700 (PDT) Received: from postal.iol.unh.edu (postal.iol.unh.edu. [2606:4100:3880:1234::84]) by smtp-relay.gmail.com with ESMTPS id d9443c01a7336-29498d26a11sm11092915ad.31.2025.10.28.06.05.33 (version=TLS1_2 cipher=ECDHE-ECDSA-AES128-GCM-SHA256 bits=128/128); Tue, 28 Oct 2025 06:05:33 -0700 (PDT) X-Relaying-Domain: iol.unh.edu Date: Tue, 28 Oct 2025 06:05:33 -0700 (PDT) Message-ID: <6900bf9d.170a0220.e46d8.2d11SMTPIN_ADDED_MISSING@mx.google.com> Received: from [172.21.0.2] (unknown [172.18.0.240]) by postal.iol.unh.edu (Postfix) with ESMTP id B7F4C6051830; Tue, 28 Oct 2025 09:05:32 -0400 (EDT) Subject: |SUCCESS| pw158171-158173 [PATCH] [v11,3/3] net/macb: add necessary From: dpdklab@iol.unh.edu To: Test Report Cc: dpdk-test-reports@iol.unh.edu In-Reply-To: <1761640401-80633-1-git-send-email-liwencheng@phytium.com.cn> References: <1761640401-80633-1-git-send-email-liwencheng@phytium.com.cn> Content-Type: text/plain X-BeenThere: test-report@dpdk.org X-Mailman-Version: 2.1.29 Precedence: list List-Id: automatic DPDK test reports List-Unsubscribe: , List-Archive: List-Post: List-Help: List-Subscribe: , Errors-To: test-report-bounces@dpdk.org Test-Label: iol-unit-arm64-testing Test-Status: SUCCESS http://dpdk.org/patch/158173 _Testing PASS_ Submitter: Wencheng Li Date: Tuesday, October 28 2025 08:33:21 DPDK git baseline: Repo:dpdk Branch: master CommitID:39b54f2dcf44ad1f91eabc7080cd5dea763607fd 158171-158173 --> testing pass Upstream job id: Generic-Unit-Test-DPDK#385896 Test environment and result as below: +------------------------------+---------------------------+--------------+------------------------------+----------------+ | Environment | cryptodev_sw_zuc_autotest | lpm_autotest | cryptodev_sw_snow3g_autotest | dpdk_unit_test | +==============================+===========================+==============+==============================+================+ | Debian 12 (arm) | PASS | SKIPPED | PASS | SKIPPED | +------------------------------+---------------------------+--------------+------------------------------+----------------+ | Ubuntu 20.04 | SKIPPED | PASS | SKIPPED | PASS | +------------------------------+---------------------------+--------------+------------------------------+----------------+ | CentOS Stream 10 | SKIPPED | SKIPPED | SKIPPED | PASS | +------------------------------+---------------------------+--------------+------------------------------+----------------+ | CentOS Stream 9 | SKIPPED | SKIPPED | SKIPPED | PASS | +------------------------------+---------------------------+--------------+------------------------------+----------------+ | Fedora Linux 40 | SKIPPED | SKIPPED | SKIPPED | PASS | +------------------------------+---------------------------+--------------+------------------------------+----------------+ | Red Hat Enterprise Linux 9.5 | SKIPPED | SKIPPED | SKIPPED | PASS | +------------------------------+---------------------------+--------------+------------------------------+----------------+ | Fedora Linux 41 | SKIPPED | SKIPPED | SKIPPED | PASS | +------------------------------+---------------------------+--------------+------------------------------+----------------+ | Fedora Linux 42 | SKIPPED | SKIPPED | SKIPPED | PASS | +------------------------------+---------------------------+--------------+------------------------------+----------------+ | Ubuntu 24.04 | SKIPPED | SKIPPED | SKIPPED | PASS | +------------------------------+---------------------------+--------------+------------------------------+----------------+ | Debian GNU/Linux 12 | SKIPPED | SKIPPED | SKIPPED | PASS | +------------------------------+---------------------------+--------------+------------------------------+----------------+ | Ubuntu 22.04 | SKIPPED | SKIPPED | SKIPPED | PASS | +------------------------------+---------------------------+--------------+------------------------------+----------------+ Debian 12 (arm) Kernel: Depends on container host Compiler: gcc (Debian 12.2.0-14) 12.2.0 Ubuntu 20.04 Kernel: 5.4 Compiler: gcc gcc (Ubuntu 9.4.0-1ubuntu1~20.04.2) 9.4.0 CentOS Stream 10 Kernel: 5.4 Compiler: gcc gcc (GCC) 14.2.1 20250110 (Red Hat 14.2.1-8) CentOS Stream 9 Kernel: 5.4 Compiler: gcc gcc (GCC) 11.5.0 20240719 (Red Hat 11.5.0-11) Fedora Linux 40 Kernel: 5.4 Compiler: clang gcc (GCC) 14.2.1 20240912 (Red Hat 14.2.1-3) Red Hat Enterprise Linux 9.5 Kernel: 5.4 Compiler: gcc gcc (GCC) 11.5.0 20240719 (Red Hat 11.5.0-2) Fedora Linux 41 Kernel: 5.4 Compiler: clang gcc (GCC) 14.3.1 20250523 (Red Hat 14.3.1-1) Fedora Linux 42 Kernel: 5.4 Compiler: gcc gcc (GCC) 15.2.1 20250808 (Red Hat 15.2.1-1) Ubuntu 24.04 Kernel: 5.4 Compiler: gcc gcc (Ubuntu 13.3.0-6ubuntu2~24.04) 13.3.0 Debian GNU/Linux 12 Kernel: 5.4 Compiler: gcc gcc (Debian 12.2.0-14+deb12u1) 12.2.0 Ubuntu 22.04 Kernel: 5.4 Compiler: gcc gcc (Ubuntu 11.4.0-1ubuntu1~22.04) 11.4.0 To view detailed results, visit: https://lab.dpdk.org/results/dashboard/patchsets/34392/ UNH-IOL DPDK Community Lab To manage your email subscriptions, visit: https://lab.dpdk.org/results/dashboard/preferences/subscriptions/