automatic DPDK test reports
 help / color / mirror / Atom feed
From: dpdklab@iol.unh.edu
To: Test Report <test-report@dpdk.org>
Cc: dpdk-test-reports@iol.unh.edu
Subject: |PENDING| pw158188 [PATCH] vhost: fix external buffer in VDUSE
Date: Tue, 28 Oct 2025 06:12:50 -0700 (PDT)	[thread overview]
Message-ID: <6900c152.170a0220.26004c.96c9SMTPIN_ADDED_MISSING@mx.google.com> (raw)
In-Reply-To: <20251028123453.4127525-1-david.marchand@redhat.com>

Test-Label: iol-compile-amd64-testing
Test-Status: PENDING
http://dpdk.org/patch/158188

_Testing pending_

Submitter: David Marchand <david.marchand@redhat.com>
Date: Tuesday, October 28 2025 12:34:53 
DPDK git baseline: Repo:dpdk-next-virtio
  Branch: master
  CommitID:a62b0fbf8e367c88d28d78210db1b28c8eac4b1b

158188 --> testing pending

Upstream job id: Generic-VM-DPDK-Compile-Meson#39316

Test environment and result as below:

+--------------+--------------------+
| Environment  | dpdk_meson_compile |
+==============+====================+
| Ubuntu 20.04 | PASS               |
+--------------+--------------------+
| FreeBSD 14.2 | PEND               |
+--------------+--------------------+


Ubuntu 20.04
	Kernel: 4.19
	Compiler: gcc gcc (Ubuntu 9.4.0-1ubuntu1~20.04.2) 9.4.0

FreeBSD 14.2
	Kernel: 14.2-RELEASE
	Compiler: clang 18.1.6

To view detailed results, visit:
https://lab.dpdk.org/results/dashboard/patchsets/34402/

UNH-IOL DPDK Community Lab

To manage your email subscriptions, visit: 
https://lab.dpdk.org/results/dashboard/preferences/subscriptions/

  parent reply	other threads:[~2025-10-28 13:12 UTC|newest]

Thread overview: 28+ messages / expand[flat|nested]  mbox.gz  Atom feed  top
     [not found] <20251028123453.4127525-1-david.marchand@redhat.com>
2025-10-28 12:03 ` |SUCCESS| " qemudev
2025-10-28 12:08 ` qemudev
2025-10-28 12:34 ` checkpatch
2025-10-28 13:12 ` dpdklab [this message]
2025-10-28 13:17 ` dpdklab
2025-10-28 13:20 ` dpdklab
2025-10-28 13:21 ` dpdklab
2025-10-28 13:25 ` dpdklab
2025-10-28 13:40 ` dpdklab
2025-10-28 13:50 ` dpdklab
2025-10-28 14:00 ` |PENDING| " dpdklab
2025-10-28 14:12 ` |SUCCESS| " dpdklab
2025-10-28 14:12 ` dpdklab
2025-10-28 14:29 ` 0-day Robot
2025-10-28 14:29 ` 0-day Robot
2025-10-28 17:22 ` |WARNING| " dpdklab
2025-10-28 17:41 ` |PENDING| " dpdklab
2025-10-28 18:10 ` |WARNING| " dpdklab
2025-10-28 19:54 ` |SUCCESS| " dpdklab
2025-10-28 19:58 ` dpdklab
2025-10-28 20:16 ` dpdklab
2025-10-28 20:24 ` dpdklab
2025-10-28 20:39 ` dpdklab
2025-10-28 20:45 ` dpdklab
2025-10-28 22:50 ` dpdklab
2025-10-28 22:52 ` dpdklab
2025-10-28 23:12 ` dpdklab
2025-10-29  5:06 ` dpdklab

Reply instructions:

You may reply publicly to this message via plain-text email
using any one of the following methods:

* Save the following mbox file, import it into your mail client,
  and reply-to-all from there: mbox

  Avoid top-posting and favor interleaved quoting:
  https://en.wikipedia.org/wiki/Posting_style#Interleaved_style

* Reply using the --to, --cc, and --in-reply-to
  switches of git-send-email(1):

  git send-email \
    --in-reply-to=6900c152.170a0220.26004c.96c9SMTPIN_ADDED_MISSING@mx.google.com \
    --to=dpdklab@iol.unh.edu \
    --cc=dpdk-test-reports@iol.unh.edu \
    --cc=test-report@dpdk.org \
    /path/to/YOUR_REPLY

  https://kernel.org/pub/software/scm/git/docs/git-send-email.html

* If your mail client supports setting the In-Reply-To header
  via mailto: links, try the mailto: link
Be sure your reply has a Subject: header at the top and a blank line before the message body.
This is a public inbox, see mirroring instructions
for how to clone and mirror all data and code used for this inbox;
as well as URLs for NNTP newsgroup(s).