From mboxrd@z Thu Jan 1 00:00:00 1970 Return-Path: Received: from mails.dpdk.org (mails.dpdk.org [217.70.189.124]) by inbox.dpdk.org (Postfix) with ESMTP id 99956489F8 for ; Tue, 28 Oct 2025 14:22:14 +0100 (CET) Received: from mails.dpdk.org (localhost [127.0.0.1]) by mails.dpdk.org (Postfix) with ESMTP id 941C94021E; Tue, 28 Oct 2025 14:22:14 +0100 (CET) Received: from mail-oa1-f100.google.com (mail-oa1-f100.google.com [209.85.160.100]) by mails.dpdk.org (Postfix) with ESMTP id 00B194021E for ; Tue, 28 Oct 2025 14:22:12 +0100 (CET) Received: by mail-oa1-f100.google.com with SMTP id 586e51a60fabf-3d70c5bb455so19628fac.1 for ; Tue, 28 Oct 2025 06:22:12 -0700 (PDT) DKIM-Signature: v=1; a=rsa-sha256; c=relaxed/relaxed; d=iol.unh.edu; s=unh-iol; t=1761657732; x=1762262532; darn=dpdk.org; h=references:in-reply-to:cc:to:from:subject:message-id:date:from:to :cc:subject:date:message-id:reply-to; bh=IivEqZjRDzgp88GvxUFCViBCzNBC1dTppkO67s/d378=; b=a4gepmkh3eIBZ7s9RiZffW/1xswvJhnriLKPYR0BUym0v6c81SQ/U44CB/gs1QTRfM L/3oZO4IWMZ2v0Tc8duQbWX+A+FY6/ZB7yluQWy1bR9zTQ0vIAbvlKB/5S/+dQ3a7oZq uSn99WxVduwAfW5q1PbRCpVSit68EAJBhPtmM= X-Google-DKIM-Signature: v=1; a=rsa-sha256; c=relaxed/relaxed; d=1e100.net; s=20230601; t=1761657732; x=1762262532; h=references:in-reply-to:cc:to:from:subject:message-id:date :x-gm-message-state:from:to:cc:subject:date:message-id:reply-to; bh=IivEqZjRDzgp88GvxUFCViBCzNBC1dTppkO67s/d378=; b=iJKjUb0w5QieDZZZtGWMJgCDtdykEBtJIn9/UXkyoRcrUjrWyutbcHOm0DTaouMEiT 6Da4nbSfKJflepvwrsPLreM0zcdYiww3lMQ0l9XYsJv4ER+IPabCGHro30VMgAOEFBxu 34Uojt5rBh/R4nwfmIwgBP9VsNKGb+3Mg0DGolreDJv7xkFQofM4w9eD4REFoey5I3pN brDHmo5/ogskfvsh+LKalPzOQgLsMr5Ig9LZ/xYAEXzBijVpySrBUnoDGCAoZGqtBJxo 9dRJFAXGw7/yBdTPW1PBdaNZi6DGRJjd9mbCd4bW7kfbWqexbpehSCgaXk/9Lmr7pQYt xR6Q== X-Gm-Message-State: AOJu0Yy2tdQ62o5FcNfIKAzluPuxz/EhzFfg6GduxrlQgPIzSHY4TCsO B25f6atiFN7vFC2IBEw2D3HrdmHmRWsM1uVApeEXwuif/K6kpc7XMMNt0jOsiIYmfviWOrWQA5c sx3yApRyXVMWwj8BT5P4Hf+spViSgIfIpXL+LdEs3+vQ9 X-Gm-Gg: ASbGncv7+o08cW5w5qMEax+cnAAhnP+Nyc+/nAaDzuwO4YT/Nw4bVOzW6Ui43S3olEv Kbr9b0C0O6LTW+7FCrkOnpS1nlH4hvEX6SQlDglkzgFE3W8tumyIF1BYEZ5Z1jB5RJPCtVjijQy c/1TdPxT69vS4SjWLg0gD9OjePG1wivgdJwC/TWyrfAC1c/0mPcLFqrj0c/k/swWM7+5eO+SXIX rwaEQY3kmVCosOnfKkfcLT0Q+u8Oy2T6ikEvrLQKNGeuyFdx+QsoHFtrOLQdExlZFX4HvXkr7oz 1f0vJ8zUsPSEkJaatDyu6sAKbtKBlhj7SOWIDi/5bPOQOy7PwXnp8Uo/JaKa+BfGPEc4kChp75l gn+y/9wdMXK3zubtkZdeJE26wf/o05Wk= X-Google-Smtp-Source: AGHT+IFrsQMmLx2Qt/vuOVheS8F9Lz80bM7MZrIjrtaIsbsGwjcjl0SpKFOTzFxfWS/l99nHv9zKXdndIHjN X-Received: by 2002:a05:6870:32ca:b0:393:eccc:b557 with SMTP id 586e51a60fabf-3d5d975c660mr1474717fac.37.1761657732130; Tue, 28 Oct 2025 06:22:12 -0700 (PDT) Received: from postal.iol.unh.edu (postal.iol.unh.edu. [132.177.123.84]) by smtp-relay.gmail.com with ESMTPS id 46e09a7af769-7c53e32af35sm696798a34.6.2025.10.28.06.22.12 (version=TLS1_2 cipher=ECDHE-ECDSA-AES128-GCM-SHA256 bits=128/128); Tue, 28 Oct 2025 06:22:12 -0700 (PDT) X-Relaying-Domain: iol.unh.edu Date: Tue, 28 Oct 2025 06:22:12 -0700 (PDT) Message-ID: <6900c384.050a0220.3968fd.f66dSMTPIN_ADDED_MISSING@mx.google.com> Received: from [172.21.0.2] (unknown [172.18.0.240]) by postal.iol.unh.edu (Postfix) with ESMTP id 8FEEC6051830; Tue, 28 Oct 2025 09:22:11 -0400 (EDT) Subject: |WARNING| pw158178 [PATCH] [v1] net/mlx5: remove counter alignment From: dpdklab@iol.unh.edu To: Test Report Cc: dpdk-test-reports@iol.unh.edu In-Reply-To: <20251028092611.1755141-1-rongweil@nvidia.com> References: <20251028092611.1755141-1-rongweil@nvidia.com> Content-Type: text/plain X-BeenThere: test-report@dpdk.org X-Mailman-Version: 2.1.29 Precedence: list List-Id: automatic DPDK test reports List-Unsubscribe: , List-Archive: List-Post: List-Help: List-Subscribe: , Errors-To: test-report-bounces@dpdk.org Test-Label: iol-compile-amd64-testing Test-Status: WARNING http://dpdk.org/patch/158178 _Testing issues_ Submitter: Rongwei Liu Date: Tuesday, October 28 2025 09:26:11 DPDK git baseline: Repo:dpdk-next-net-mlx Branch: master CommitID:39b54f2dcf44ad1f91eabc7080cd5dea763607fd 158178 --> testing issues Upstream job id: Windows-Compile-DPDK-VS#7339 Test environment and result as below: +-------------------------------+--------------------+-------------------+------------------+-------------------+ | Environment | dpdk_meson_compile | dpdk_compile_spdk | dpdk_compile_ovs | dpdk_msvc_compile | +===============================+====================+===================+==================+===================+ | FreeBSD 14.2 | PASS | SKIPPED | SKIPPED | SKIPPED | +-------------------------------+--------------------+-------------------+------------------+-------------------+ | Ubuntu 20.04 | PASS | SKIPPED | SKIPPED | SKIPPED | +-------------------------------+--------------------+-------------------+------------------+-------------------+ | CentOS Stream 9 | PASS | WARN | SKIPPED | SKIPPED | +-------------------------------+--------------------+-------------------+------------------+-------------------+ | CentOS Stream 10 | PASS | SKIPPED | SKIPPED | SKIPPED | +-------------------------------+--------------------+-------------------+------------------+-------------------+ | Debian GNU/Linux 12 | PASS | WARN | SKIPPED | SKIPPED | +-------------------------------+--------------------+-------------------+------------------+-------------------+ | Fedora Linux 42 | PASS | WARN | PASS | SKIPPED | +-------------------------------+--------------------+-------------------+------------------+-------------------+ | openSUSE Leap 15.6 | PASS | SKIPPED | SKIPPED | SKIPPED | +-------------------------------+--------------------+-------------------+------------------+-------------------+ | Red Hat Enterprise Linux 8.10 | PASS | SKIPPED | SKIPPED | SKIPPED | +-------------------------------+--------------------+-------------------+------------------+-------------------+ | Red Hat Enterprise Linux 9.5 | PASS | SKIPPED | SKIPPED | SKIPPED | +-------------------------------+--------------------+-------------------+------------------+-------------------+ | Ubuntu 22.04 | PASS | WARN | SKIPPED | SKIPPED | +-------------------------------+--------------------+-------------------+------------------+-------------------+ | Ubuntu 24.04 | PASS | WARN | PASS | SKIPPED | +-------------------------------+--------------------+-------------------+------------------+-------------------+ | Alpine Linux 3.22.0 | PASS | SKIPPED | SKIPPED | SKIPPED | +-------------------------------+--------------------+-------------------+------------------+-------------------+ | Windows Server 2022 | SKIPPED | SKIPPED | SKIPPED | PASS | +-------------------------------+--------------------+-------------------+------------------+-------------------+ ==== 20 line log output for Ubuntu 24.04 (dpdk_compile_spdk): ==== --- Failed to get log output --- ==== End log output ==== FreeBSD 14.2 Kernel: 14.2-RELEASE Compiler: clang 18.1.6 Ubuntu 20.04 Kernel: 4.19 Compiler: gcc gcc (Ubuntu 9.4.0-1ubuntu1~20.04.2) 9.4.0 CentOS Stream 9 Kernel: 5.15 Compiler: gcc gcc (GCC) 11.5.0 20240719 (Red Hat 11.5.0-11) CentOS Stream 10 Kernel: 5.15 Compiler: gcc gcc (GCC) 14.2.1 20250110 (Red Hat 14.2.1-8) Debian GNU/Linux 12 Kernel: 5.15 Compiler: gcc gcc (Debian 12.2.0-14+deb12u1) 12.2.0 Fedora Linux 42 Kernel: 5.15 Compiler: clang gcc (GCC) 15.2.1 20250808 (Red Hat 15.2.1-1) openSUSE Leap 15.6 Kernel: 5.15 Compiler: gcc gcc (SUSE Linux) 7.5.0 Red Hat Enterprise Linux 8.10 Kernel: 5.15 Compiler: gcc gcc (GCC) 8.5.0 20210514 (Red Hat 8.5.0-22) Red Hat Enterprise Linux 9.5 Kernel: 5.15 Compiler: gcc gcc (GCC) 11.5.0 20240719 (Red Hat 11.5.0-2) Ubuntu 22.04 Kernel: 5.15 Compiler: gcc gcc (Ubuntu 11.4.0-1ubuntu1~22.04) 11.4.0 Ubuntu 24.04 Kernel: 5.15 Compiler: gcc gcc (Ubuntu 13.3.0-6ubuntu2~24.04) 13.3.0 Alpine Linux 3.22.0 Kernel: 5.15 Compiler: gcc gcc (Alpine 14.2.0) 14.2.0 Windows Server 2022 Kernel: 10.0.20348.2031 Compiler: clang 15.0.7, gcc 14.1.0 (MinGW), and MSVC VS 19.39.33521 To view detailed results, visit: https://lab.dpdk.org/results/dashboard/patchsets/34395/ UNH-IOL DPDK Community Lab To manage your email subscriptions, visit: https://lab.dpdk.org/results/dashboard/preferences/subscriptions/