From mboxrd@z Thu Jan 1 00:00:00 1970 Return-Path: Received: from mails.dpdk.org (mails.dpdk.org [217.70.189.124]) by inbox.dpdk.org (Postfix) with ESMTP id E6DB8489F8 for ; Tue, 28 Oct 2025 14:24:31 +0100 (CET) Received: from mails.dpdk.org (localhost [127.0.0.1]) by mails.dpdk.org (Postfix) with ESMTP id DA1E84021E; Tue, 28 Oct 2025 14:24:31 +0100 (CET) Received: from mail-vk1-f227.google.com (mail-vk1-f227.google.com [209.85.221.227]) by mails.dpdk.org (Postfix) with ESMTP id AC7134021E for ; Tue, 28 Oct 2025 14:24:30 +0100 (CET) Received: by mail-vk1-f227.google.com with SMTP id 71dfb90a1353d-556694876eeso3747887e0c.3 for ; Tue, 28 Oct 2025 06:24:30 -0700 (PDT) DKIM-Signature: v=1; a=rsa-sha256; c=relaxed/relaxed; d=iol.unh.edu; s=unh-iol; t=1761657870; x=1762262670; darn=dpdk.org; h=references:in-reply-to:cc:to:from:subject:message-id:date:from:to :cc:subject:date:message-id:reply-to; bh=ah7Jouj3x+T+YAWa2MUcq572U7ffupjrGJ86QRwl8Nc=; b=NJkKrecnHk4UkUdooLKBSKTO0dVRUpu8pqTi5o64YfsD0uaCanDUJya2/kKQnbBe8B ht+aluLEmgp+9Osof/SVqLTvtgBiwDHBM8c3BLAk+TEFve4Rx+ifrdXYJ6PtgpJsW99a KDWBzWamce2RPZ/xVMspGFVhYCZOrXR00eJIk= X-Google-DKIM-Signature: v=1; a=rsa-sha256; c=relaxed/relaxed; d=1e100.net; s=20230601; t=1761657870; x=1762262670; h=references:in-reply-to:cc:to:from:subject:message-id:date :x-gm-message-state:from:to:cc:subject:date:message-id:reply-to; bh=ah7Jouj3x+T+YAWa2MUcq572U7ffupjrGJ86QRwl8Nc=; b=q2OgUeyt66hhDIi5MUnI8uKk3xsmw4qe068boxTbSiOoWLMOf6cMAHhGJfIt+l6HhI cBQynK2E+zU97A60vkM0WM/D36UxpJCtFyOVbXgBkbtPD1TtxwVCt7UZMK6RFzuYOqTE Ue9ujdk2iwPlM/py6AKGu58AyPwO+1afZwk9TZTwBVj7zqJO/LdECSgXHlqvaGJX3zMz 4buTUBgtwGnFQqqgN+lpstQ7Q2ShtqnLPw0VbGv6PrwliP5TEW5dvAaDHjesI2j+HZbk aghLQlG0Yn/MPBhTClw+R20IrODbl6f8W7Z/hx3JrdHM4vh/qyW8eeDRIlTvHUpaEPmC fUxg== X-Gm-Message-State: AOJu0YyhlwUPG/M0yO9tKgG2qXLAOfWbhekL1dVEpih8XKQmq7KaSToi FAdD00054n4ZtCtx86G3jR6b0Nr1HrSU5XsaKO8aDdf6uHiNInL+ExMByUr2vIojzqq2gXqYSpa 9J/TYIk03WgdQCn5aOVVJl+kK9hp8fP+MCPZAAFDrhZWblw+TUd7q4Zll2FYB X-Gm-Gg: ASbGncvr5UuqQzfOdsfjemFI4SMYNlxngcV0DQHoS9DXz+41TVfLCrFXK+Xm10evNZq cfXdpg6qEdhe6XCq1v4hhfBT4Oh2x0ylx93Zxh84k25zmt6KukOYkJ6SozYllmHQq9tCnUjgVr2 UazTF/YWqK4EYLBW0I6gdTzcow2bm8vGWn+XvTOu7P8GZK8s0YF6jedwO2pwogyiX7UkPOLulea jt0tTBrIDods3wXJUqEuUXCfnDQcCXjC9O33i3U+o6p6QfLdTFyAS25xaQ9LfN2s05fvvPeAsmH UtEOc+orvB26vMihoPtKFgF/qaQYvxxmyfvagCWhpexekvO/AOkoZQXtjvT+KdWfm9XDsXCKx4t voKsMsHOu X-Google-Smtp-Source: AGHT+IH8WRUZliZe+lzro4Jt9wFmRCidtxKxxYtaVkVeAqA1cPYzV2tam2bKdc0FRDtsEf+P4h9pjdTdGnKQ X-Received: by 2002:a05:6122:552:b0:552:2554:7d69 with SMTP id 71dfb90a1353d-5580354adccmr1205719e0c.15.1761657870014; Tue, 28 Oct 2025 06:24:30 -0700 (PDT) Received: from postal.iol.unh.edu (postal.iol.unh.edu. [2606:4100:3880:1234::84]) by smtp-relay.gmail.com with ESMTPS id 71dfb90a1353d-557ddb84246sm1148984e0c.8.2025.10.28.06.24.29 (version=TLS1_2 cipher=ECDHE-ECDSA-AES128-GCM-SHA256 bits=128/128); Tue, 28 Oct 2025 06:24:30 -0700 (PDT) X-Relaying-Domain: iol.unh.edu Date: Tue, 28 Oct 2025 06:24:30 -0700 (PDT) Message-ID: <6900c40e.050a0220.96778.4bbbSMTPIN_ADDED_MISSING@mx.google.com> Received: from [172.21.0.2] (unknown [172.18.0.240]) by postal.iol.unh.edu (Postfix) with ESMTP id AFD576051830; Tue, 28 Oct 2025 09:24:29 -0400 (EDT) Subject: |WARNING| pw158175-158177 [PATCH] [v1,3/3] net/r8169: fix issues rep From: dpdklab@iol.unh.edu To: Test Report Cc: dpdk-test-reports@iol.unh.edu, Stephen Hemminger In-Reply-To: <20251028084716.369128-4-howard_wang@realsil.com.cn> References: <20251028084716.369128-4-howard_wang@realsil.com.cn> Content-Type: text/plain X-BeenThere: test-report@dpdk.org X-Mailman-Version: 2.1.29 Precedence: list List-Id: automatic DPDK test reports List-Unsubscribe: , List-Archive: List-Post: List-Help: List-Subscribe: , Errors-To: test-report-bounces@dpdk.org Test-Label: iol-compile-amd64-testing Test-Status: WARNING http://dpdk.org/patch/158177 _Testing issues_ Submitter: Howard Wang Date: Tuesday, October 28 2025 08:47:16 DPDK git baseline: Repo:dpdk-next-net Branch: master CommitID:11a6a4b1f19140ac3a57ace844be3cba00c39eaa 158175-158177 --> testing issues Upstream job id: Windows-Compile-DPDK-Native#31934 Test environment and result as below: +-------------------------------+--------------------+-------------------+------------------+-------------------+-------------------------+----------------------+ | Environment | dpdk_meson_compile | dpdk_compile_spdk | dpdk_compile_ovs | dpdk_msvc_compile | dpdk_llvm_clang_compile | dpdk_mingw64_compile | +===============================+====================+===================+==================+===================+=========================+======================+ | Debian GNU/Linux 12 | PASS | WARN | SKIPPED | SKIPPED | SKIPPED | SKIPPED | +-------------------------------+--------------------+-------------------+------------------+-------------------+-------------------------+----------------------+ | Red Hat Enterprise Linux 8.10 | PASS | SKIPPED | SKIPPED | SKIPPED | SKIPPED | SKIPPED | +-------------------------------+--------------------+-------------------+------------------+-------------------+-------------------------+----------------------+ | FreeBSD 14.2 | PASS | SKIPPED | SKIPPED | SKIPPED | SKIPPED | SKIPPED | +-------------------------------+--------------------+-------------------+------------------+-------------------+-------------------------+----------------------+ | Ubuntu 20.04 | PASS | SKIPPED | SKIPPED | SKIPPED | SKIPPED | SKIPPED | +-------------------------------+--------------------+-------------------+------------------+-------------------+-------------------------+----------------------+ | Alpine Linux 3.22.0 | PASS | SKIPPED | SKIPPED | SKIPPED | SKIPPED | SKIPPED | +-------------------------------+--------------------+-------------------+------------------+-------------------+-------------------------+----------------------+ | CentOS Stream 10 | PASS | SKIPPED | SKIPPED | SKIPPED | SKIPPED | SKIPPED | +-------------------------------+--------------------+-------------------+------------------+-------------------+-------------------------+----------------------+ | Fedora Linux 42 | PASS | WARN | PASS | SKIPPED | SKIPPED | SKIPPED | +-------------------------------+--------------------+-------------------+------------------+-------------------+-------------------------+----------------------+ | CentOS Stream 9 | PASS | WARN | SKIPPED | SKIPPED | SKIPPED | SKIPPED | +-------------------------------+--------------------+-------------------+------------------+-------------------+-------------------------+----------------------+ | openSUSE Leap 15.6 | PASS | SKIPPED | SKIPPED | SKIPPED | SKIPPED | SKIPPED | +-------------------------------+--------------------+-------------------+------------------+-------------------+-------------------------+----------------------+ | Ubuntu 24.04 | PASS | WARN | PASS | SKIPPED | SKIPPED | SKIPPED | +-------------------------------+--------------------+-------------------+------------------+-------------------+-------------------------+----------------------+ | Ubuntu 22.04 | PASS | WARN | SKIPPED | SKIPPED | SKIPPED | SKIPPED | +-------------------------------+--------------------+-------------------+------------------+-------------------+-------------------------+----------------------+ | Red Hat Enterprise Linux 9.5 | PASS | SKIPPED | SKIPPED | SKIPPED | SKIPPED | SKIPPED | +-------------------------------+--------------------+-------------------+------------------+-------------------+-------------------------+----------------------+ | Windows Server 2022 | SKIPPED | SKIPPED | SKIPPED | PASS | PASS | PASS | +-------------------------------+--------------------+-------------------+------------------+-------------------+-------------------------+----------------------+ ==== 20 line log output for Ubuntu 22.04 (dpdk_compile_spdk): ==== --- Failed to get log output --- ==== End log output ==== Debian GNU/Linux 12 Kernel: 5.15 Compiler: gcc gcc (Debian 12.2.0-14+deb12u1) 12.2.0 Red Hat Enterprise Linux 8.10 Kernel: 5.15 Compiler: gcc gcc (GCC) 8.5.0 20210514 (Red Hat 8.5.0-22) FreeBSD 14.2 Kernel: 14.2-RELEASE Compiler: clang 18.1.6 Ubuntu 20.04 Kernel: 4.19 Compiler: gcc gcc (Ubuntu 9.4.0-1ubuntu1~20.04.2) 9.4.0 Alpine Linux 3.22.0 Kernel: 5.15 Compiler: gcc gcc (Alpine 14.2.0) 14.2.0 CentOS Stream 10 Kernel: 5.15 Compiler: gcc gcc (GCC) 14.2.1 20250110 (Red Hat 14.2.1-8) Fedora Linux 42 Kernel: 5.15 Compiler: clang gcc (GCC) 15.2.1 20250808 (Red Hat 15.2.1-1) CentOS Stream 9 Kernel: 5.15 Compiler: gcc gcc (GCC) 11.5.0 20240719 (Red Hat 11.5.0-11) openSUSE Leap 15.6 Kernel: 5.15 Compiler: gcc gcc (SUSE Linux) 7.5.0 Ubuntu 24.04 Kernel: 5.15 Compiler: gcc gcc (Ubuntu 13.3.0-6ubuntu2~24.04) 13.3.0 Ubuntu 22.04 Kernel: 5.15 Compiler: gcc gcc (Ubuntu 11.4.0-1ubuntu1~22.04) 11.4.0 Red Hat Enterprise Linux 9.5 Kernel: 5.15 Compiler: gcc gcc (GCC) 11.5.0 20240719 (Red Hat 11.5.0-2) Windows Server 2022 Kernel: 10.0.20348.2031 Compiler: clang 15.0.7, gcc 14.1.0 (MinGW), and MSVC VS 19.39.33521 To view detailed results, visit: https://lab.dpdk.org/results/dashboard/patchsets/34393/ UNH-IOL DPDK Community Lab To manage your email subscriptions, visit: https://lab.dpdk.org/results/dashboard/preferences/subscriptions/